BEGIN:VCALENDAR
VERSION:2.0
PRODID:-//Departamento de Economía Universidad Carlos III - ECPv6.15.19//NONSGML v1.0//EN
CALSCALE:GREGORIAN
METHOD:PUBLISH
X-WR-CALNAME:Departamento de Economía Universidad Carlos III
X-ORIGINAL-URL:https://economia.uc3m.es
X-WR-CALDESC:Eventos para Departamento de Economía Universidad Carlos III
REFRESH-INTERVAL;VALUE=DURATION:PT1H
X-Robots-Tag:noindex
X-PUBLISHED-TTL:PT1H
BEGIN:VTIMEZONE
TZID:Europe/Helsinki
BEGIN:DAYLIGHT
TZOFFSETFROM:+0200
TZOFFSETTO:+0300
TZNAME:EEST
DTSTART:20250330T010000
END:DAYLIGHT
BEGIN:STANDARD
TZOFFSETFROM:+0300
TZOFFSETTO:+0200
TZNAME:EET
DTSTART:20251026T010000
END:STANDARD
BEGIN:DAYLIGHT
TZOFFSETFROM:+0200
TZOFFSETTO:+0300
TZNAME:EEST
DTSTART:20260329T010000
END:DAYLIGHT
BEGIN:STANDARD
TZOFFSETFROM:+0300
TZOFFSETTO:+0200
TZNAME:EET
DTSTART:20261025T010000
END:STANDARD
BEGIN:DAYLIGHT
TZOFFSETFROM:+0200
TZOFFSETTO:+0300
TZNAME:EEST
DTSTART:20270328T010000
END:DAYLIGHT
BEGIN:STANDARD
TZOFFSETFROM:+0300
TZOFFSETTO:+0200
TZNAME:EET
DTSTART:20271031T010000
END:STANDARD
END:VTIMEZONE
BEGIN:VEVENT
DTSTART;TZID=Europe/Helsinki:20260504T124500
DTEND;TZID=Europe/Helsinki:20260504T140000
DTSTAMP:20260422T163012
CREATED:20260409T144439Z
LAST-MODIFIED:20260409T144439Z
UID:10524-1777898700-1777903200@economia.uc3m.es
SUMMARY:A Robust Test for Equal Predictive Accuracy
DESCRIPTION:Matei Demetrescu\n(Dortmund University)\n  \n«A Robust Test for Equal Predictive Accuracy»\n  \nFace to face 15.2.71 – Room 15.1.39
URL:https://economia.uc3m.es/event/a-robust-test-for-equal-predictive-accuracy/
LOCATION:15.1.39
CATEGORIES:Seminario de A&E
ATTACH;FMTTYPE=image/webp:https://economia.uc3m.es/wp-content/uploads/2026/04/csm_demetrescu_sq_2_ba8074ae62-e1775745860252.webp
END:VEVENT
BEGIN:VEVENT
DTSTART;TZID=Europe/Helsinki:20260505T124500
DTEND;TZID=Europe/Helsinki:20260505T140000
DTSTAMP:20260422T163012
CREATED:20260409T150008Z
LAST-MODIFIED:20260409T150008Z
UID:10530-1777985100-1777989600@economia.uc3m.es
SUMMARY:TBA
DESCRIPTION:Andreas Kleiner\n(University of Bonn)\n  \n«TBA»\n  \nFace-to-face Seminar 15.2.71 – Room 15.1.39
URL:https://economia.uc3m.es/event/tba-189/
LOCATION:15.1.39
CATEGORIES:Seminario de Microeconomía
ATTACH;FMTTYPE=image/jpeg:https://economia.uc3m.es/wp-content/uploads/2026/04/Andreas-Kleiner-e1775746783161.jpg
END:VEVENT
BEGIN:VEVENT
DTSTART;TZID=Europe/Helsinki:20260506T124500
DTEND;TZID=Europe/Helsinki:20260506T140000
DTSTAMP:20260422T163012
CREATED:20260409T150321Z
LAST-MODIFIED:20260409T150321Z
UID:10534-1778071500-1778076000@economia.uc3m.es
SUMMARY:Green Development
DESCRIPTION:Bruno Conte\n(UPF)\n  \n«Green Development»\n  \nFace to face 15.2.71 – Room 15.1.39
URL:https://economia.uc3m.es/event/green-development/
LOCATION:15.1.39
CATEGORIES:Seminario de A&E
ATTACH;FMTTYPE=image/png:https://economia.uc3m.es/wp-content/uploads/2026/04/profile_picture_brunoconte-e1775746988955.png
END:VEVENT
BEGIN:VEVENT
DTSTART;TZID=Europe/Helsinki:20260507T124500
DTEND;TZID=Europe/Helsinki:20260507T140000
DTSTAMP:20260422T163012
CREATED:20260409T150645Z
LAST-MODIFIED:20260409T150645Z
UID:10538-1778157900-1778162400@economia.uc3m.es
SUMMARY:Time Inconsistency with Heterogeneous Agents
DESCRIPTION:Eduardo Dávila\n(Yale University)\n  \n«Time Inconsistency with Heterogeneous Agents»\n  \nFace to face 15.2.71 – Room 15.1.39
URL:https://economia.uc3m.es/event/time-inconsistency-with-heterogeneous-agents/
LOCATION:15.1.39
CATEGORIES:Seminario de Macroeconomía
ATTACH;FMTTYPE=image/jpeg:https://economia.uc3m.es/wp-content/uploads/2026/04/davila_photo-e1775747186913.jpg
END:VEVENT
BEGIN:VEVENT
DTSTART;TZID=Europe/Helsinki:20260508T124500
DTEND;TZID=Europe/Helsinki:20260508T140000
DTSTAMP:20260422T163012
CREATED:20260414T124936Z
LAST-MODIFIED:20260414T124936Z
UID:10573-1778244300-1778248800@economia.uc3m.es
SUMMARY:Stabilization vs. Growth” (with Miguel Farie-e-Castro and Pascal Paul)
DESCRIPTION:Juan Sánchez\n(Federal Reserve Bank of St. Louis)\n  \n«Stabilization vs. Growth” (with Miguel Farie-e-Castro and Pascal Paul)»\n  \nFace to Face 15.2.71  –  Room 15.1.39
URL:https://economia.uc3m.es/event/stabilization-vs-growth-with-miguel-farie-e-castro-and-pascal-paul/
LOCATION:15.1.39
CATEGORIES:Seminario de Macroeconomía
ATTACH;FMTTYPE=image/jpeg:https://economia.uc3m.es/wp-content/uploads/2026/04/descarga-3-e1776170930190.jpg
END:VEVENT
BEGIN:VEVENT
DTSTART;TZID=Europe/Helsinki:20260512T124500
DTEND;TZID=Europe/Helsinki:20260512T140000
DTSTAMP:20260422T163012
CREATED:20260409T151641Z
LAST-MODIFIED:20260409T151649Z
UID:10542-1778589900-1778594400@economia.uc3m.es
SUMMARY:Social Learning with Endogenous Timing (joint with Daniel Hauser and Pauli Murto9
DESCRIPTION:Juuso Valimaki\n(Aalto University School of Business)\n  \n«Social Learning with Endogenous Timing (joint with Daniel Hauser and Pauli Murto9»\n  \nFace-to-face Seminar 15.2.71  – Room 15.1.39
URL:https://economia.uc3m.es/event/social-learning-with-endogenous-timing-joint-with-daniel-hauser-and-pauli-murto9/
LOCATION:15.1.39
CATEGORIES:Seminario de Microeconomía
ATTACH;FMTTYPE=image/jpeg:https://economia.uc3m.es/wp-content/uploads/2026/04/Juuso-Valimaki-e1775747781853.jpg
END:VEVENT
BEGIN:VEVENT
DTSTART;TZID=Europe/Helsinki:20260512T124500
DTEND;TZID=Europe/Helsinki:20260512T140000
DTSTAMP:20260422T163012
CREATED:20260409T153049Z
LAST-MODIFIED:20260414T125230Z
UID:10546-1778589900-1778594400@economia.uc3m.es
SUMMARY:GI Jobs in GE: The macroeconomic effects of defense employment
DESCRIPTION:Ethan Ilzetzki\n(LSE)\n  \n«GI Jobs in GE: The macroeconomic effects of defense employment»\n  \nRoom  Seminar 15.0.05
URL:https://economia.uc3m.es/event/gi-jobs-in-ge-the-macroeconomic-effects-of-defense-employment/
LOCATION:15.1.39
CATEGORIES:Seminario de Macroeconomía
ATTACH;FMTTYPE=image/jpeg:https://economia.uc3m.es/wp-content/uploads/2026/04/descarga.jpg
END:VEVENT
BEGIN:VEVENT
DTSTART;TZID=Europe/Helsinki:20260518T124500
DTEND;TZID=Europe/Helsinki:20260518T140000
DTSTAMP:20260422T163012
CREATED:20260413T122444Z
LAST-MODIFIED:20260413T122444Z
UID:10550-1779108300-1779112800@economia.uc3m.es
SUMMARY:Preaching to the Future: Religious Schools\, Youth Organizations\, and the Rise of Political Islam in Türkiye
DESCRIPTION:Janne Tukiainen\n(University of Turku)\n  \n«Preaching to the Future: Religious Schools\, Youth Organizations\, and the Rise of Political Islam in Türkiye»\n  \nFace to Face 15.2.71  –  Room 15.1.39
URL:https://economia.uc3m.es/event/preaching-to-the-future-religious-schools-youth-organizations-and-the-rise-of-political-islam-in-turkiye/
LOCATION:15.1.39
CATEGORIES:Seminario de A&E
ATTACH;FMTTYPE=image/jpeg:https://economia.uc3m.es/wp-content/uploads/2026/04/40621850-e1776083051865.jpg
END:VEVENT
BEGIN:VEVENT
DTSTART;TZID=Europe/Helsinki:20260519T124500
DTEND;TZID=Europe/Helsinki:20260519T140000
DTSTAMP:20260422T163012
CREATED:20260421T113140Z
LAST-MODIFIED:20260421T113140Z
UID:10595-1779194700-1779199200@economia.uc3m.es
SUMMARY:The War of Attrition under Uncertainty: Theory and Robust Testable Implications » with Jean-Paul Décamps and Fabien Gensbittel
DESCRIPTION:Thomas Mariotti\n(TSE)\n  \n«The War of Attrition under Uncertainty: Theory and Robust Testable Implications » with Jean-Paul Décamps and Fabien Gensbittel»\n  \nFace-to-face Seminar 15.2.71 – Room 15.1.39
URL:https://economia.uc3m.es/event/the-war-of-attrition-under-uncertainty-theory-and-robust-testable-implications-with-jean-paul-decamps-and-fabien-gensbittel/
LOCATION:15.1.39
CATEGORIES:Seminario de Microeconomía
ATTACH;FMTTYPE=image/jpeg:https://economia.uc3m.es/wp-content/uploads/2026/04/descarga-5.jpg
END:VEVENT
BEGIN:VEVENT
DTSTART;TZID=Europe/Helsinki:20260521T124500
DTEND;TZID=Europe/Helsinki:20260521T140000
DTSTAMP:20260422T163012
CREATED:20260413T123353Z
LAST-MODIFIED:20260413T123353Z
UID:10554-1779367500-1779372000@economia.uc3m.es
SUMMARY:Idea Rents and Firm Growth (with Boppart\, Laski\, and Li)
DESCRIPTION:Pete Klenow\n(Stanford)\n  \n«Idea Rents and Firm Growth (with Boppart\, Laski\, and Li)»\n  \nFace to Face 15.2.71 – Room 15.1.39
URL:https://economia.uc3m.es/event/idea-rents-and-firm-growth-with-boppart-laski-and-li/
LOCATION:15.1.39
CATEGORIES:Seminario de Macroeconomía
ATTACH;FMTTYPE=image/jpeg:https://economia.uc3m.es/wp-content/uploads/2026/04/descarga-1-e1776083607396.jpg
END:VEVENT
BEGIN:VEVENT
DTSTART;TZID=Europe/Helsinki:20260522T124500
DTEND;TZID=Europe/Helsinki:20260522T140000
DTSTAMP:20260422T163012
CREATED:20260413T125336Z
LAST-MODIFIED:20260413T125336Z
UID:10558-1779453900-1779458400@economia.uc3m.es
SUMMARY:Social Learning among Urban Manufacturing Firms: Energy-Efficient Motors in Bangladesh
DESCRIPTION:Eric Verhoogen\n(Columbia University)\n  \n«Social Learning among Urban Manufacturing Firms: Energy-Efficient Motors in Bangladesh»\n  \nFace to Face 15.2.71  –  Room 15.1.39
URL:https://economia.uc3m.es/event/social-learning-among-urban-manufacturing-firms-energy-efficient-motors-in-bangladesh/
LOCATION:15.1.39
CATEGORIES:Seminario de Macroeconomía
ATTACH;FMTTYPE=image/png:https://economia.uc3m.es/wp-content/uploads/2026/04/Eric-Verhoogen-e1776084704498.png
END:VEVENT
BEGIN:VEVENT
DTSTART;TZID=Europe/Helsinki:20260526T124500
DTEND;TZID=Europe/Helsinki:20260526T140000
DTSTAMP:20260422T163012
CREATED:20260414T125550Z
LAST-MODIFIED:20260414T125550Z
UID:10578-1779799500-1779804000@economia.uc3m.es
SUMMARY:TBA
DESCRIPTION:Luis Santos-Pinto\n(University of Lausanne)\n  \n«TBA»\n  \nFace-to-face Seminar 15.2.71 – Room 15.1.39
URL:https://economia.uc3m.es/event/tba-190/
LOCATION:15.1.39
CATEGORIES:Seminario de Microeconomía
ATTACH;FMTTYPE=image/jpeg:https://economia.uc3m.es/wp-content/uploads/2026/04/LuisSantos-e1776171326547.jpg
END:VEVENT
BEGIN:VEVENT
DTSTART;TZID=Europe/Helsinki:20260526T124500
DTEND;TZID=Europe/Helsinki:20260526T140000
DTSTAMP:20260422T163012
CREATED:20260421T114600Z
LAST-MODIFIED:20260421T114600Z
UID:10599-1779799500-1779804000@economia.uc3m.es
SUMMARY:Success\, Learning\, and Overconfidence in Elimination Contests
DESCRIPTION:Luis Santos-Pinto\n(University of Lausanne)\n  \n«Success\, Learning\, and Overconfidence in Elimination Contests»\n  \nFace-to-face Seminar 15.2.71 – Room 15.1.39
URL:https://economia.uc3m.es/event/success-learning-and-overconfidence-in-elimination-contests/
LOCATION:15.1.39
CATEGORIES:Seminario de Microeconomía
ATTACH;FMTTYPE=image/jpeg:https://economia.uc3m.es/wp-content/uploads/2026/04/LuisSantos-1-e1776771931126.jpg
END:VEVENT
BEGIN:VEVENT
DTSTART;TZID=Europe/Helsinki:20260528T124500
DTEND;TZID=Europe/Helsinki:20260528T140000
DTSTAMP:20260422T163012
CREATED:20260414T125925Z
LAST-MODIFIED:20260414T125925Z
UID:10582-1779972300-1779976800@economia.uc3m.es
SUMMARY:A Theory of Endogenous Degrowth and Environmental Sustainability
DESCRIPTION:Michael Peters\n(Yale Department of Economics)\n  \n«A Theory of Endogenous Degrowth and Environmental Sustainability»\n  \nFace to Face 15.2.71  –  Room 15.1.39
URL:https://economia.uc3m.es/event/a-theory-of-endogenous-degrowth-and-environmental-sustainability/
LOCATION:15.1.39
CATEGORIES:Seminario de Macroeconomía
ATTACH;FMTTYPE=image/jpeg:https://economia.uc3m.es/wp-content/uploads/2026/04/descarga-4-e1776171533887.jpg
END:VEVENT
END:VCALENDAR