BEGIN:VCALENDAR
VERSION:2.0
PRODID:-//Departamento de Economía Universidad Carlos III - ECPv6.15.19//NONSGML v1.0//EN
CALSCALE:GREGORIAN
METHOD:PUBLISH
X-ORIGINAL-URL:https://economia.uc3m.es
X-WR-CALDESC:Eventos para Departamento de Economía Universidad Carlos III
REFRESH-INTERVAL;VALUE=DURATION:PT1H
X-Robots-Tag:noindex
X-PUBLISHED-TTL:PT1H
BEGIN:VTIMEZONE
TZID:Europe/Helsinki
BEGIN:DAYLIGHT
TZOFFSETFROM:+0200
TZOFFSETTO:+0300
TZNAME:EEST
DTSTART:20240331T010000
END:DAYLIGHT
BEGIN:STANDARD
TZOFFSETFROM:+0300
TZOFFSETTO:+0200
TZNAME:EET
DTSTART:20241027T010000
END:STANDARD
BEGIN:DAYLIGHT
TZOFFSETFROM:+0200
TZOFFSETTO:+0300
TZNAME:EEST
DTSTART:20250330T010000
END:DAYLIGHT
BEGIN:STANDARD
TZOFFSETFROM:+0300
TZOFFSETTO:+0200
TZNAME:EET
DTSTART:20251026T010000
END:STANDARD
BEGIN:DAYLIGHT
TZOFFSETFROM:+0200
TZOFFSETTO:+0300
TZNAME:EEST
DTSTART:20260329T010000
END:DAYLIGHT
BEGIN:STANDARD
TZOFFSETFROM:+0300
TZOFFSETTO:+0200
TZNAME:EET
DTSTART:20261025T010000
END:STANDARD
END:VTIMEZONE
BEGIN:VEVENT
DTSTART;TZID=Europe/Helsinki:20251002T124500
DTEND;TZID=Europe/Helsinki:20251002T140000
DTSTAMP:20260425T024052
CREATED:20250806T113835Z
LAST-MODIFIED:20250806T113835Z
UID:9702-1759409100-1759413600@economia.uc3m.es
SUMMARY:Heterogeneous risk preferences\, entrepreneurship\, and wealth
DESCRIPTION:Monika Merz\n(U. Vienna)\n  \n«Heterogeneous risk preferences\, entrepreneurship\, and wealth»\n  \nRoom 15.1.39
URL:https://economia.uc3m.es/event/heterogeneous-risk-preferences-entrepreneurship-and-wealth/
LOCATION:15.1.39
CATEGORIES:Seminario de Macroeconomía
ATTACH;FMTTYPE=image/jpeg:https://economia.uc3m.es/wp-content/uploads/2025/08/Monika-Merz.jpg
END:VEVENT
BEGIN:VEVENT
DTSTART;TZID=Europe/Helsinki:20251006T124500
DTEND;TZID=Europe/Helsinki:20251006T140000
DTSTAMP:20260425T024052
CREATED:20250911T144256Z
LAST-MODIFIED:20250911T150718Z
UID:9759-1759754700-1759759200@economia.uc3m.es
SUMMARY:The Labor Demand Implications of Brand Capital: Insights from Trademark Transactions in Italy
DESCRIPTION:Matteo Paradisi\n(EIEF)\n  \n«The Labor Demand Implications of Brand Capital: Insights from Trademark Transactions in Italy»\n  \nRoom 15.1.39
URL:https://economia.uc3m.es/event/the-labor-demand-implications-of-brand-capital-insights-from-trademark-transactions-in-italy/
LOCATION:15.1.39
CATEGORIES:Seminario de A&E
ATTACH;FMTTYPE=image/jpeg:https://economia.uc3m.es/wp-content/uploads/2025/09/Matteo-Paradisi-e1757601601740.jpg
END:VEVENT
BEGIN:VEVENT
DTSTART;TZID=Europe/Helsinki:20251007T124500
DTEND;TZID=Europe/Helsinki:20251007T140000
DTSTAMP:20260425T024052
CREATED:20250806T115417Z
LAST-MODIFIED:20251006T071944Z
UID:9708-1759841100-1759845600@economia.uc3m.es
SUMMARY:Disclosure by groups\, joint with Joao Ramos
DESCRIPTION:Paula Onuchic\n(LSE)\n  \n«Disclosure by groups\, joint with Joao Ramos»\n  \nRoom 15.1.39
URL:https://economia.uc3m.es/event/disclosing-proxies/
LOCATION:15.1.39
CATEGORIES:Seminario de Microeconomía
ATTACH;FMTTYPE=image/jpeg:https://economia.uc3m.es/wp-content/uploads/2025/08/Paula-Onuchic-e1754481225122.jpg
END:VEVENT
BEGIN:VEVENT
DTSTART;TZID=Europe/Helsinki:20251008T124500
DTEND;TZID=Europe/Helsinki:20251008T140000
DTSTAMP:20260425T024052
CREATED:20251002T083910Z
LAST-MODIFIED:20251002T083910Z
UID:9856-1759927500-1759932000@economia.uc3m.es
SUMMARY:TBA
DESCRIPTION:Hugo Hopenhayn\n(UCLA)\n  \n«TBA»\n  \nRoom 15.1.39
URL:https://economia.uc3m.es/event/tba-162/
LOCATION:15.1.39
CATEGORIES:Seminario de Microeconomía
ATTACH;FMTTYPE=image/jpeg:https://economia.uc3m.es/wp-content/uploads/2025/10/Hugo-Hopenhayn-e1759394190399.jpg
END:VEVENT
BEGIN:VEVENT
DTSTART;TZID=Europe/Helsinki:20251009T124500
DTEND;TZID=Europe/Helsinki:20251009T140000
DTSTAMP:20260425T024052
CREATED:20250806T121026Z
LAST-MODIFIED:20250806T121026Z
UID:9714-1760013900-1760018400@economia.uc3m.es
SUMMARY:International Equity Flows\, Monetary Policy\, and Time Consistency
DESCRIPTION:Alejandro Van der Ghote\n(European Central Bank)\n  \n«International Equity Flows\, Monetary Policy\, and Time Consistency»\n  \nRoom 15.1.39
URL:https://economia.uc3m.es/event/international-equity-flows-monetary-policy-and-time-consistency/
LOCATION:15.1.39
CATEGORIES:Seminario de Macroeconomía
ATTACH;FMTTYPE=image/jpeg:https://economia.uc3m.es/wp-content/uploads/2025/08/Alejandro-Van-Der-Ghote.jpg
END:VEVENT
BEGIN:VEVENT
DTSTART;TZID=Europe/Helsinki:20251013T004500
DTEND;TZID=Europe/Helsinki:20251013T140000
DTSTAMP:20260425T024052
CREATED:20250916T091225Z
LAST-MODIFIED:20250916T091225Z
UID:9766-1760316300-1760364000@economia.uc3m.es
SUMMARY:Partitioned Wild Bootstrap for Panel Data Quantile Regression (joint work with Antonio Galvao and Tom Parker)
DESCRIPTION:Carlos Lamarche\n(University of Kentucky)\n  \n«Partitioned Wild Bootstrap for Panel Data Quantile Regression (joint work with Antonio Galvao and Tom Parker)»\n  \nFace-to-face Seminar – Room 15.1.39
URL:https://economia.uc3m.es/event/partitioned-wild-bootstrap-for-panel-data-quantile-regression-joint-work-with-antonio-galvao-and-tom-parker/
LOCATION:15.1.39
CATEGORIES:Seminario de Econometría
ATTACH;FMTTYPE=image/jpeg:https://economia.uc3m.es/wp-content/uploads/2025/09/descarga-e1758013651440.jpg
END:VEVENT
BEGIN:VEVENT
DTSTART;TZID=Europe/Helsinki:20251015T124500
DTEND;TZID=Europe/Helsinki:20251015T140000
DTSTAMP:20260425T024052
CREATED:20250917T095610Z
LAST-MODIFIED:20250917T100533Z
UID:9787-1760532300-1760536800@economia.uc3m.es
SUMMARY:Quantifying the Internal Validity of Weighted Estimands
DESCRIPTION:Tymon Sloczynski\n(Brandeis University)\n  \n«Quantifying the Internal Validity of Weighted Estimands»\n  \nRoom 15.1.39
URL:https://economia.uc3m.es/event/quantifying-the-internal-validity-of-weighted-estimands/
LOCATION:15.1.39
CATEGORIES:Seminario de A&E
ATTACH;FMTTYPE=image/png:https://economia.uc3m.es/wp-content/uploads/2025/09/Tymon-Sloczynski-e1758102801662.png
END:VEVENT
BEGIN:VEVENT
DTSTART;TZID=Europe/Helsinki:20251016T124500
DTEND;TZID=Europe/Helsinki:20251016T140000
DTSTAMP:20260425T024052
CREATED:20250807T093244Z
LAST-MODIFIED:20250807T093244Z
UID:9722-1760618700-1760623200@economia.uc3m.es
SUMMARY:Old-Age Poverty\, Social Security and Intergenerational Transfers of Time and Money
DESCRIPTION:Irina Popova \n(U. Bonn)\n  \n«Old-Age Poverty\, Social Security and Intergenerational Transfers of Time and Money»\n  \nRoom 15.1.39
URL:https://economia.uc3m.es/event/old-age-poverty-social-security-and-intergenerational-transfers-of-time-and-money/
LOCATION:15.1.39
CATEGORIES:Seminario de Macroeconomía
ATTACH;FMTTYPE=image/jpeg:https://economia.uc3m.es/wp-content/uploads/2025/08/Irina-Popova.jpg
END:VEVENT
BEGIN:VEVENT
DTSTART;TZID=Europe/Helsinki:20251020T124500
DTEND;TZID=Europe/Helsinki:20251020T140000
DTSTAMP:20260425T024052
CREATED:20250807T095356Z
LAST-MODIFIED:20250916T113700Z
UID:9733-1760964300-1760968800@economia.uc3m.es
SUMMARY:The Making of Equality: How the Second World War Shaped the Norwegian Income Distribution (with Eirik Abel and Ran Ambramitzky)
DESCRIPTION:Kjell G. Salvanes\n(Norwegian School of Economics)\n  \n«The Making of Equality: How the Second World War Shaped the Norwegian Income Distribution (with Eirik Abel and Ran Ambramitzky)»\n  \nFace-to-face Seminar – Room 15.1.39
URL:https://economia.uc3m.es/event/tba-163/
LOCATION:15.1.39
CATEGORIES:Seminario de A&E
ATTACH;FMTTYPE=image/jpeg:https://economia.uc3m.es/wp-content/uploads/2025/08/Kjell-Salvanes-e1754560404565.jpg
END:VEVENT
BEGIN:VEVENT
DTSTART;TZID=Europe/Helsinki:20251021T124500
DTEND;TZID=Europe/Helsinki:20251021T140000
DTSTAMP:20260425T024052
CREATED:20251006T082351Z
LAST-MODIFIED:20251020T095336Z
UID:9871-1761050700-1761055200@economia.uc3m.es
SUMMARY:Hidden Hostility\, Donor Attention and Political Violence” (joint with Siwan Anderson\, Patrick Francois and Rogerio Santarrosa)
DESCRIPTION:Dominic Rohner\n(Geneva Graduate Institute)\n  \n«Hidden Hostility\, Donor Attention and Political Violence” (joint with Siwan Anderson\, Patrick Francois and Rogerio Santarrosa)»\n  \nFace-to-face Seminar – Room 15.1.39
URL:https://economia.uc3m.es/event/hidden-hostility-donor-attention-and-political-violence-joint-with-siwan-anderson-patrick-francois-and-rogerio-santarrosa/
LOCATION:15.1.39
CATEGORIES:Seminario de Microeconomía
ATTACH;FMTTYPE=image/jpeg:https://economia.uc3m.es/wp-content/uploads/2025/10/descarga-e1759738990332.jpg
END:VEVENT
BEGIN:VEVENT
DTSTART;TZID=Europe/Helsinki:20251021T150000
DTEND;TZID=Europe/Helsinki:20251021T161500
DTSTAMP:20260425T024052
CREATED:20250916T094506Z
LAST-MODIFIED:20251014T125743Z
UID:9773-1761058800-1761063300@economia.uc3m.es
SUMMARY:HANKSSON (joint with Galaasen\, Gurkaynak\, Maehlum\, and Molnar)
DESCRIPTION:Florin O. Bilbiie\n(University of Cambridge)\n  \n«HANKSSON (joint with Galaasen\, Gurkaynak\, Maehlum\, and Molnar)»\n  \nRoom 15.1.39
URL:https://economia.uc3m.es/event/hanksson-joint-with-galaasen-gurkaynak-maehlum-and-molnar/
LOCATION:15.1.39
CATEGORIES:Senior Position Recruiting Seminar
ATTACH;FMTTYPE=image/jpeg:https://economia.uc3m.es/wp-content/uploads/2025/09/Florin-Bilbiie-1-e1758015741411.jpg
END:VEVENT
BEGIN:VEVENT
DTSTART;TZID=Europe/Helsinki:20251022T124500
DTEND;TZID=Europe/Helsinki:20251022T140000
DTSTAMP:20260425T024052
CREATED:20251014T112434Z
LAST-MODIFIED:20251014T130155Z
UID:9889-1761137100-1761141600@economia.uc3m.es
SUMMARY:Firms Unchained: College Education and the Rise of the Service Sector\, joint with Matthew Schwartzman and Hannes Tepper
DESCRIPTION:Alvaro Cox \n(UC3M)\n  \n«Firms Unchained: College Education and the Rise of the Service Sector\, joint with Matthew Schwartzman and Hannes Tepper»\n  \n Room 15.1.39
URL:https://economia.uc3m.es/event/firms-unchained-college-education-and-the-rise-of-the-service-sector-joint-with-matthew-schwartzman-and-hannes-tepper/
LOCATION:15.1.39
CATEGORIES:Seminario I.I.D.
ATTACH;FMTTYPE=image/jpeg:https://economia.uc3m.es/wp-content/uploads/2025/10/Alvaro-Cox-e1760446709993.jpg
END:VEVENT
BEGIN:VEVENT
DTSTART;TZID=Europe/Helsinki:20251023T124500
DTEND;TZID=Europe/Helsinki:20251023T140000
DTSTAMP:20260425T024052
CREATED:20250807T100300Z
LAST-MODIFIED:20251015T101144Z
UID:9739-1761223500-1761228000@economia.uc3m.es
SUMMARY:Why Might the Old Want to Honor Sovereign Debt?
DESCRIPTION:Martín González-Eiras\n(University of Bologna)\n  \n«Why Might the Old Want to Honor Sovereign Debt?»\n  \nRoom 15.1.39
URL:https://economia.uc3m.es/event/tba-164/
LOCATION:15.1.39
CATEGORIES:Seminario de Macroeconomía
ATTACH;FMTTYPE=image/jpeg:https://economia.uc3m.es/wp-content/uploads/2025/08/Martin-Gonzalez.jpg
END:VEVENT
BEGIN:VEVENT
DTSTART;TZID=Europe/Helsinki:20251027T124500
DTEND;TZID=Europe/Helsinki:20251027T140000
DTSTAMP:20260425T024052
CREATED:20250916T121711Z
LAST-MODIFIED:20250916T122056Z
UID:9781-1761569100-1761573600@economia.uc3m.es
SUMMARY:Saving Lives\, Improving Livelihoods? The Case of Medication for Drug Dependence (with Sarah Eichmeyer and Aljoscha Janssen)
DESCRIPTION:Jonathan Zhang\n(Duke University)\n  \n«Saving Lives\, Improving Livelihoods? The Case of Medication for Drug Dependence (with Sarah Eichmeyer and Aljoscha Janssen)»\n  \nRoom 15.1.39
URL:https://economia.uc3m.es/event/saving-lives-improving-livelihoods-the-case-of-medication-for-drug-dependence-with-sarah-eichmeyer-and-aljoscha-janssen/
LOCATION:15.1.39
CATEGORIES:Seminario de A&E
ATTACH;FMTTYPE=image/jpeg:https://economia.uc3m.es/wp-content/uploads/2025/09/Jonathan-Zhang-e1758024951457.jpg
END:VEVENT
BEGIN:VEVENT
DTSTART;TZID=Europe/Helsinki:20251028T124500
DTEND;TZID=Europe/Helsinki:20251028T140000
DTSTAMP:20260425T024052
CREATED:20250930T124505Z
LAST-MODIFIED:20250930T124505Z
UID:9838-1761655500-1761660000@economia.uc3m.es
SUMMARY:Q-Learning and Algorithmic Market Making: Loss-free\, Collusive\, or Competitive Prices?
DESCRIPTION:Antonio Guarino\n(University College London)\n  \n«Q-Learning and Algorithmic Market Making: Loss-free\, Collusive\, or Competitive Prices?»\n  \nRoom 15.1.39
URL:https://economia.uc3m.es/event/q-learning-and-algorithmic-market-making-loss-free-collusive-or-competitive-prices/
LOCATION:15.1.39
CATEGORIES:Seminario de Microeconomía
ATTACH;FMTTYPE=image/jpeg:https://economia.uc3m.es/wp-content/uploads/2025/09/Antonio-Guarino-e1759236199230.jpg
END:VEVENT
BEGIN:VEVENT
DTSTART;TZID=Europe/Helsinki:20251030T124500
DTEND;TZID=Europe/Helsinki:20251030T140000
DTSTAMP:20260425T024052
CREATED:20250930T130355Z
LAST-MODIFIED:20250930T130355Z
UID:9850-1761828300-1761832800@economia.uc3m.es
SUMMARY:Local Labor Markets and Market Power" con Tristany Armangué-Jubert & Nicolas Herrera-La Rotta
DESCRIPTION:Sebastián Espinoza\n(University College London)\n  \n«Local Labor Markets and Market Power» con Tristany Armangué-Jubert & Nicolas Herrera-La Rotta»\n  \nFace-to-face Seminar – Room 15.1.39
URL:https://economia.uc3m.es/event/local-labor-markets-and-market-power-con-tristany-armangue-jubert-nicolas-herrera-la-rotta/
LOCATION:15.1.39
CATEGORIES:Seminario de Enter
ATTACH;FMTTYPE=image/jpeg:https://economia.uc3m.es/wp-content/uploads/2025/09/Sebastian-Espinoza.jpg
END:VEVENT
END:VCALENDAR