BEGIN:VCALENDAR
VERSION:2.0
PRODID:-//Departamento de Economía Universidad Carlos III - ECPv6.15.19//NONSGML v1.0//EN
CALSCALE:GREGORIAN
METHOD:PUBLISH
X-ORIGINAL-URL:https://economia.uc3m.es
X-WR-CALDESC:Eventos para Departamento de Economía Universidad Carlos III
REFRESH-INTERVAL;VALUE=DURATION:PT1H
X-Robots-Tag:noindex
X-PUBLISHED-TTL:PT1H
BEGIN:VTIMEZONE
TZID:Europe/Helsinki
BEGIN:DAYLIGHT
TZOFFSETFROM:+0200
TZOFFSETTO:+0300
TZNAME:EEST
DTSTART:20240331T010000
END:DAYLIGHT
BEGIN:STANDARD
TZOFFSETFROM:+0300
TZOFFSETTO:+0200
TZNAME:EET
DTSTART:20241027T010000
END:STANDARD
BEGIN:DAYLIGHT
TZOFFSETFROM:+0200
TZOFFSETTO:+0300
TZNAME:EEST
DTSTART:20250330T010000
END:DAYLIGHT
BEGIN:STANDARD
TZOFFSETFROM:+0300
TZOFFSETTO:+0200
TZNAME:EET
DTSTART:20251026T010000
END:STANDARD
BEGIN:DAYLIGHT
TZOFFSETFROM:+0200
TZOFFSETTO:+0300
TZNAME:EEST
DTSTART:20260329T010000
END:DAYLIGHT
BEGIN:STANDARD
TZOFFSETFROM:+0300
TZOFFSETTO:+0200
TZNAME:EET
DTSTART:20261025T010000
END:STANDARD
END:VTIMEZONE
BEGIN:VEVENT
DTSTART;TZID=Europe/Helsinki:20250910T124500
DTEND;TZID=Europe/Helsinki:20250910T140000
DTSTAMP:20260425T001028
CREATED:20250729T122013Z
LAST-MODIFIED:20250801T100017Z
UID:9632-1757508300-1757512800@economia.uc3m.es
SUMMARY:"Dynamic Urban Economics" joint with Brian Greaney and Stijn Van Nieuwerburgh
DESCRIPTION:Andrii Parkhomenko\n(USC Marshall)\n  \n«Dynamic Urban Economics» joint with Brian Greaney and Stijn Van Nieuwerburgh\nRoom 15.1.39
URL:https://economia.uc3m.es/event/dynamic-urban-economics/
LOCATION:15.1.39
CATEGORIES:Job Market Senior
ATTACH;FMTTYPE=image/jpeg:https://economia.uc3m.es/wp-content/uploads/2025/07/Andrii-parkhomenko-2.jpg
END:VEVENT
BEGIN:VEVENT
DTSTART;TZID=Europe/Helsinki:20250915T124500
DTEND;TZID=Europe/Helsinki:20250915T140000
DTSTAMP:20260425T001028
CREATED:20250729T124055Z
LAST-MODIFIED:20250904T102533Z
UID:9638-1757940300-1757944800@economia.uc3m.es
SUMMARY:Gender Differences in Education Migration
DESCRIPTION:Hyejin Ku\n(University College London)\n  \n«Gender Differences in Education Migration»\n  \nRoom 15.1.39
URL:https://economia.uc3m.es/event/tba-158/
LOCATION:15.1.39
CATEGORIES:Seminario de A&E
ATTACH;FMTTYPE=image/jpeg:https://economia.uc3m.es/wp-content/uploads/2025/07/Hyejin-Ku-e1753792435382.jpg
END:VEVENT
BEGIN:VEVENT
DTSTART;TZID=Europe/Helsinki:20250916T124500
DTEND;TZID=Europe/Helsinki:20250916T140000
DTSTAMP:20260425T001028
CREATED:20250801T102357Z
LAST-MODIFIED:20250801T103450Z
UID:9654-1758026700-1758031200@economia.uc3m.es
SUMMARY:Games with Imperfectly Attributable Actions
DESCRIPTION:David Rahman\n(University of Minnesota)\n  \n«Games with Imperfectly Attributable Actions»\n  \nRoom 15.1.39
URL:https://economia.uc3m.es/event/games-with-imperfectly-attributable-actions/
LOCATION:15.1.39
CATEGORIES:Seminario de Microeconomía
ATTACH;FMTTYPE=image/jpeg:https://economia.uc3m.es/wp-content/uploads/2025/08/david-rahman-e1754043703431.jpg
END:VEVENT
BEGIN:VEVENT
DTSTART;TZID=Europe/Helsinki:20250922T124500
DTEND;TZID=Europe/Helsinki:20250922T140000
DTSTAMP:20260425T001028
CREATED:20250806T085647Z
LAST-MODIFIED:20250806T085647Z
UID:9666-1758545100-1758549600@economia.uc3m.es
SUMMARY:Panel Models with Unrestricted Individual Effects
DESCRIPTION:Andrew Chesher\n(University College London)\n  \n«Panel Models with Unrestricted Individual Effects»\n  \nRoom 15.1.39
URL:https://economia.uc3m.es/event/panel-models-with-unrestricted-individual-effects/
LOCATION:15.1.39
CATEGORIES:Seminario de A&E
ATTACH;FMTTYPE=image/jpeg:https://economia.uc3m.es/wp-content/uploads/2025/08/Andrew-Chesher.jpg
END:VEVENT
BEGIN:VEVENT
DTSTART;TZID=Europe/Helsinki:20250923T124500
DTEND;TZID=Europe/Helsinki:20250923T140000
DTSTAMP:20260425T001028
CREATED:20250806T090543Z
LAST-MODIFIED:20250806T090543Z
UID:9672-1758631500-1758636000@economia.uc3m.es
SUMMARY:Robust Delegation
DESCRIPTION:Tan Gan\n(London School of Economics)\n  \n«Robust Delegation»\n  \nFace-to-face Seminar – Room 15.1.39
URL:https://economia.uc3m.es/event/robust-delegation/
LOCATION:15.1.39
CATEGORIES:Seminario de Microeconomía
ATTACH;FMTTYPE=image/jpeg:https://economia.uc3m.es/wp-content/uploads/2025/08/Tan-Gan.jpg
END:VEVENT
BEGIN:VEVENT
DTSTART;TZID=Europe/Helsinki:20250925T124500
DTEND;TZID=Europe/Helsinki:20250925T140000
DTSTAMP:20260425T001028
CREATED:20250806T111305Z
LAST-MODIFIED:20250918T140743Z
UID:9684-1758804300-1758808800@economia.uc3m.es
SUMMARY:Economic Development according to Chandler
DESCRIPTION:Federico Rossi\n(University of Warwick)\n  \n«Economic Development according to Chandler»\n  \nRoom 15.1.39
URL:https://economia.uc3m.es/event/tba-160/
LOCATION:15.1.39
CATEGORIES:Seminario de Macroeconomía
ATTACH;FMTTYPE=image/jpeg:https://economia.uc3m.es/wp-content/uploads/2025/08/Federico-Rossi-e1754478747706.jpg
END:VEVENT
BEGIN:VEVENT
DTSTART;TZID=Europe/Helsinki:20250929T124500
DTEND;TZID=Europe/Helsinki:20250929T140000
DTSTAMP:20260425T001028
CREATED:20250806T111702Z
LAST-MODIFIED:20250923T083240Z
UID:9690-1759149900-1759154400@economia.uc3m.es
SUMMARY:(De facto) Historical Ethnic Borders and Contemporary Conflict in Africa (Joint with Ömer Özak)
DESCRIPTION:Emilio Depetris-Chauvin\n(PUC-Chile)\n  \n«(De facto) Historical Ethnic Borders and Contemporary Conflict in Africa (Joint with Ömer Özak)»\n  \nRoom 15.1.39
URL:https://economia.uc3m.es/event/tba-161/
LOCATION:15.1.39
CATEGORIES:Seminario de A&E
ATTACH;FMTTYPE=image/png:https://economia.uc3m.es/wp-content/uploads/2025/08/Emilio-Depetris-e1754478980570.png
END:VEVENT
END:VCALENDAR