BEGIN:VCALENDAR
VERSION:2.0
PRODID:-//Departamento de Economía Universidad Carlos III - ECPv6.15.19//NONSGML v1.0//EN
CALSCALE:GREGORIAN
METHOD:PUBLISH
X-ORIGINAL-URL:https://economia.uc3m.es
X-WR-CALDESC:Eventos para Departamento de Economía Universidad Carlos III
REFRESH-INTERVAL;VALUE=DURATION:PT1H
X-Robots-Tag:noindex
X-PUBLISHED-TTL:PT1H
BEGIN:VTIMEZONE
TZID:Europe/Helsinki
BEGIN:DAYLIGHT
TZOFFSETFROM:+0200
TZOFFSETTO:+0300
TZNAME:EEST
DTSTART:20240331T010000
END:DAYLIGHT
BEGIN:STANDARD
TZOFFSETFROM:+0300
TZOFFSETTO:+0200
TZNAME:EET
DTSTART:20241027T010000
END:STANDARD
BEGIN:DAYLIGHT
TZOFFSETFROM:+0200
TZOFFSETTO:+0300
TZNAME:EEST
DTSTART:20250330T010000
END:DAYLIGHT
BEGIN:STANDARD
TZOFFSETFROM:+0300
TZOFFSETTO:+0200
TZNAME:EET
DTSTART:20251026T010000
END:STANDARD
BEGIN:DAYLIGHT
TZOFFSETFROM:+0200
TZOFFSETTO:+0300
TZNAME:EEST
DTSTART:20260329T010000
END:DAYLIGHT
BEGIN:STANDARD
TZOFFSETFROM:+0300
TZOFFSETTO:+0200
TZNAME:EET
DTSTART:20261025T010000
END:STANDARD
END:VTIMEZONE
BEGIN:VEVENT
DTSTART;TZID=Europe/Helsinki:20250505T124500
DTEND;TZID=Europe/Helsinki:20250505T140000
DTSTAMP:20260425T024053
CREATED:20250409T091829Z
LAST-MODIFIED:20250430T081528Z
UID:9442-1746449100-1746453600@economia.uc3m.es
SUMMARY:Discrimination\, Political Orientation\, and Escape: University Professors in Fascist Italy (by Sascha O. Becker and Luca de Benedictis)
DESCRIPTION:Sascha O. Becker\n(Warwick)\n  \n«Discrimination\, Political Orientation\, and Escape: University Professors in Fascist Italy (by Sascha O. Becker and Luca de Benedictis)»\n  \nFace-to-face Seminar – Room 15.1.39
URL:https://economia.uc3m.es/event/tba-155/
LOCATION:15.1.39
CATEGORIES:Seminario de A&E
ATTACH;FMTTYPE=image/jpeg:https://economia.uc3m.es/wp-content/uploads/2025/04/Sascha-Becker-e1744190269323.jpg
END:VEVENT
BEGIN:VEVENT
DTSTART;TZID=Europe/Helsinki:20250506T124500
DTEND;TZID=Europe/Helsinki:20250506T140000
DTSTAMP:20260425T024053
CREATED:20250409T100614Z
LAST-MODIFIED:20250424T101531Z
UID:9448-1746535500-1746540000@economia.uc3m.es
SUMMARY:Equilibrium Trade Regimes: Power- vs. Rules-Based" (joint with C. Carvalho and E. Ornelas)
DESCRIPTION:Daniel Monte\n(U. Torino)\n  \n«Equilibrium Trade Regimes: Power- vs. Rules-Based» (joint with C. Carvalho and E. Ornelas)»\n  \nFace-to-face Seminar – Room 15.1.39
URL:https://economia.uc3m.es/event/tba-156/
LOCATION:15.1.39
CATEGORIES:Seminario de Microeconomía
ATTACH;FMTTYPE=image/jpeg:https://economia.uc3m.es/wp-content/uploads/2025/04/Daniel-Monte.jpg
END:VEVENT
BEGIN:VEVENT
DTSTART;TZID=Europe/Helsinki:20250507T124500
DTEND;TZID=Europe/Helsinki:20250507T140000
DTSTAMP:20260425T024053
CREATED:20250505T080029Z
LAST-MODIFIED:20250505T080029Z
UID:9500-1746621900-1746626400@economia.uc3m.es
SUMMARY:Journeys and Junctions: Spillovers from Migration and Refugee Policies
DESCRIPTION:Paula Beltrán\n(IMF)\n  \n«Journeys and Junctions: Spillovers from Migration and Refugee Policies»\n  \nRoom 15.1.39
URL:https://economia.uc3m.es/event/journeys-and-junctions-spillovers-from-migration-and-refugee-policies/
LOCATION:15.1.39
CATEGORIES:Seminario del Departamento
ATTACH;FMTTYPE=image/jpeg:https://economia.uc3m.es/wp-content/uploads/2025/05/Paula-Beltran-e1746431951195.jpg
END:VEVENT
BEGIN:VEVENT
DTSTART;TZID=Europe/Helsinki:20250508T124500
DTEND;TZID=Europe/Helsinki:20250508T140000
DTSTAMP:20260425T024053
CREATED:20250409T102250Z
LAST-MODIFIED:20250409T102250Z
UID:9454-1746708300-1746712800@economia.uc3m.es
SUMMARY:Transition to Green Technology along the Supply Chain" with Philippe Aghion\, Lint Barrage\, Eric Donald and Ernest Liu
DESCRIPTION:David Hemous\n(U. Zurich)\n  \n«Transition to Green Technology along the Supply Chain» with Philippe Aghion\, Lint Barrage\, Eric Donald and Ernest Liu»\n  \nFace-to-face Seminar – Room 15.1.39
URL:https://economia.uc3m.es/event/transition-to-green-technology-along-the-supply-chain-with-philippe-aghion-lint-barrage-eric-donald-and-ernest-liu/
LOCATION:15.1.39
CATEGORIES:Seminario de Macroeconomía
ATTACH;FMTTYPE=image/jpeg:https://economia.uc3m.es/wp-content/uploads/2025/04/hemous-e1744194058819.jpg
END:VEVENT
BEGIN:VEVENT
DTSTART;TZID=Europe/Helsinki:20250508T150000
DTEND;TZID=Europe/Helsinki:20250508T160000
DTSTAMP:20260425T024053
CREATED:20250505T081407Z
LAST-MODIFIED:20250505T081407Z
UID:9506-1746716400-1746720000@economia.uc3m.es
SUMMARY:Community Resilience During Wartime
DESCRIPTION:Tymofii Brik\n(Kyiv School of Economics)\n  \n«Community Resilience During Wartime»\n  \nRoom 15.0.05
URL:https://economia.uc3m.es/event/community-resilience-during-wartime/
LOCATION:15.0.05
CATEGORIES:Seminario del Departamento
ATTACH;FMTTYPE=image/jpeg:https://economia.uc3m.es/wp-content/uploads/2025/05/Tymofii-Brik-e1746432374916.jpg
END:VEVENT
BEGIN:VEVENT
DTSTART;TZID=Europe/Helsinki:20250512T124500
DTEND;TZID=Europe/Helsinki:20250512T140000
DTSTAMP:20260425T024053
CREATED:20250423T145152Z
LAST-MODIFIED:20250423T145152Z
UID:9466-1747053900-1747058400@economia.uc3m.es
SUMMARY:Policing for profit? Evidence from post-Ferguson reforms in Missouri
DESCRIPTION:Brian Knight\n(U. Brown)\n  \n«Policing for profit? Evidence from post-Ferguson reforms in Missouri»\n  \nRoom 15.1.39
URL:https://economia.uc3m.es/event/policing-for-profit-evidence-from-post-ferguson-reforms-in-missouri/
LOCATION:15.1.39
CATEGORIES:Seminario de A&E
ATTACH;FMTTYPE=image/png:https://economia.uc3m.es/wp-content/uploads/2025/04/05-12-Brian-Knight-e1745419875999.png
END:VEVENT
BEGIN:VEVENT
DTSTART;TZID=Europe/Helsinki:20250513T124500
DTEND;TZID=Europe/Helsinki:20250513T140000
DTSTAMP:20260425T024053
CREATED:20250424T093340Z
LAST-MODIFIED:20250424T093340Z
UID:9484-1747140300-1747144800@economia.uc3m.es
SUMMARY:Lindahl Equilibrium as a Collective Choice Rule”  (joint with Faruk Gul)
DESCRIPTION:Wolfgang Pesendorfer\n(Princeton University)\n  \n«Lindahl Equilibrium as a Collective Choice Rule”  (joint with Faruk Gul)»\n  \nRoom 15.1.39
URL:https://economia.uc3m.es/event/lindahl-equilibrium-as-a-collective-choice-rule-joint-with-faruk-gul/
LOCATION:15.1.39
CATEGORIES:Seminario de Microeconomía
ATTACH;FMTTYPE=image/jpeg:https://economia.uc3m.es/wp-content/uploads/2025/04/Wolfgang_Pesendorfer_03-e1745487162111.jpg
END:VEVENT
BEGIN:VEVENT
DTSTART;TZID=Europe/Helsinki:20250515T124500
DTEND;TZID=Europe/Helsinki:20250515T140000
DTSTAMP:20260425T024053
CREATED:20250423T151529Z
LAST-MODIFIED:20250512T073549Z
UID:9472-1747313100-1747317600@economia.uc3m.es
SUMMARY:The Aggregate Costs of Uninsurable Business Income Risk"\, co-authored with Denis Gorea and Virgiliu Midrigan
DESCRIPTION:Corina Boar\n(NYU)\n  \n«The Aggregate Costs of Uninsurable Business Income Risk»\, co-authored with Denis Gorea and Virgiliu Midrigan»\n  \nRoom 15.1.39
URL:https://economia.uc3m.es/event/tba-157/
LOCATION:15.1.39
CATEGORIES:Seminario de Macroeconomía
ATTACH;FMTTYPE=image/jpeg:https://economia.uc3m.es/wp-content/uploads/2025/04/Corina-Boar-e1745421206577.jpg
END:VEVENT
BEGIN:VEVENT
DTSTART;TZID=Europe/Helsinki:20250519T124500
DTEND;TZID=Europe/Helsinki:20250519T140000
DTSTAMP:20260425T024053
CREATED:20250423T152425Z
LAST-MODIFIED:20250423T152425Z
UID:9478-1747658700-1747663200@economia.uc3m.es
SUMMARY:Moments by the Integrating the Moment-Generating Function
DESCRIPTION:Peter Hansen\n(U. of North Carolina)\n  \n«Moments by the Integrating the Moment-Generating Function»\n  \nRoom 15.1.39
URL:https://economia.uc3m.es/event/moments-by-the-integrating-the-moment-generating-function/
LOCATION:15.1.39
CATEGORIES:Seminario de A&E
ATTACH;FMTTYPE=image/jpeg:https://economia.uc3m.es/wp-content/uploads/2025/04/Peter-Hansen-e1745421760662.jpg
END:VEVENT
BEGIN:VEVENT
DTSTART;TZID=Europe/Helsinki:20250520T124500
DTEND;TZID=Europe/Helsinki:20250520T140000
DTSTAMP:20260425T024053
CREATED:20250424T102708Z
LAST-MODIFIED:20250506T121029Z
UID:9491-1747745100-1747749600@economia.uc3m.es
SUMMARY:Divide or confer: Aggregating information without verification
DESCRIPTION:James Best\n(Carnegie Mellon University)\n  \n«Divide or confer: Aggregating information without verification»\n  \nRoom 15.1.39
URL:https://economia.uc3m.es/event/divide-or-confer-aggregating-information-without-verification/
LOCATION:15.1.39
CATEGORIES:Seminario de Microeconomía
ATTACH;FMTTYPE=image/jpeg:https://economia.uc3m.es/wp-content/uploads/2025/04/James-Best.jpg
END:VEVENT
BEGIN:VEVENT
DTSTART;TZID=Europe/Helsinki:20250521T124500
DTEND;TZID=Europe/Helsinki:20250521T140000
DTSTAMP:20260425T024053
CREATED:20250505T125638Z
LAST-MODIFIED:20250505T125638Z
UID:9518-1747831500-1747836000@economia.uc3m.es
SUMMARY:Labor Markets\, Inequality\, and Hiring Selection (with A. Pizzo)
DESCRIPTION:Benjamín Villena\n(U. Andrés Bello)\n  \n«Labor Markets\, Inequality\, and Hiring Selection (with A. Pizzo)»\n  \nRoom 15.1.39
URL:https://economia.uc3m.es/event/labor-markets-inequality-and-hiring-selection-with-a-pizzo/
LOCATION:15.1.39
CATEGORIES:Seminario de Macroeconomía
ATTACH;FMTTYPE=image/jpeg:https://economia.uc3m.es/wp-content/uploads/2025/05/Benjamin-Villena-e1746449755402.jpg
END:VEVENT
BEGIN:VEVENT
DTSTART;TZID=Europe/Helsinki:20250522T124500
DTEND;TZID=Europe/Helsinki:20250522T140000
DTSTAMP:20260425T024053
CREATED:20250506T125022Z
LAST-MODIFIED:20250519T125928Z
UID:9528-1747917900-1747922400@economia.uc3m.es
SUMMARY:Rural Migrants and Urban Informality: Evidence from Brazil
DESCRIPTION:Gabriel Ulyssea\n(University College London)\n  \n«Rural Migrants and Urban Informality: Evidence from Brazil»\n  \nRoom 15.1.39
URL:https://economia.uc3m.es/event/slums-poverty-traps-or-stepping-stones/
LOCATION:15.1.39
CATEGORIES:Seminario de Macroeconomía
ATTACH;FMTTYPE=image/jpeg:https://economia.uc3m.es/wp-content/uploads/2025/05/Gabriel-Ulyssea-e1746535706432.jpg
END:VEVENT
BEGIN:VEVENT
DTSTART;TZID=Europe/Helsinki:20250527T124500
DTEND;TZID=Europe/Helsinki:20250527T140000
DTSTAMP:20260425T024053
CREATED:20250514T111545Z
LAST-MODIFIED:20250514T111545Z
UID:9546-1748349900-1748354400@economia.uc3m.es
SUMMARY:Replacement and Reputation
DESCRIPTION:Navin Kartik\n(Columbia University)\n  \n«Replacement and Reputation»\n  \nFace-to-face Seminar – Room 15.1.39
URL:https://economia.uc3m.es/event/replacement-and-reputation/
LOCATION:15.1.39
CATEGORIES:Seminario de Microeconomía
ATTACH;FMTTYPE=image/jpeg:https://economia.uc3m.es/wp-content/uploads/2025/05/navin_kartik_headshot-160x160-1.jpg
END:VEVENT
END:VCALENDAR