BEGIN:VCALENDAR
VERSION:2.0
PRODID:-//Departamento de Economía Universidad Carlos III - ECPv6.15.19//NONSGML v1.0//EN
CALSCALE:GREGORIAN
METHOD:PUBLISH
X-WR-CALNAME:Departamento de Economía Universidad Carlos III
X-ORIGINAL-URL:https://economia.uc3m.es
X-WR-CALDESC:Eventos para Departamento de Economía Universidad Carlos III
REFRESH-INTERVAL;VALUE=DURATION:PT1H
X-Robots-Tag:noindex
X-PUBLISHED-TTL:PT1H
BEGIN:VTIMEZONE
TZID:Europe/Helsinki
BEGIN:DAYLIGHT
TZOFFSETFROM:+0200
TZOFFSETTO:+0300
TZNAME:EEST
DTSTART:20240331T010000
END:DAYLIGHT
BEGIN:STANDARD
TZOFFSETFROM:+0300
TZOFFSETTO:+0200
TZNAME:EET
DTSTART:20241027T010000
END:STANDARD
BEGIN:DAYLIGHT
TZOFFSETFROM:+0200
TZOFFSETTO:+0300
TZNAME:EEST
DTSTART:20250330T010000
END:DAYLIGHT
BEGIN:STANDARD
TZOFFSETFROM:+0300
TZOFFSETTO:+0200
TZNAME:EET
DTSTART:20251026T010000
END:STANDARD
BEGIN:DAYLIGHT
TZOFFSETFROM:+0200
TZOFFSETTO:+0300
TZNAME:EEST
DTSTART:20260329T010000
END:DAYLIGHT
BEGIN:STANDARD
TZOFFSETFROM:+0300
TZOFFSETTO:+0200
TZNAME:EET
DTSTART:20261025T010000
END:STANDARD
END:VTIMEZONE
BEGIN:VEVENT
DTSTART;TZID=Europe/Helsinki:20250303T124500
DTEND;TZID=Europe/Helsinki:20250303T140000
DTSTAMP:20260425T180434
CREATED:20250214T121616Z
LAST-MODIFIED:20250214T121616Z
UID:9190-1741005900-1741010400@economia.uc3m.es
SUMMARY:Predicting Unobserved Individual-level Causal Effects
DESCRIPTION:Christophe Gaillac\n(U. Genéve)\n  \n«Predicting Unobserved Individual-level Causal Effects»\n  \nFace-to-face Seminar – Room 15.1.39
URL:https://economia.uc3m.es/event/predicting-unobserved-individual-level-causal-effects/
LOCATION:15.1.39
CATEGORIES:Seminario de A&E
ATTACH;FMTTYPE=image/jpeg:https://economia.uc3m.es/wp-content/uploads/2025/02/Christophe-Gaillac-e1739535168630.jpg
END:VEVENT
BEGIN:VEVENT
DTSTART;TZID=Europe/Helsinki:20250305T124500
DTEND;TZID=Europe/Helsinki:20250305T140000
DTSTAMP:20260425T180434
CREATED:20250214T123839Z
LAST-MODIFIED:20250214T123839Z
UID:9198-1741178700-1741183200@economia.uc3m.es
SUMMARY:Deep Reinforcement Learning in a Monetary Model
DESCRIPTION:Mingli Chen\n(U.Warwick)\n  \n«Deep Reinforcement Learning in a Monetary Model»\n  \nFace-to-face Seminar – Room 15.1.39
URL:https://economia.uc3m.es/event/deep-reinforcement-learning-in-a-monetary-model/
LOCATION:15.1.39
CATEGORIES:Seminario de A&E
ATTACH;FMTTYPE=image/jpeg:https://economia.uc3m.es/wp-content/uploads/2025/02/Mingli-Chen-e1739536571182.jpg
END:VEVENT
BEGIN:VEVENT
DTSTART;TZID=Europe/Helsinki:20250306T124500
DTEND;TZID=Europe/Helsinki:20250306T140000
DTSTAMP:20260425T180434
CREATED:20250214T130213Z
LAST-MODIFIED:20250226T115622Z
UID:9204-1741265100-1741269600@economia.uc3m.es
SUMMARY:The Wage of Temporary Agency Workers\, written with Antonin Bergeaud\, Clément Malgouyres\, Sara Signorelli\, Thomas Zuber
DESCRIPTION:Pierre Cahuc\n(Sciences Po)\n  \n«The Wage of Temporary Agency Workers\, written with Antonin Bergeaud\, Clément Malgouyres\, Sara Signorelli\, Thomas Zuber»\n  \nFace-to-face Seminar – Room 15.1.39
URL:https://economia.uc3m.es/event/tba-149/
LOCATION:15.1.39
CATEGORIES:Seminario de Macroeconomía
ATTACH;FMTTYPE=image/jpeg:https://economia.uc3m.es/wp-content/uploads/2025/02/Pierre-Cahuc-e1739538036518.jpg
END:VEVENT
BEGIN:VEVENT
DTSTART;TZID=Europe/Helsinki:20250310T004500
DTEND;TZID=Europe/Helsinki:20250310T140000
DTSTAMP:20260425T180434
CREATED:20250214T132521Z
LAST-MODIFIED:20250305T163200Z
UID:9010-1741567500-1741615200@economia.uc3m.es
SUMMARY:Church\, State\, and Education: School Funding and Catholics’ Assimilation in the U.S
DESCRIPTION:Mara Squicciarini\n(U.Bocconi)\n  \n«Church\, State\, and Education: School Funding and Catholics’ Assimilation in the U.S»\n  \nFace-to-face Seminar – Room 15.1.39
URL:https://economia.uc3m.es/event/tba-150/
LOCATION:15.1.39
CATEGORIES:Seminario de A&E
ATTACH;FMTTYPE=image/jpeg:https://economia.uc3m.es/wp-content/uploads/2025/02/Mara-Squicciarini-e1739539385567.jpg
END:VEVENT
BEGIN:VEVENT
DTSTART;TZID=Europe/Helsinki:20250311T124500
DTEND;TZID=Europe/Helsinki:20250311T140000
DTSTAMP:20260425T180434
CREATED:20250227T110806Z
LAST-MODIFIED:20250227T110806Z
UID:9231-1741697100-1741701600@economia.uc3m.es
SUMMARY:How (Much) Can Platforms Learn from Consumer Choices? (with Maarten Janssen)
DESCRIPTION:Eeva Mauring\n(U. Bergen)\n  \n«How (Much) Can Platforms Learn from Consumer Choices? (with Maarten Janssen)»\n  \nFace-to-face Seminar – Room 15.1.39
URL:https://economia.uc3m.es/event/how-much-can-platforms-learn-from-consumer-choices-with-maarten-janssen/
LOCATION:15.1.39
CATEGORIES:Seminario de Microeconomía
ATTACH;FMTTYPE=image/jpeg:https://economia.uc3m.es/wp-content/uploads/2025/02/Eeva-Mauring-e1740654442166.jpg
END:VEVENT
BEGIN:VEVENT
DTSTART;TZID=Europe/Helsinki:20250312T224500
DTEND;TZID=Europe/Helsinki:20250312T224500
DTSTAMP:20260425T180434
CREATED:20250303T103328Z
LAST-MODIFIED:20250311T105404Z
UID:9272-1741819500-1741819500@economia.uc3m.es
SUMMARY:The Impact of Raising the Minimum Legal Drinking Age on Academic Achievement and Risky Behaviour: A Difference-in-Discontinuities Approach
DESCRIPTION:Nuarpear Lekfuangfu & Julio Cáceres \n(UC3M)\n  \n«The Impact of Raising the Minimum Legal Drinking Age on Academic Achievement and Risky Behaviour: A Difference-in-Discontinuities Approach»\n  \nFace-to-face Seminar – Room 18.1.A06
URL:https://economia.uc3m.es/event/the-impact-of-raising-the-minimum-legal-drinking-age-on-academic-achievement-and-risky-behaviour-a-difference-in-discontinuities-approach/
LOCATION:18.1.A06
CATEGORIES:Seminario I.I.D.
END:VEVENT
BEGIN:VEVENT
DTSTART;TZID=Europe/Helsinki:20250317T124500
DTEND;TZID=Europe/Helsinki:20250317T140000
DTSTAMP:20260425T180434
CREATED:20250227T112951Z
LAST-MODIFIED:20250227T145819Z
UID:9237-1742215500-1742220000@economia.uc3m.es
SUMMARY:Activism and the Electoral Participation of Women Joint with Mona Morgan Collins
DESCRIPTION:Valeria Rueda\n(University of Nottingham)\n  \n«Activism and the Electoral Participation of Women Joint with Mona Morgan Collins»\n  \nFace-to-face Seminar – Room 15.1.39
URL:https://economia.uc3m.es/event/activism-and-the-electoral-participation-of-women-joint-with-mona-morgan-collins/
LOCATION:15.1.39
CATEGORIES:Seminario de A&E
ATTACH;FMTTYPE=image/jpeg:https://economia.uc3m.es/wp-content/uploads/2025/02/Valeria-Rueda.jpg
END:VEVENT
BEGIN:VEVENT
DTSTART;TZID=Europe/Helsinki:20250318T124500
DTEND;TZID=Europe/Helsinki:20250318T140000
DTSTAMP:20260425T180434
CREATED:20250227T150713Z
LAST-MODIFIED:20250312T132624Z
UID:9245-1742301900-1742306400@economia.uc3m.es
SUMMARY:Selling Certification\, Content Moderation\, and Attention (with Heski Bar-Isaac and Rahul Deb)
DESCRIPTION:Matthew Mitchell\n(U. Toronto)\n  \n«Selling Certification\, Content Moderation\, and Attention (with Heski Bar-Isaac and Rahul Deb)»\n  \nFace-to-face Seminar – Room 15.1.39
URL:https://economia.uc3m.es/event/tba-151/
LOCATION:15.1.39
CATEGORIES:Seminario de Microeconomía
ATTACH;FMTTYPE=image/jpeg:https://economia.uc3m.es/wp-content/uploads/2025/01/Matt-Mitchell-e1740668466941.jpg
END:VEVENT
BEGIN:VEVENT
DTSTART;TZID=Europe/Helsinki:20250319T124500
DTEND;TZID=Europe/Helsinki:20250319T140000
DTSTAMP:20260425T180434
CREATED:20250227T151407Z
LAST-MODIFIED:20250227T151407Z
UID:9251-1742388300-1742392800@economia.uc3m.es
SUMMARY:Rationalizable Incentives: Interim Rationalizable Implementation of Correspondences
DESCRIPTION:Roberto Serrano\n(U. Brown)\n  \n«Rationalizable Incentives: Interim Rationalizable Implementation of Correspondences»\n  \nFace-to-face Seminar – Room 15.1.39
URL:https://economia.uc3m.es/event/rationalizable-incentives-interim-rationalizable-implementation-of-correspondences/
LOCATION:15.1.39
CATEGORIES:Seminario de Microeconomía
ATTACH;FMTTYPE=image/jpeg:https://economia.uc3m.es/wp-content/uploads/2025/02/Roberto-Serrano-e1740669176973.jpg
END:VEVENT
BEGIN:VEVENT
DTSTART;TZID=Europe/Helsinki:20250320T124500
DTEND;TZID=Europe/Helsinki:20250320T140000
DTSTAMP:20260425T180434
CREATED:20250227T152627Z
LAST-MODIFIED:20250311T125954Z
UID:9259-1742474700-1742479200@economia.uc3m.es
SUMMARY:Land Use and Climate Change: Evidence from France (1950-2020)\, joint with Cécile Gaubert (UC Berkeley) and Emeric Henry (Sciences Po)
DESCRIPTION:Nicolás Coeurdacier\n(Sciences Po)\n  \n«Land Use and Climate Change: Evidence from France (1950-2020)\, joint with Cécile Gaubert (UC Berkeley) and Emeric Henry (Sciences Po)»\n  \nFace-to-face Seminar – Room 15.1.39
URL:https://economia.uc3m.es/event/tba-152/
LOCATION:15.1.39
CATEGORIES:Seminario de Macroeconomía
ATTACH;FMTTYPE=image/png:https://economia.uc3m.es/wp-content/uploads/2025/02/Nicolas-Coeurdacier-e1740669939846.png
END:VEVENT
BEGIN:VEVENT
DTSTART;TZID=Europe/Helsinki:20250324T124500
DTEND;TZID=Europe/Helsinki:20250324T140000
DTSTAMP:20260425T180434
CREATED:20250312T163124Z
LAST-MODIFIED:20250312T163124Z
UID:9318-1742820300-1742824800@economia.uc3m.es
SUMMARY:Building Capacity for Unity in Diversity: A Large-Scale Intervention among Youth in India joint with May Farid\, Prashant Loyalka\, Dinsha Mistree)
DESCRIPTION:Christina Felfe\n(U. Würzburg)\n  \n«Building Capacity for Unity in Diversity: A Large-Scale Intervention among Youth in India joint with May Farid\, Prashant Loyalka\, Dinsha Mistree)»\n  \nFace-to-face Seminar – Room 15.1.39
URL:https://economia.uc3m.es/event/building-capacity-for-unity-in-diversity-a-large-scale-intervention-among-youth-in-india-joint-with-may-farid-prashant-loyalka-dinsha-mistree/
LOCATION:15.1.39
CATEGORIES:Seminario de A&E
ATTACH;FMTTYPE=image/jpeg:https://economia.uc3m.es/wp-content/uploads/2025/03/03-24-Christina-Felfe-e1741796966277.jpg
END:VEVENT
BEGIN:VEVENT
DTSTART;TZID=Europe/Helsinki:20250325T124500
DTEND;TZID=Europe/Helsinki:20250325T140000
DTSTAMP:20260425T180434
CREATED:20250312T163709Z
LAST-MODIFIED:20250312T163709Z
UID:9324-1742906700-1742911200@economia.uc3m.es
SUMMARY:Time is Knowledge: What Response Times Reveal\, with Shuo Liu and Nick Netze
DESCRIPTION:Jean-Michel Benkert\n(U. Bern)\n  \n«Time is Knowledge: What Response Times Reveal\, with Shuo Liu and Nick Netze»\n  \nFace-to-face Seminar – Room 15.1.39
URL:https://economia.uc3m.es/event/time-is-knowledge-what-response-times-reveal-with-shuo-liu-and-nick-netze/
LOCATION:15.1.39
CATEGORIES:Seminario de Microeconomía
ATTACH;FMTTYPE=image/jpeg:https://economia.uc3m.es/wp-content/uploads/2025/03/Jean-Michel-Benkert-e1741797380360.jpg
END:VEVENT
BEGIN:VEVENT
DTSTART;TZID=Europe/Helsinki:20250327T124500
DTEND;TZID=Europe/Helsinki:20250327T140000
DTSTAMP:20260425T180434
CREATED:20250312T164255Z
LAST-MODIFIED:20250312T164410Z
UID:9330-1743079500-1743084000@economia.uc3m.es
SUMMARY:Wage-fixing
DESCRIPTION:Axel Gottfries\n(U. Edinburgh)\n  \n«Wage-fixing»\n  \nFace-to-face Seminar – Room 15.1.39
URL:https://economia.uc3m.es/event/wage-fixing/
LOCATION:15.1.39
CATEGORIES:Seminario de Macroeconomía
ATTACH;FMTTYPE=image/jpeg:https://economia.uc3m.es/wp-content/uploads/2025/03/Axel-Gottfries-e1741797691964.jpg
END:VEVENT
BEGIN:VEVENT
DTSTART;TZID=Europe/Helsinki:20250331T124500
DTEND;TZID=Europe/Helsinki:20250331T140000
DTSTAMP:20260425T180434
CREATED:20250312T164847Z
LAST-MODIFIED:20250312T164847Z
UID:9338-1743425100-1743429600@economia.uc3m.es
SUMMARY:Improved inference for nonparametric regression and regression-discontinuity designs
DESCRIPTION:Morten Nielsen\n(Aarhus University)\n  \n«Improved inference for nonparametric regression and regression-discontinuity designs»\n  \nFace-to-face Seminar – Room 15.1.39
URL:https://economia.uc3m.es/event/improved-inference-for-nonparametric-regression-and-regression-discontinuity-designs/
LOCATION:15.1.39
CATEGORIES:Seminario de A&E
ATTACH;FMTTYPE=image/jpeg:https://economia.uc3m.es/wp-content/uploads/2025/03/03-31-Morten-Nielsen-e1741798095969.jpg
END:VEVENT
END:VCALENDAR