BEGIN:VCALENDAR
VERSION:2.0
PRODID:-//Departamento de Economía Universidad Carlos III - ECPv6.15.19//NONSGML v1.0//EN
CALSCALE:GREGORIAN
METHOD:PUBLISH
X-ORIGINAL-URL:https://economia.uc3m.es
X-WR-CALDESC:Eventos para Departamento de Economía Universidad Carlos III
REFRESH-INTERVAL;VALUE=DURATION:PT1H
X-Robots-Tag:noindex
X-PUBLISHED-TTL:PT1H
BEGIN:VTIMEZONE
TZID:Europe/Helsinki
BEGIN:DAYLIGHT
TZOFFSETFROM:+0200
TZOFFSETTO:+0300
TZNAME:EEST
DTSTART:20230326T010000
END:DAYLIGHT
BEGIN:STANDARD
TZOFFSETFROM:+0300
TZOFFSETTO:+0200
TZNAME:EET
DTSTART:20231029T010000
END:STANDARD
BEGIN:DAYLIGHT
TZOFFSETFROM:+0200
TZOFFSETTO:+0300
TZNAME:EEST
DTSTART:20240331T010000
END:DAYLIGHT
BEGIN:STANDARD
TZOFFSETFROM:+0300
TZOFFSETTO:+0200
TZNAME:EET
DTSTART:20241027T010000
END:STANDARD
BEGIN:DAYLIGHT
TZOFFSETFROM:+0200
TZOFFSETTO:+0300
TZNAME:EEST
DTSTART:20250330T010000
END:DAYLIGHT
BEGIN:STANDARD
TZOFFSETFROM:+0300
TZOFFSETTO:+0200
TZNAME:EET
DTSTART:20251026T010000
END:STANDARD
END:VTIMEZONE
BEGIN:VEVENT
DTSTART;TZID=Europe/Helsinki:20241202T124500
DTEND;TZID=Europe/Helsinki:20241202T140000
DTSTAMP:20260425T024052
CREATED:20241126T121841Z
LAST-MODIFIED:20241127T121357Z
UID:8954-1733143500-1733148000@economia.uc3m.es
SUMMARY:(Not) Thinking about the Future: Inattention and Maternal Labor Supply
DESCRIPTION:Ana Costa-Ramón\n(University of Zurich)\n  \n«(Not) Thinking about the Future: Inattention and Maternal Labor Supply»\n  \nFace-to-face Seminar – Room 15.1.39
URL:https://economia.uc3m.es/event/not-thinking-about-the-future-inattention-and-maternal-labor-supply/
LOCATION:15.1.39
CATEGORIES:Seminario de A&E
ATTACH;FMTTYPE=image/jpeg:https://economia.uc3m.es/wp-content/uploads/2024/10/Ana-Costa-Ramon-e1732622953711.jpg
END:VEVENT
BEGIN:VEVENT
DTSTART;TZID=Europe/Helsinki:20241203T124500
DTEND;TZID=Europe/Helsinki:20241203T140000
DTSTAMP:20260425T024052
CREATED:20241126T124706Z
LAST-MODIFIED:20241126T133810Z
UID:8962-1733229900-1733234400@economia.uc3m.es
SUMMARY:Limit Orders and Knightian Uncertainty (joint work with Michael Greinecker)
DESCRIPTION:Christoph Kuzmics\n(University of Graz)\n  \n«Limit Orders and Knightian Uncertainty (joint work with Michael Greinecker)»\n  \nFace-to-face Seminar – Room 15.1.39
URL:https://economia.uc3m.es/event/limit-orders-and-knightian-uncertainty-joint-work-with-michael-greinecker/
LOCATION:15.1.39
CATEGORIES:Seminario de Microeconomía
ATTACH;FMTTYPE=image/jpeg:https://economia.uc3m.es/wp-content/uploads/2024/11/Christop-Kuzmics.jpg
END:VEVENT
BEGIN:VEVENT
DTSTART;TZID=Europe/Helsinki:20241205T124500
DTEND;TZID=Europe/Helsinki:20241205T140000
DTSTAMP:20260425T024052
CREATED:20241126T135926Z
LAST-MODIFIED:20241126T135926Z
UID:8971-1733402700-1733407200@economia.uc3m.es
SUMMARY:Floating population: migration with(out) family and the spatial distribution of economic activity" (joint with Imbert\, Monras\, Seror)
DESCRIPTION:Yanos Zylberberg\n(U. Bristol)\n  \n«Floating population: migration with(out) family and the spatial distribution of economic activity» (joint with Imbert\, Monras\, Seror)»\n  \nFace-to-face Seminar – Room 15.1.39
URL:https://economia.uc3m.es/event/floating-population-migration-without-family-and-the-spatial-distribution-of-economic-activity-joint-with-imbert-monras-seror/
LOCATION:15.1.39
CATEGORIES:Seminario de Macroeconomía
ATTACH;FMTTYPE=image/jpeg:https://economia.uc3m.es/wp-content/uploads/2024/11/Yanos-Zylberberg-e1732629444944.jpg
END:VEVENT
BEGIN:VEVENT
DTSTART;TZID=Europe/Helsinki:20241205T150000
DTEND;TZID=Europe/Helsinki:20241205T161500
DTSTAMP:20260425T024052
CREATED:20241127T114302Z
LAST-MODIFIED:20241127T114302Z
UID:8987-1733410800-1733415300@economia.uc3m.es
SUMMARY:The Effects of Intervening the Supply Side of Fraudulent Sick Leaves Market in Chile
DESCRIPTION:Pablo Celhay Balmaceda\n(PUC Chile)\n  \n«The Effects of Intervening the Supply Side of Fraudulent Sick Leaves Market in Chile»\n  \nFace-to-face Seminar – Room 9.1.07
URL:https://economia.uc3m.es/event/the-effects-of-intervening-the-supply-side-of-fraudulent-sick-leaves-market-in-chile/
LOCATION:9.1.07
CATEGORIES:Seminario de A&E
ATTACH;FMTTYPE=image/jpeg:https://economia.uc3m.es/wp-content/uploads/2024/11/Pablo_Celhay-e1732707703640.jpg
END:VEVENT
BEGIN:VEVENT
DTSTART;TZID=Europe/Helsinki:20241209T124500
DTEND;TZID=Europe/Helsinki:20241209T140000
DTSTAMP:20260425T024053
CREATED:20241202T131334Z
LAST-MODIFIED:20241202T131334Z
UID:8996-1733748300-1733752800@economia.uc3m.es
SUMMARY:Constructing fan charts from the ragged edge of SPF forecasts (joint with Todd E. Clark and Elmar Mertens)
DESCRIPTION:Gergely Ganics\n(Banco de España)\n  \n«Constructing fan charts from the ragged edge of SPF forecasts (joint with Todd E. Clark and Elmar Mertens)»\n  \nFace-to-face Seminar – Room 15.1.39
URL:https://economia.uc3m.es/event/constructing-fan-charts-from-the-ragged-edge-of-spf-forecasts-joint-with-todd-e-clark-and-elmar-mertens/
LOCATION:15.1.39
CATEGORIES:Seminario de A&E
ATTACH;FMTTYPE=image/jpeg:https://economia.uc3m.es/wp-content/uploads/2024/12/Gergely-Ganics-e1733145115441.jpg
END:VEVENT
END:VCALENDAR