BEGIN:VCALENDAR
VERSION:2.0
PRODID:-//Departamento de Economía Universidad Carlos III - ECPv6.15.19//NONSGML v1.0//EN
CALSCALE:GREGORIAN
METHOD:PUBLISH
X-WR-CALNAME:Departamento de Economía Universidad Carlos III
X-ORIGINAL-URL:https://economia.uc3m.es
X-WR-CALDESC:Eventos para Departamento de Economía Universidad Carlos III
REFRESH-INTERVAL;VALUE=DURATION:PT1H
X-Robots-Tag:noindex
X-PUBLISHED-TTL:PT1H
BEGIN:VTIMEZONE
TZID:Europe/Helsinki
BEGIN:DAYLIGHT
TZOFFSETFROM:+0200
TZOFFSETTO:+0300
TZNAME:EEST
DTSTART:20230326T010000
END:DAYLIGHT
BEGIN:STANDARD
TZOFFSETFROM:+0300
TZOFFSETTO:+0200
TZNAME:EET
DTSTART:20231029T010000
END:STANDARD
BEGIN:DAYLIGHT
TZOFFSETFROM:+0200
TZOFFSETTO:+0300
TZNAME:EEST
DTSTART:20240331T010000
END:DAYLIGHT
BEGIN:STANDARD
TZOFFSETFROM:+0300
TZOFFSETTO:+0200
TZNAME:EET
DTSTART:20241027T010000
END:STANDARD
BEGIN:DAYLIGHT
TZOFFSETFROM:+0200
TZOFFSETTO:+0300
TZNAME:EEST
DTSTART:20250330T010000
END:DAYLIGHT
BEGIN:STANDARD
TZOFFSETFROM:+0300
TZOFFSETTO:+0200
TZNAME:EET
DTSTART:20251026T010000
END:STANDARD
END:VTIMEZONE
BEGIN:VEVENT
DTSTART;TZID=Europe/Helsinki:20241001T124500
DTEND;TZID=Europe/Helsinki:20241001T140000
DTSTAMP:20260425T174852
CREATED:20240926T121205Z
LAST-MODIFIED:20240926T121205Z
UID:8556-1727786700-1727791200@economia.uc3m.es
SUMMARY:Dynamic One-Sided Matching
DESCRIPTION:Antonio Nicolo\n(University Manchester)\n  \n«Dynamic One-Sided Matching»\n  \nFace-to-face Seminar – Room 15.1.39
URL:https://economia.uc3m.es/event/dynamic-one-sided-matching/
LOCATION:15.1.39
CATEGORIES:Seminario de Microeconomía
ATTACH;FMTTYPE=image/jpeg:https://economia.uc3m.es/wp-content/uploads/2024/09/EmbeddedImage-e1727352208199.jpg
END:VEVENT
BEGIN:VEVENT
DTSTART;TZID=Europe/Helsinki:20241003T124500
DTEND;TZID=Europe/Helsinki:20241003T140000
DTSTAMP:20260425T174852
CREATED:20240926T123005Z
LAST-MODIFIED:20241002T072521Z
UID:8566-1727959500-1727964000@economia.uc3m.es
SUMMARY:Sovereing defaults at home and abroad
DESCRIPTION:Aitor Erce\n(UPNA)\n  \n«Sovereing defaults at home and abroad»\n  \nFace-to-face Seminar – Room 15.1.39
URL:https://economia.uc3m.es/event/aitor-erce/
LOCATION:15.1.39
CATEGORIES:Seminario de Macroeconomía
ATTACH;FMTTYPE=image/jpeg:https://economia.uc3m.es/wp-content/uploads/2024/09/aitor-erce-e1727353704154.jpg
END:VEVENT
BEGIN:VEVENT
DTSTART;TZID=Europe/Helsinki:20241007T124500
DTEND;TZID=Europe/Helsinki:20241007T140000
DTSTAMP:20260425T174852
CREATED:20241003T142136Z
LAST-MODIFIED:20241003T142136Z
UID:8671-1728305100-1728309600@economia.uc3m.es
SUMMARY:Innovation Powered Narrative Inference
DESCRIPTION:Geert Mesters\n(UPF)\n  \n«Innovation Powered Narrative Inference»\n  \nFace-to-face Seminar – Room 15.1.39
URL:https://economia.uc3m.es/event/innovation-powered-narrative-inference/
LOCATION:15.1.39
CATEGORIES:Seminario de A&E
ATTACH;FMTTYPE=image/jpeg:https://economia.uc3m.es/wp-content/uploads/2024/10/Geert-Mesters.jpg
END:VEVENT
BEGIN:VEVENT
DTSTART;TZID=Europe/Helsinki:20241008T124500
DTEND;TZID=Europe/Helsinki:20241008T140000
DTSTAMP:20260425T174852
CREATED:20241003T144435Z
LAST-MODIFIED:20241003T144435Z
UID:8677-1728391500-1728396000@economia.uc3m.es
SUMMARY:Regulating Spillovers in Teamwork
DESCRIPTION:Saltuk Ozerturk\n(SMU)\n  \n«Regulating Spillovers in Teamwork»\n  \nFace-to-face Seminar – Room 15.1.39
URL:https://economia.uc3m.es/event/regulating-spillovers-in-teamwork/
LOCATION:15.1.39
CATEGORIES:Seminario de Microeconomía
ATTACH;FMTTYPE=image/jpeg:https://economia.uc3m.es/wp-content/uploads/2024/10/Saltuk-Ozerturk-e1727966509953.jpg
END:VEVENT
BEGIN:VEVENT
DTSTART;TZID=Europe/Helsinki:20241014T124500
DTEND;TZID=Europe/Helsinki:20241014T140000
DTSTAMP:20260425T174852
CREATED:20241010T124737Z
LAST-MODIFIED:20241010T124737Z
UID:8708-1728909900-1728914400@economia.uc3m.es
SUMMARY:Time Horizons and the Dynamic Effects of Cost-Sharing in Medical Care: Evidence from Colombia
DESCRIPTION:Marcos Vera Hernández\n(UCL)\n  \n«Time Horizons and the Dynamic Effects of Cost-Sharing in Medical Care: Evidence from Colombia»\n  \nFace-to-face Seminar – Room 15.1.39
URL:https://economia.uc3m.es/event/time-horizons-and-the-dynamic-effects-of-cost-sharing-in-medical-care-evidence-from-colombia/
LOCATION:15.1.39
CATEGORIES:Seminario de A&E
ATTACH;FMTTYPE=image/jpeg:https://economia.uc3m.es/wp-content/uploads/2024/10/Marcos-Vera-Hernandez.jpg
END:VEVENT
BEGIN:VEVENT
DTSTART;TZID=Europe/Helsinki:20241017T124500
DTEND;TZID=Europe/Helsinki:20241017T140000
DTSTAMP:20260425T174852
CREATED:20241010T125434Z
LAST-MODIFIED:20241010T125434Z
UID:8714-1729169100-1729173600@economia.uc3m.es
SUMMARY:The Job Ladder\, Unemployment Risk\, and Incomplete Markets
DESCRIPTION:Alexander Clymo\n(ESSEX)\n  \n«The Job Ladder\, Unemployment Risk\, and Incomplete Markets»\n  \nFace-to-face Seminar – Room 15.1.39
URL:https://economia.uc3m.es/event/the-job-ladder-unemployment-risk-and-incomplete-markets/
LOCATION:15.1.39
CATEGORIES:Seminario de Macroeconomía
ATTACH;FMTTYPE=image/jpeg:https://economia.uc3m.es/wp-content/uploads/2024/10/Alex-Clymo-e1728564815254.jpg
END:VEVENT
BEGIN:VEVENT
DTSTART;TZID=Europe/Helsinki:20241021T124500
DTEND;TZID=Europe/Helsinki:20241021T140000
DTSTAMP:20260425T174852
CREATED:20241017T090918Z
LAST-MODIFIED:20241017T090918Z
UID:8727-1729514700-1729519200@economia.uc3m.es
SUMMARY:Classical Right\, New Right\, and Voting Behavior: Evidence from a Quasi-Natural Experiment
DESCRIPTION:Carlos Sanz\n(BDE)\n  \n«Classical Right\, New Right\, and Voting Behavior: Evidence from a Quasi-Natural Experiment»\n  \nFace-to-face Seminar – Room 15.1.39
URL:https://economia.uc3m.es/event/classical-right-new-right-and-voting-behavior-evidence-from-a-quasi-natural-experiment/
LOCATION:15.1.39
CATEGORIES:Seminario de A&E
ATTACH;FMTTYPE=image/jpeg:https://economia.uc3m.es/wp-content/uploads/2024/10/Carlos-Sanz-scaled-e1729155545205.jpg
END:VEVENT
BEGIN:VEVENT
DTSTART;TZID=Europe/Helsinki:20241022T124500
DTEND;TZID=Europe/Helsinki:20241022T140000
DTSTAMP:20260425T174852
CREATED:20241017T114130Z
LAST-MODIFIED:20241017T114130Z
UID:8733-1729601100-1729605600@economia.uc3m.es
SUMMARY:Strategic Attribute Learning
DESCRIPTION:Ludmila Matyskova\n(Universidad de Alicante)\n  \n«Strategic Attribute Learning»\n  \nFace-to-face Seminar – Room 15.1.39
URL:https://economia.uc3m.es/event/strategic-attribute-learning/
LOCATION:15.1.39
CATEGORIES:Seminario de Microeconomía
ATTACH;FMTTYPE=image/jpeg:https://economia.uc3m.es/wp-content/uploads/2024/10/Ludmila-Matyskova-e1729165183718.jpg
END:VEVENT
BEGIN:VEVENT
DTSTART;TZID=Europe/Helsinki:20241024T124500
DTEND;TZID=Europe/Helsinki:20241024T140000
DTSTAMP:20260425T174852
CREATED:20241017T121519Z
LAST-MODIFIED:20241017T121519Z
UID:8739-1729773900-1729778400@economia.uc3m.es
SUMMARY:Financial Frictions and the Market for Firms
DESCRIPTION:Federico Kochen\n(CEMFI)\n  \n«Financial Frictions and the Market for Firms»\n  \nFace-to-face Seminar – Room 15.1.39
URL:https://economia.uc3m.es/event/financial-frictions-and-the-market-for-firms/
LOCATION:15.1.39
CATEGORIES:Seminario de Macroeconomía
ATTACH;FMTTYPE=image/jpeg:https://economia.uc3m.es/wp-content/uploads/2024/10/Federico-Kochen-e1729167257458.jpg
END:VEVENT
BEGIN:VEVENT
DTSTART;TZID=Europe/Helsinki:20241028T124500
DTEND;TZID=Europe/Helsinki:20241028T140000
DTSTAMP:20260425T174852
CREATED:20241024T083511Z
LAST-MODIFIED:20241024T152524Z
UID:8747-1730119500-1730124000@economia.uc3m.es
SUMMARY:Wage Dynamics and Returns to Unobserved Skill
DESCRIPTION:Lance Lochner\n(UWO)\n  \n«Wage Dynamics and Returns to Unobserved Skill»\n  \nFace-to-face Seminar – Room 15.1.39
URL:https://economia.uc3m.es/event/lance-lochner-u-western-ontario/
LOCATION:15.1.39
CATEGORIES:Seminario de A&E
ATTACH;FMTTYPE=image/jpeg:https://economia.uc3m.es/wp-content/uploads/2024/10/Lance-Lochner-e1729758761507.jpg
END:VEVENT
BEGIN:VEVENT
DTSTART;TZID=Europe/Helsinki:20241029T124500
DTEND;TZID=Europe/Helsinki:20241029T140000
DTSTAMP:20260425T174852
CREATED:20241024T085759Z
LAST-MODIFIED:20241024T085759Z
UID:8755-1730205900-1730210400@economia.uc3m.es
SUMMARY:Informing to divert attention
DESCRIPTION:Margarita Kirneva\n(CUNEF)\n  \n«Informing to divert attention»\n  \nFace-to-face Seminar – Room 15.1.39
URL:https://economia.uc3m.es/event/informing-to-divert-attention/
LOCATION:15.1.39
CATEGORIES:Seminario de Microeconomía
ATTACH;FMTTYPE=image/jpeg:https://economia.uc3m.es/wp-content/uploads/2024/10/Margarita-Kirneva-e1729759773870.jpg
END:VEVENT
BEGIN:VEVENT
DTSTART;TZID=Europe/Helsinki:20241029T150000
DTEND;TZID=Europe/Helsinki:20241029T160000
DTSTAMP:20260425T174852
CREATED:20241024T093540Z
LAST-MODIFIED:20241024T151348Z
UID:8761-1730214000-1730217600@economia.uc3m.es
SUMMARY:Structure Learning and Property Testing in Graphical Models
DESCRIPTION:Gabor Lugosi\n(UPF)\n  \n«Structure Learning and Property Testing in Graphical Models»\n  \nFace-to-face Seminar – Room 15.0.05
URL:https://economia.uc3m.es/event/structure-learning-and-property-testing-in-graphical-models/
LOCATION:15.0.05
CATEGORIES:Seminario de A&E
ATTACH;FMTTYPE=image/jpeg:https://economia.uc3m.es/wp-content/uploads/2024/10/Lugosi-Foto-e1729762339283.jpg
END:VEVENT
BEGIN:VEVENT
DTSTART;TZID=Europe/Helsinki:20241031T124500
DTEND;TZID=Europe/Helsinki:20241031T140000
DTSTAMP:20260425T174852
CREATED:20241024T151736Z
LAST-MODIFIED:20241024T151736Z
UID:8774-1730378700-1730383200@economia.uc3m.es
SUMMARY:The Systematic Origins of Monetary Policy Shocks
DESCRIPTION:Klodiana Istrefi\n(Banque de France)\n  \n«The Systematic Origins of Monetary Policy Shocks»\n  \nFace-to-face Seminar – Room 15.1.39
URL:https://economia.uc3m.es/event/the-systematic-origins-of-monetary-policy-shocks/
LOCATION:15.1.39
CATEGORIES:Seminario de Macroeconomía
ATTACH;FMTTYPE=image/jpeg:https://economia.uc3m.es/wp-content/uploads/2024/10/20230724_Klodiana_Istrefi-AH-4476-1-e1729782973515.jpg
END:VEVENT
END:VCALENDAR