BEGIN:VCALENDAR
VERSION:2.0
PRODID:-//Departamento de Economía Universidad Carlos III - ECPv6.15.19//NONSGML v1.0//EN
CALSCALE:GREGORIAN
METHOD:PUBLISH
X-ORIGINAL-URL:https://economia.uc3m.es
X-WR-CALDESC:Eventos para Departamento de Economía Universidad Carlos III
REFRESH-INTERVAL;VALUE=DURATION:PT1H
X-Robots-Tag:noindex
X-PUBLISHED-TTL:PT1H
BEGIN:VTIMEZONE
TZID:Europe/Helsinki
BEGIN:DAYLIGHT
TZOFFSETFROM:+0200
TZOFFSETTO:+0300
TZNAME:EEST
DTSTART:20230326T010000
END:DAYLIGHT
BEGIN:STANDARD
TZOFFSETFROM:+0300
TZOFFSETTO:+0200
TZNAME:EET
DTSTART:20231029T010000
END:STANDARD
BEGIN:DAYLIGHT
TZOFFSETFROM:+0200
TZOFFSETTO:+0300
TZNAME:EEST
DTSTART:20240331T010000
END:DAYLIGHT
BEGIN:STANDARD
TZOFFSETFROM:+0300
TZOFFSETTO:+0200
TZNAME:EET
DTSTART:20241027T010000
END:STANDARD
BEGIN:DAYLIGHT
TZOFFSETFROM:+0200
TZOFFSETTO:+0300
TZNAME:EEST
DTSTART:20250330T010000
END:DAYLIGHT
BEGIN:STANDARD
TZOFFSETFROM:+0300
TZOFFSETTO:+0200
TZNAME:EET
DTSTART:20251026T010000
END:STANDARD
END:VTIMEZONE
BEGIN:VEVENT
DTSTART;TZID=Europe/Helsinki:20240910T124500
DTEND;TZID=Europe/Helsinki:20240910T140000
DTSTAMP:20260425T001029
CREATED:20240903T095441Z
LAST-MODIFIED:20240904T074100Z
UID:8455-1725972300-1725976800@economia.uc3m.es
SUMMARY:Undergraduate Course Allocation through Competitive Markets
DESCRIPTION:Alexey Kushnir\n(CMU)\n  \n«Undergraduate Course Allocation through Competitive Markets»\n  \nFace-to-face Seminar – Room 15.1.39
URL:https://economia.uc3m.es/event/undergraduate-course-allocation-through-competitive-markets-2/
LOCATION:15.1.39
CATEGORIES:Seminario de Microeconomía
ATTACH;FMTTYPE=image/jpeg:https://economia.uc3m.es/wp-content/uploads/2024/09/Alexey-Kushnir.jpg
END:VEVENT
BEGIN:VEVENT
DTSTART;TZID=Europe/Helsinki:20240917T124500
DTEND;TZID=Europe/Helsinki:20240917T140000
DTSTAMP:20260425T001029
CREATED:20240903T100925Z
LAST-MODIFIED:20240910T102150Z
UID:8462-1726577100-1726581600@economia.uc3m.es
SUMMARY:Knowledge Transfers\, joint with Doruk Cetemen\, Tatiana Mayskaya\, and Arina Nikandrova
DESCRIPTION:Chiara Margaria\n(Boston U)\n  \n«Knowledge Transfers\, joint with Doruk Cetemen\, Tatiana Mayskaya\, and Arina Nikandrova»\n  \nFace-to-face Seminar – Room 15.1.39
URL:https://economia.uc3m.es/event/tba-147/
LOCATION:15.1.39
CATEGORIES:Seminario de Microeconomía
ATTACH;FMTTYPE=image/jpeg:https://economia.uc3m.es/wp-content/uploads/2024/09/Chiara-Margaria-e1725358070549.jpg
END:VEVENT
BEGIN:VEVENT
DTSTART;TZID=Europe/Helsinki:20240923T124500
DTEND;TZID=Europe/Helsinki:20240923T140000
DTSTAMP:20260425T001029
CREATED:20240919T150509Z
LAST-MODIFIED:20240919T150509Z
UID:8537-1727095500-1727100000@economia.uc3m.es
SUMMARY:Beyond the War on Drugs: Portugal’s Drug Decriminalization Reform and the Retornados Migration
DESCRIPTION:Antonio de Araujo Laplana\n(Tilburg University)\n  \n«Beyond the War on Drugs: Portugal’s Drug Decriminalization Reform and the Retornados Migration»\n  \nFace-to-face Seminar – Room 15.1.39
URL:https://economia.uc3m.es/event/beyond-the-war-on-drugs-portugals-drug-decriminalization-reform-and-the-retornados-migration/
LOCATION:15.1.39
CATEGORIES:Seminario de A&E
ATTACH;FMTTYPE=image/webp:https://economia.uc3m.es/wp-content/uploads/2024/09/Capture5.webp
END:VEVENT
BEGIN:VEVENT
DTSTART;TZID=Europe/Helsinki:20240924T124500
DTEND;TZID=Europe/Helsinki:20240924T140000
DTSTAMP:20260425T001029
CREATED:20240904T080607Z
LAST-MODIFIED:20240919T152233Z
UID:8480-1727181900-1727186400@economia.uc3m.es
SUMMARY:Behavioral Mechanism Design as a Benchmark for Experimental Studies
DESCRIPTION:David K. Levine\n(Royal Holloway)\n\nFace-to-face Seminar – Room 15.1.39
URL:https://economia.uc3m.es/event/tba-148/
LOCATION:15.1.39
CATEGORIES:Seminario de Microeconomía
ATTACH;FMTTYPE=image/jpeg:https://economia.uc3m.es/wp-content/uploads/2024/09/David-K-Levine.jpg
END:VEVENT
BEGIN:VEVENT
DTSTART;TZID=Europe/Helsinki:20240925T124500
DTEND;TZID=Europe/Helsinki:20240925T140000
DTSTAMP:20260425T001029
CREATED:20240904T082939Z
LAST-MODIFIED:20240919T153436Z
UID:8467-1727268300-1727272800@economia.uc3m.es
SUMMARY:Corrupt Voting: Information and Electoral Accountability joint work with David K. Levine (Royal Holloway) and Federico Weinschelbaum (from Universidad Torcuato di Tella\, Argentina)
DESCRIPTION:Felipe Zurita\n(U. Chile)\n  \n«Corrupt Voting: Information and Electoral Accountability\, joint work with David K. Levine (Royal Holloway) and Federico Weinschelbaum (from Universidad Torcuato di Tella\, Argentina)»\n  \nFace-to-face Seminar – Room 15.1.39
URL:https://economia.uc3m.es/event/corrupt-voting-information-and-electoral-accountability-joint-work-with-david-k-levine-royal-holloway-and-federico-weinschelbaum-from-universidad-torcuato-di-tella-argentina/
LOCATION:15.1.39
CATEGORIES:Seminario de Microeconomía
ATTACH;FMTTYPE=image/jpeg:https://economia.uc3m.es/wp-content/uploads/2024/09/Felipe-Zurita-e1726760054461.jpg
END:VEVENT
BEGIN:VEVENT
DTSTART;TZID=Europe/Helsinki:20240926T124500
DTEND;TZID=Europe/Helsinki:20240926T140000
DTSTAMP:20260425T001029
CREATED:20240904T092032Z
LAST-MODIFIED:20240919T153334Z
UID:8506-1727354700-1727359200@economia.uc3m.es
SUMMARY:Consumer Debt Moratoria
DESCRIPTION:Yasin Kursat Onder\n(Ghent)\n  \n«Consumer Debt Moratoria»\n  \nFace-to-face Seminar – Room 15.1.39
URL:https://economia.uc3m.es/event/yasin-kursat-onder/
LOCATION:15.1.39
CATEGORIES:Seminario de Macroeconomía
ATTACH;FMTTYPE=image/jpeg:https://economia.uc3m.es/wp-content/uploads/2024/09/Yasin-Kursat-Onder-e1726759973870.jpg
END:VEVENT
BEGIN:VEVENT
DTSTART;TZID=Europe/Helsinki:20240930T124500
DTEND;TZID=Europe/Helsinki:20240930T140000
DTSTAMP:20260425T001029
CREATED:20240904T085039Z
LAST-MODIFIED:20240919T153524Z
UID:8499-1727700300-1727704800@economia.uc3m.es
SUMMARY:How do migrants and natives search for jobs?” joint with Marion Brouard\, Lena Hensvik and Thomas Le Barbanchon
DESCRIPTION:Roland Rathelot \n(ENSAE)\n  \n«How do migrants and natives search for jobs?” joint with Marion Brouard\, Lena Hensvik and Thomas Le Barbanchon»\n  \nFace-to-face Seminar – Room 15.1.39
URL:https://economia.uc3m.es/event/how-do-migrants-and-natives-search-for-jobs-joint-with-marion-brouard-lena-hensvik-and-thomas-le-barbanchon/
LOCATION:15.1.39
CATEGORIES:Seminario de A&E
ATTACH;FMTTYPE=image/jpeg:https://economia.uc3m.es/wp-content/uploads/2024/09/ROLAND-RATHELOT-e1726057796165.jpg
END:VEVENT
END:VCALENDAR