BEGIN:VCALENDAR
VERSION:2.0
PRODID:-//Departamento de Economía Universidad Carlos III - ECPv6.15.19//NONSGML v1.0//EN
CALSCALE:GREGORIAN
METHOD:PUBLISH
X-ORIGINAL-URL:https://economia.uc3m.es
X-WR-CALDESC:Eventos para Departamento de Economía Universidad Carlos III
REFRESH-INTERVAL;VALUE=DURATION:PT1H
X-Robots-Tag:noindex
X-PUBLISHED-TTL:PT1H
BEGIN:VTIMEZONE
TZID:Europe/Helsinki
BEGIN:DAYLIGHT
TZOFFSETFROM:+0200
TZOFFSETTO:+0300
TZNAME:EEST
DTSTART:20230326T010000
END:DAYLIGHT
BEGIN:STANDARD
TZOFFSETFROM:+0300
TZOFFSETTO:+0200
TZNAME:EET
DTSTART:20231029T010000
END:STANDARD
BEGIN:DAYLIGHT
TZOFFSETFROM:+0200
TZOFFSETTO:+0300
TZNAME:EEST
DTSTART:20240331T010000
END:DAYLIGHT
BEGIN:STANDARD
TZOFFSETFROM:+0300
TZOFFSETTO:+0200
TZNAME:EET
DTSTART:20241027T010000
END:STANDARD
BEGIN:DAYLIGHT
TZOFFSETFROM:+0200
TZOFFSETTO:+0300
TZNAME:EEST
DTSTART:20250330T010000
END:DAYLIGHT
BEGIN:STANDARD
TZOFFSETFROM:+0300
TZOFFSETTO:+0200
TZNAME:EET
DTSTART:20251026T010000
END:STANDARD
END:VTIMEZONE
BEGIN:VEVENT
DTSTART;TZID=Europe/Helsinki:20240603T124500
DTEND;TZID=Europe/Helsinki:20240603T140000
DTSTAMP:20260425T210854
CREATED:20240531T123246Z
LAST-MODIFIED:20240531T123246Z
UID:8285-1717418700-1717423200@economia.uc3m.es
SUMMARY:Mafia\, Politics and Machine Predictions
DESCRIPTION:Gianmarco Daniele\n(U. Milan/Bocconi)\n  \n«Mafia\, Politics and Machine Predictions»\n  \nFace-to-face Seminar – Room 15.1.39
URL:https://economia.uc3m.es/event/mafia-politics-and-machine-predictions/
LOCATION:15.1.39
CATEGORIES:Seminario de A&E
ATTACH;FMTTYPE=image/jpeg:https://economia.uc3m.es/wp-content/uploads/2024/05/gianmarcao-danie-e1717158553716.jpg
END:VEVENT
BEGIN:VEVENT
DTSTART;TZID=Europe/Helsinki:20240603T150000
DTEND;TZID=Europe/Helsinki:20240603T161500
DTSTAMP:20260425T210854
CREATED:20240531T124525Z
LAST-MODIFIED:20240531T131550Z
UID:8291-1717426800-1717431300@economia.uc3m.es
SUMMARY:Common Trends and Long-Run Multipliers in Nonlinear Structural VARs
DESCRIPTION:James Duffy\n(Oxford)\n  \n«Common Trends and Long-Run Multipliers in Nonlinear Structural VARs»\n  \nFace-to-face Seminar – Room 15.1.39
URL:https://economia.uc3m.es/event/common-trends-and-long-run-multipliers-in-nonlinear-structural-vars/
LOCATION:15.1.39
CATEGORIES:Seminario de A&E
ATTACH;FMTTYPE=image/jpeg:https://economia.uc3m.es/wp-content/uploads/2024/05/james_duffy.jpg
END:VEVENT
BEGIN:VEVENT
DTSTART;TZID=Europe/Helsinki:20240604T124500
DTEND;TZID=Europe/Helsinki:20240604T140000
DTSTAMP:20260425T210854
CREATED:20240531T125357Z
LAST-MODIFIED:20240603T112952Z
UID:8297-1717505100-1717509600@economia.uc3m.es
SUMMARY:Parental Leave: Economic Incentives and Cultural Change"
DESCRIPTION:Raquel Fernández\n(NYU)\n  \n«Parental Leave: Economic Incentives and Cultural Change«\n  \nFace-to-face Seminar – Room 15.1.39
URL:https://economia.uc3m.es/event/parental-leave-economic-incentives-and-cultural-change/
LOCATION:15.1.39
CATEGORIES:Seminario de A&E,Seminario de Econometría
ATTACH;FMTTYPE=image/jpeg:https://economia.uc3m.es/wp-content/uploads/2024/05/Raquel-Fernandez_2-e1717159949145.jpg
END:VEVENT
BEGIN:VEVENT
DTSTART;TZID=Europe/Helsinki:20240610T124500
DTEND;TZID=Europe/Helsinki:20240610T140000
DTSTAMP:20260425T210854
CREATED:20240603T145527Z
LAST-MODIFIED:20240606T091238Z
UID:8317-1718023500-1718028000@economia.uc3m.es
SUMMARY:Financial Security\, Climate Shocks and Social Cohesion
DESCRIPTION:Sandra Sequeira\n(LSE)\n  \n«Financial Security\, Climate Shocks and Social Cohesion»\n  \nFace-to-face Seminar – Room 15.1.39
URL:https://economia.uc3m.es/event/sandra-sequeira/
LOCATION:15.1.39
CATEGORIES:Seminario de A&E
ATTACH;FMTTYPE=image/jpeg:https://economia.uc3m.es/wp-content/uploads/2024/06/SANDRA-SEQUEIRA-e1717760392326.jpg
END:VEVENT
BEGIN:VEVENT
DTSTART;TZID=Europe/Helsinki:20240613T124500
DTEND;TZID=Europe/Helsinki:20240613T161500
DTSTAMP:20260425T210854
CREATED:20240606T134451Z
LAST-MODIFIED:20240613T092612Z
UID:8351-1718282700-1718295300@economia.uc3m.es
SUMMARY:PhD Student Workshop - Applied Economics
DESCRIPTION:Applied Economics Session\n  \nROOM 15.1.39\n  \nChair: Jesús Fernández-Huertas\n\n  \n12:45-13:00 – Gema Pomares – Parenting and noncognitive skills\n13:00-13:15 – Andrea del Pizzo – Multiplicity in Intergenerational Transmission? Lessons from Surnames.\n13:15-13:35 – Oleksandra Cheipesh – “Just” the Flu? Examining Externality Benefits of Influenza Vaccination in the Labor Market.\n13:35-13:55 – Runyang Wang – Optimal Search With Multiple Alternatives.\n—\nLUNCH BREAK: 14:00 – 15:00 (Common Room 15.1.47)\n—\n15:15-15:35 – María Gertrudis Fernández – Minimum Wage and the Integration of Immigrants.\n15:35-15:55 – Carmela Accettura  – TBA.\n15:55-16:15 – Irem Saglamdemir- Childhood War Exposure and the Long-run Gender Norms: Evidence from the WWII.
URL:https://economia.uc3m.es/event/phd-student-workshop-applied-economics-6/
LOCATION:15.1.39
CATEGORIES:PhD Student Workshop
END:VEVENT
BEGIN:VEVENT
DTSTART;TZID=Europe/Helsinki:20240614T113000
DTEND;TZID=Europe/Helsinki:20240614T130500
DTSTAMP:20260425T210854
CREATED:20240606T133235Z
LAST-MODIFIED:20240613T095223Z
UID:8348-1718364600-1718370300@economia.uc3m.es
SUMMARY:PhD Student Workshop - Macroeconomics Session
DESCRIPTION:Macroeconomics Session\n  \nChair: Felix Wellschmied\n  \nROOM 15.1.39\n11:30-11:45  – Bohdan Kalinichenko – Property Taxation Under Heterogeneous Returns .\n11:45 -12:05 – Sofía Sánchez  – The real effects of climate volatility shocks.\n12:05 -12:35 – Oscar Jaulín – Investment shocks and oil prices.\n12:35 -13:05 – Anastasis Koufakis – Wealth-Age dynamics\, the housing cycle and the Recession in Spain.
URL:https://economia.uc3m.es/event/phd-student-workshop-macroeconomics-session-6/
LOCATION:15.1.39
CATEGORIES:PhD Student Workshop
END:VEVENT
BEGIN:VEVENT
DTSTART;TZID=Europe/Helsinki:20240617T124500
DTEND;TZID=Europe/Helsinki:20240617T140000
DTSTAMP:20260425T210854
CREATED:20240603T150854Z
LAST-MODIFIED:20240605T085317Z
UID:8323-1718628300-1718632800@economia.uc3m.es
SUMMARY:Optimal Urban Transportation Policy: Evidence from Chicago
DESCRIPTION:Milena Almagro\n(Chicago Booth)\n  \n«Optimal Urban Transportation Policy: Evidence from Chicago»\n  \nFace-to-face Seminar – Room 15.1.39
URL:https://economia.uc3m.es/event/milena-almagro-2/
LOCATION:15.1.39
CATEGORIES:Seminario de A&E
ATTACH;FMTTYPE=image/jpeg:https://economia.uc3m.es/wp-content/uploads/2024/06/Milena-Almagro-e1717427170399.jpg
END:VEVENT
END:VCALENDAR