BEGIN:VCALENDAR
VERSION:2.0
PRODID:-//Departamento de Economía Universidad Carlos III - ECPv6.15.19//NONSGML v1.0//EN
CALSCALE:GREGORIAN
METHOD:PUBLISH
X-ORIGINAL-URL:https://economia.uc3m.es
X-WR-CALDESC:Eventos para Departamento de Economía Universidad Carlos III
REFRESH-INTERVAL;VALUE=DURATION:PT1H
X-Robots-Tag:noindex
X-PUBLISHED-TTL:PT1H
BEGIN:VTIMEZONE
TZID:Europe/Helsinki
BEGIN:DAYLIGHT
TZOFFSETFROM:+0200
TZOFFSETTO:+0300
TZNAME:EEST
DTSTART:20230326T010000
END:DAYLIGHT
BEGIN:STANDARD
TZOFFSETFROM:+0300
TZOFFSETTO:+0200
TZNAME:EET
DTSTART:20231029T010000
END:STANDARD
BEGIN:DAYLIGHT
TZOFFSETFROM:+0200
TZOFFSETTO:+0300
TZNAME:EEST
DTSTART:20240331T010000
END:DAYLIGHT
BEGIN:STANDARD
TZOFFSETFROM:+0300
TZOFFSETTO:+0200
TZNAME:EET
DTSTART:20241027T010000
END:STANDARD
BEGIN:DAYLIGHT
TZOFFSETFROM:+0200
TZOFFSETTO:+0300
TZNAME:EEST
DTSTART:20250330T010000
END:DAYLIGHT
BEGIN:STANDARD
TZOFFSETFROM:+0300
TZOFFSETTO:+0200
TZNAME:EET
DTSTART:20251026T010000
END:STANDARD
END:VTIMEZONE
BEGIN:VEVENT
DTSTART;TZID=Europe/Helsinki:20240506T124500
DTEND;TZID=Europe/Helsinki:20240506T140000
DTSTAMP:20260425T190600
CREATED:20240425T084611Z
LAST-MODIFIED:20240425T085002Z
UID:8177-1714999500-1715004000@economia.uc3m.es
SUMMARY:How does Legal Context Shape Reasoning in High-Stakes Decisions? Evidence from Parole Commissioner Responses to the Introduction of Marsy's Law
DESCRIPTION:Brendon McConnell\n(City University of London)\n  \n«How does Legal Context Shape Reasoning in High-Stakes Decisions? Evidence from Parole Commissioner Responses to the Introduction of Marsy’s Law»\n  \nFace-to-face Seminar – Room 15.1.39
URL:https://economia.uc3m.es/event/how-does-legal-context-shape-reasoning-in-high-stakes-decisions-evidence-from-parole-commissioner-responses-to-the-introduction-of-marsys-law/
LOCATION:15.1.39
CATEGORIES:Seminario de A&E
END:VEVENT
BEGIN:VEVENT
DTSTART;TZID=Europe/Helsinki:20240507T124500
DTEND;TZID=Europe/Helsinki:20240507T140000
DTSTAMP:20260425T190600
CREATED:20240425T094454Z
LAST-MODIFIED:20240425T144447Z
UID:8184-1715085900-1715090400@economia.uc3m.es
SUMMARY:Comparative statics with adjustment costs and the le Chatelier principle
DESCRIPTION:Ludvig Sinander\n(Oxford)\n  \n«Comparative statics with adjustment costs and the le Chatelier principle»\n  \nFace-to-face Seminar – Room 15.1.39
URL:https://economia.uc3m.es/event/ludvig-sinander/
LOCATION:15.1.39
CATEGORIES:Seminario de Microeconomía
ATTACH;FMTTYPE=image/jpeg:https://economia.uc3m.es/wp-content/uploads/2024/04/ludvig-sinander-e1714038261630.jpg
END:VEVENT
BEGIN:VEVENT
DTSTART;TZID=Europe/Helsinki:20240508T124500
DTEND;TZID=Europe/Helsinki:20240508T140000
DTSTAMP:20260425T190600
CREATED:20240430T135042Z
LAST-MODIFIED:20240508T085844Z
UID:8193-1715172300-1715176800@economia.uc3m.es
SUMMARY:Status Classification by Lottery Contests
DESCRIPTION:Aner Sela\n(Ben-Gurion University of the Negev)\n  \n«Status Classification by Lottery Contests»\n  \nFace-to-face Seminar – Room 15.1.39
URL:https://economia.uc3m.es/event/status-classification-by-lottery-contests/
LOCATION:15.1.39
CATEGORIES:Seminario I.I.D.
ATTACH;FMTTYPE=image/webp:https://economia.uc3m.es/wp-content/uploads/2024/04/aner-sela.webp
END:VEVENT
BEGIN:VEVENT
DTSTART;TZID=Europe/Helsinki:20240510T124500
DTEND;TZID=Europe/Helsinki:20240510T140000
DTSTAMP:20260425T190600
CREATED:20240430T135947Z
LAST-MODIFIED:20240507T101644Z
UID:8196-1715345100-1715349600@economia.uc3m.es
SUMMARY:Profit Shifting Frictions and the Geography of Multinational Activity
DESCRIPTION:Alessandro Ferrari\n(Zurich)\n  \n«Profit Shifting Frictions and the Geography of Multinational Activity»\n  \nFace-to-face Seminar – Room 15.1.39
URL:https://economia.uc3m.es/event/alessandro-ferrari/
LOCATION:15.1.39
CATEGORIES:Seminario de Macroeconomía
ATTACH;FMTTYPE=image/jpeg:https://economia.uc3m.es/wp-content/uploads/2024/04/Alessandro-Ferrari-e1715076918129.jpg
END:VEVENT
BEGIN:VEVENT
DTSTART;TZID=Europe/Helsinki:20240513T124500
DTEND;TZID=Europe/Helsinki:20240513T140000
DTSTAMP:20260425T190600
CREATED:20240507T095202Z
LAST-MODIFIED:20240507T102224Z
UID:8206-1715604300-1715608800@economia.uc3m.es
SUMMARY:Effect of Initial Location Assignment on Health of Asylum Seekers
DESCRIPTION:Shobhit Kulshreshtha\n(Tilburg University)\n  \n«Effect of Initial Location Assignment on Health of Asylum Seekers»\n  \nFace-to-face Seminar – Room 15.1.39
URL:https://economia.uc3m.es/event/shobhit-kulshreshtha/
LOCATION:15.1.39
CATEGORIES:Seminario de A&E,Seminario de Enter
ATTACH;FMTTYPE=image/jpeg:https://economia.uc3m.es/wp-content/uploads/2024/05/Shobhit-Kulshreshtha-e1715075480511.jpg
END:VEVENT
BEGIN:VEVENT
DTSTART;TZID=Europe/Helsinki:20240514T124500
DTEND;TZID=Europe/Helsinki:20240514T140000
DTSTAMP:20260425T190600
CREATED:20240507T121251Z
LAST-MODIFIED:20240510T130448Z
UID:8213-1715690700-1715695200@economia.uc3m.es
SUMMARY:Misinterpreting Yourself
DESCRIPTION:Paul Heidhues\n(DICE)\n  \n«Misinterpreting Yourself»\n  \nFace-to-face Seminar – Room 15.1.39
URL:https://economia.uc3m.es/event/paul-heidhues/
LOCATION:15.1.39
CATEGORIES:Seminario de Microeconomía
ATTACH;FMTTYPE=image/jpeg:https://economia.uc3m.es/wp-content/uploads/2024/05/PAUL-HEIDHUES-scaled-e1715083937409.jpg
END:VEVENT
BEGIN:VEVENT
DTSTART;TZID=Europe/Helsinki:20240516T124500
DTEND;TZID=Europe/Helsinki:20240516T140000
DTSTAMP:20260425T190600
CREATED:20240507T124344Z
LAST-MODIFIED:20240507T124344Z
UID:8219-1715863500-1715868000@economia.uc3m.es
SUMMARY:Luigi Iovino
DESCRIPTION:Luigi Iovino\n(Bocconi University)\n  \n«TBA»\n  \nFace-to-face Seminar – Room 15.1.39
URL:https://economia.uc3m.es/event/luigi-iovino/
LOCATION:15.1.39
CATEGORIES:Seminario de Macroeconomía
ATTACH;FMTTYPE=image/jpeg:https://economia.uc3m.es/wp-content/uploads/2024/05/LUIGI-IOVINO-e1715085807678.jpg
END:VEVENT
BEGIN:VEVENT
DTSTART;TZID=Europe/Helsinki:20240521T124500
DTEND;TZID=Europe/Helsinki:20240521T140000
DTSTAMP:20260425T190600
CREATED:20240514T130451Z
LAST-MODIFIED:20240515T144803Z
UID:8233-1716295500-1716300000@economia.uc3m.es
SUMMARY:Adverse selection and training
DESCRIPTION:Raphaël Levy\n(HEC)\n  \n«Adverse selection and training»\n  \nFace-to-face Seminar – Room 15.1.39
URL:https://economia.uc3m.es/event/adverse-selection-and-training/
LOCATION:15.1.39
CATEGORIES:Seminario de Microeconomía
ATTACH;FMTTYPE=image/jpeg:https://economia.uc3m.es/wp-content/uploads/2024/05/Raphael-Levy-HEC.jpg
END:VEVENT
BEGIN:VEVENT
DTSTART;TZID=Europe/Helsinki:20240523T124500
DTEND;TZID=Europe/Helsinki:20240523T140000
DTSTAMP:20260425T190600
CREATED:20240515T152618Z
LAST-MODIFIED:20240522T123314Z
UID:8241-1716468300-1716472800@economia.uc3m.es
SUMMARY:Capital Flows and Exchange Rates: a Quantitative Assessment of the Dilemma Hypothesis
DESCRIPTION:Andrea Ferrero\n(Oxford)\n  \n«Capital Flows and Exchange Rates: a Quantitative Assessment of the Dilemma Hypothesis»\n  \nFace-to-face Seminar – Room 15.1.39
URL:https://economia.uc3m.es/event/andrea-ferrero/
LOCATION:15.1.39
CATEGORIES:Seminario de Macroeconomía
ATTACH;FMTTYPE=image/jpeg:https://economia.uc3m.es/wp-content/uploads/2024/05/ANDREA-FERRERO.jpg
END:VEVENT
BEGIN:VEVENT
DTSTART;TZID=Europe/Helsinki:20240524T124500
DTEND;TZID=Europe/Helsinki:20240524T140000
DTSTAMP:20260425T190600
CREATED:20240515T160657Z
LAST-MODIFIED:20240522T123634Z
UID:8245-1716554700-1716559200@economia.uc3m.es
SUMMARY:Asset Specificity and Inefficient Bargaining: Theory and Evidence from Television Shows
DESCRIPTION:Luis Cabral\n(NYU)\n  \n«Asset Specificity and Inefficient Bargaining: Theory and Evidence from Television Shows»\n  \nFace-to-face Seminar – Room 15.1.39
URL:https://economia.uc3m.es/event/luis-cabral/
LOCATION:15.1.39
CATEGORIES:Seminario de Microeconomía
ATTACH;FMTTYPE=image/jpeg:https://economia.uc3m.es/wp-content/uploads/2024/05/luis-cabral-scaled-e1715789211467.jpg
END:VEVENT
BEGIN:VEVENT
DTSTART;TZID=Europe/Helsinki:20240527T124500
DTEND;TZID=Europe/Helsinki:20240527T140000
DTSTAMP:20260425T190600
CREATED:20240524T093506Z
LAST-MODIFIED:20240524T093506Z
UID:8254-1716813900-1716818400@economia.uc3m.es
SUMMARY:Safeguarding Consumers Through Minimum. Quality Standards: Milk Inspections and Urban Mortality\, 1880-1910
DESCRIPTION:Mark Anderson\n(Montana State U)\n  \n«Safeguarding Consumers Through Minimum. Quality Standards: Milk Inspections and Urban Mortality\, 1880-1910»\n  \nFace-to-face Seminar – Room 15.1.39
URL:https://economia.uc3m.es/event/safeguarding-consumers-through-minimum-quality-standards-milk-inspections-and-urban-mortality-1880-1910/
LOCATION:15.1.39
CATEGORIES:Seminario de A&E
ATTACH;FMTTYPE=image/jpeg:https://economia.uc3m.es/wp-content/uploads/2024/05/Mark-Anderson-Montana-State-U-e1716543280616.jpg
END:VEVENT
BEGIN:VEVENT
DTSTART;TZID=Europe/Helsinki:20240528T124500
DTEND;TZID=Europe/Helsinki:20240528T140000
DTSTAMP:20260425T190600
CREATED:20240524T094500Z
LAST-MODIFIED:20240524T094500Z
UID:8260-1716900300-1716904800@economia.uc3m.es
SUMMARY:Subjective Causality
DESCRIPTION:Heidi Thysen\n(NYU)\n  \n«Subjective Causality»\n  \nFace-to-face Seminar – Room 15.1.39
URL:https://economia.uc3m.es/event/subjective-causality/
LOCATION:15.1.39
CATEGORIES:Seminario de Microeconomía
ATTACH;FMTTYPE=image/webp:https://economia.uc3m.es/wp-content/uploads/2024/05/heidithysen-e1716543845833.webp
END:VEVENT
BEGIN:VEVENT
DTSTART;TZID=Europe/Helsinki:20240529T124500
DTEND;TZID=Europe/Helsinki:20240529T140000
DTSTAMP:20260425T190600
CREATED:20240524T095215Z
LAST-MODIFIED:20240524T100334Z
UID:8266-1716986700-1716991200@economia.uc3m.es
SUMMARY:Some Recent Results on Heteroskedasticity and Autocorrelation Robust Inference
DESCRIPTION:Alessandro Casini\n(Rome)\n  \n«Some Recent Results on Heteroskedasticity and Autocorrelation Robust Inference»\n  \nFace-to-face Seminar – Room 15.1.39
URL:https://economia.uc3m.es/event/some-recent-results-on-heteroskedasticity-and-autocorrelation-robust-inference/
LOCATION:15.1.39
CATEGORIES:Seminario de A&E
ATTACH;FMTTYPE=image/webp:https://economia.uc3m.es/wp-content/uploads/2024/05/alessandro-casini-e1716544279705.webp
END:VEVENT
BEGIN:VEVENT
DTSTART;TZID=Europe/Helsinki:20240530T124500
DTEND;TZID=Europe/Helsinki:20240530T140000
DTSTAMP:20260425T190600
CREATED:20240524T100607Z
LAST-MODIFIED:20240524T100607Z
UID:8273-1717073100-1717077600@economia.uc3m.es
SUMMARY:Asset Demand and Real Interest Rates
DESCRIPTION:Paul Beaudry\n(UBC)\n  \n«Asset Demand and Real Interest Rates«\n  \nFace-to-face Seminar – Room 15.1.39
URL:https://economia.uc3m.es/event/asset-demand-and-real-interest-rates/
LOCATION:15.1.39
CATEGORIES:Seminario de Macroeconomía
ATTACH;FMTTYPE=image/jpeg:https://economia.uc3m.es/wp-content/uploads/2024/05/paul-beaudry-e1716545143599.jpg
END:VEVENT
END:VCALENDAR