BEGIN:VCALENDAR
VERSION:2.0
PRODID:-//Departamento de Economía Universidad Carlos III - ECPv6.15.19//NONSGML v1.0//EN
CALSCALE:GREGORIAN
METHOD:PUBLISH
X-ORIGINAL-URL:https://economia.uc3m.es
X-WR-CALDESC:Eventos para Departamento de Economía Universidad Carlos III
REFRESH-INTERVAL;VALUE=DURATION:PT1H
X-Robots-Tag:noindex
X-PUBLISHED-TTL:PT1H
BEGIN:VTIMEZONE
TZID:Europe/Helsinki
BEGIN:DAYLIGHT
TZOFFSETFROM:+0200
TZOFFSETTO:+0300
TZNAME:EEST
DTSTART:20230326T010000
END:DAYLIGHT
BEGIN:STANDARD
TZOFFSETFROM:+0300
TZOFFSETTO:+0200
TZNAME:EET
DTSTART:20231029T010000
END:STANDARD
BEGIN:DAYLIGHT
TZOFFSETFROM:+0200
TZOFFSETTO:+0300
TZNAME:EEST
DTSTART:20240331T010000
END:DAYLIGHT
BEGIN:STANDARD
TZOFFSETFROM:+0300
TZOFFSETTO:+0200
TZNAME:EET
DTSTART:20241027T010000
END:STANDARD
BEGIN:DAYLIGHT
TZOFFSETFROM:+0200
TZOFFSETTO:+0300
TZNAME:EEST
DTSTART:20250330T010000
END:DAYLIGHT
BEGIN:STANDARD
TZOFFSETFROM:+0300
TZOFFSETTO:+0200
TZNAME:EET
DTSTART:20251026T010000
END:STANDARD
END:VTIMEZONE
BEGIN:VEVENT
DTSTART;TZID=Europe/Helsinki:20240109T121500
DTEND;TZID=Europe/Helsinki:20240109T140000
DTSTAMP:20260425T193624
CREATED:20231218T154121Z
LAST-MODIFIED:20240108T095057Z
UID:7848-1704802500-1704808800@economia.uc3m.es
SUMMARY:Monetary Policy Transmission and Firm-Level Volatility: Uncertainty Versus Risks
DESCRIPTION:Ruslana Datsenko\n(University of Oslo)\n  \n«Monetary Policy Transmission and Firm-Level Volatility: Uncertainty Versus Risks»\n  \nRoom 15.1.39
URL:https://economia.uc3m.es/event/ruslana-datsenko/
LOCATION:15.1.39
CATEGORIES:Job Market Seminar
ATTACH;FMTTYPE=image/png:https://economia.uc3m.es/wp-content/uploads/2023/12/datsenko_photo-e1702914075718.png
END:VEVENT
BEGIN:VEVENT
DTSTART;TZID=Europe/Helsinki:20240110T121500
DTEND;TZID=Europe/Helsinki:20240110T140000
DTSTAMP:20260425T193624
CREATED:20231218T100308Z
LAST-MODIFIED:20240108T095220Z
UID:7834-1704888900-1704895200@economia.uc3m.es
SUMMARY:Breaking Borders: The Impact of Knowledge Diffusion on the Gains from Trade
DESCRIPTION:Qianxue Zhang\n(University of Warwick)\n  \n«Breaking Borders: The Impact of Knowledge Diffusion on the Gains from Trade»\n  \nRoom 15.1.39
URL:https://economia.uc3m.es/event/qianxue-zhang/
LOCATION:15.1.39
CATEGORIES:Job Market Seminar
ATTACH;FMTTYPE=image/jpeg:https://economia.uc3m.es/wp-content/uploads/2023/12/ZoeZhang_A_Day_Of_Remote_Teaching_Under_Quarantine-e1702893757385.jpg
END:VEVENT
BEGIN:VEVENT
DTSTART;TZID=Europe/Helsinki:20240111T121500
DTEND;TZID=Europe/Helsinki:20240111T140000
DTSTAMP:20260425T193624
CREATED:20231218T121117Z
LAST-MODIFIED:20240109T093721Z
UID:7842-1704975300-1704981600@economia.uc3m.es
SUMMARY:Managing Expectations with Exchange Rate Policy
DESCRIPTION:Luca Gemmi\n(University of Lausanne)\n  \n«Managing Expectations with Exchange Rate Policy»\n  \nRoom 15.1.39
URL:https://economia.uc3m.es/event/luca-gemmi/
LOCATION:15.1.39
CATEGORIES:Job Market Seminar
ATTACH;FMTTYPE=image/jpeg:https://economia.uc3m.es/wp-content/uploads/2023/12/5DIV0887-e1702901470607.jpg
END:VEVENT
BEGIN:VEVENT
DTSTART;TZID=Europe/Helsinki:20240112T121500
DTEND;TZID=Europe/Helsinki:20240112T140000
DTSTAMP:20260425T193624
CREATED:20231218T100941Z
LAST-MODIFIED:20231218T121307Z
UID:7838-1705061700-1705068000@economia.uc3m.es
SUMMARY:Building Up Local Productivity: Infrastructure and Firm Dynamics in Mexico
DESCRIPTION:Oscar Eduardo Fentanes Tellez\n(Toulouse School of Economics)\n  \n«Building Up Local Productivity: Infrastructure and Firm Dynamics in Mexico»\n  \nRoom 15.1.39
URL:https://economia.uc3m.es/event/oscar-eduardo-fentanes-tellez/
LOCATION:15.1.39
CATEGORIES:Job Market Seminar
ATTACH;FMTTYPE=image/jpeg:https://economia.uc3m.es/wp-content/uploads/2023/12/avatar_hua345afed2301ea4e3b2234ffd774a2b4_1736243_500x500_fill_q65_lanczos_center-e1702894175734.jpg
END:VEVENT
BEGIN:VEVENT
DTSTART;TZID=Europe/Helsinki:20240115T121500
DTEND;TZID=Europe/Helsinki:20240115T140000
DTSTAMP:20260425T193624
CREATED:20240109T090255Z
LAST-MODIFIED:20240109T090255Z
UID:7875-1705320900-1705327200@economia.uc3m.es
SUMMARY:Religious Messaging and Adaptation to Water Scarcity: Evidence from Jordan
DESCRIPTION:Giulia Buccione\n(Brown University)\n  \n«Religious Messaging and Adaptation to Water Scarcity: Evidence from Jordan»\n  \nRoom 15.1.39
URL:https://economia.uc3m.es/event/giulia-buccione/
LOCATION:15.1.39
CATEGORIES:Job Market Seminar
ATTACH;FMTTYPE=image/jpeg:https://economia.uc3m.es/wp-content/uploads/2024/01/Giulia-1-e1704790945808.jpeg
END:VEVENT
BEGIN:VEVENT
DTSTART;TZID=Europe/Helsinki:20240116T121500
DTEND;TZID=Europe/Helsinki:20240116T140000
DTSTAMP:20260425T193624
CREATED:20240109T091149Z
LAST-MODIFIED:20240109T091149Z
UID:7879-1705407300-1705413600@economia.uc3m.es
SUMMARY:Gone with the Wind: Renewable Energy Infrastructure\, Welfare\, and Redistribution
DESCRIPTION:Milan Quentel\n(Universitat Pompeu Fabra)\n  \n«Gone with the Wind: Renewable Energy Infrastructure\, Welfare\, and Redistribution»\n  \nRoom 15.1.39
URL:https://economia.uc3m.es/event/milan-quentel/
LOCATION:15.1.39
CATEGORIES:Job Market Seminar
ATTACH;FMTTYPE=image/jpeg:https://economia.uc3m.es/wp-content/uploads/2024/01/milan_quentel_photo-e1704791493668.jpg
END:VEVENT
BEGIN:VEVENT
DTSTART;TZID=Europe/Helsinki:20240117T121500
DTEND;TZID=Europe/Helsinki:20240117T140000
DTSTAMP:20260425T193624
CREATED:20240109T091903Z
LAST-MODIFIED:20240109T091903Z
UID:7883-1705493700-1705500000@economia.uc3m.es
SUMMARY:Social Learning\, Behavioral Biases and Group Outcomes
DESCRIPTION:Andrea Amelio\n(University of Bonn)\n  \n«Social Learning\, Behavioral Biases and Group Outcomes»\n  \nRoom 15.1.39
URL:https://economia.uc3m.es/event/andrea-amelio/
LOCATION:15.1.39
CATEGORIES:Job Market Seminar
ATTACH;FMTTYPE=image/jpeg:https://economia.uc3m.es/wp-content/uploads/2024/01/milan_quentel_photo-e1704791493668.jpg
END:VEVENT
BEGIN:VEVENT
DTSTART;TZID=Europe/Helsinki:20240118T121500
DTEND;TZID=Europe/Helsinki:20240118T140000
DTSTAMP:20260425T193624
CREATED:20231219T092606Z
LAST-MODIFIED:20240108T095331Z
UID:7852-1705580100-1705586400@economia.uc3m.es
SUMMARY:Commodity Booms\, Markup Dispersion\, and Misallocation
DESCRIPTION:Clara Arroyo\n(CEMFI)\n  \n«Commodity Booms\, Markup Dispersion\, and Misallocation«\n  \nRoom 15.1.39
URL:https://economia.uc3m.es/event/clara-arroyo/
LOCATION:15.1.39
CATEGORIES:Job Market Seminar
ATTACH;FMTTYPE=image/jpeg:https://economia.uc3m.es/wp-content/uploads/2023/12/1599043174884-e1702977958885.jpg
END:VEVENT
BEGIN:VEVENT
DTSTART;TZID=Europe/Helsinki:20240119T124500
DTEND;TZID=Europe/Helsinki:20240119T140000
DTSTAMP:20260425T193624
CREATED:20240109T092459Z
LAST-MODIFIED:20240123T161102Z
UID:7886-1705668300-1705672800@economia.uc3m.es
SUMMARY:Confidence in Inference
DESCRIPTION:En Hua Hu\n(University of Toronto)\n  \n«Confidence in Inference»\n  \nRoom 15.1.39
URL:https://economia.uc3m.es/event/en-hua-hu/
LOCATION:15.1.39
CATEGORIES:Job Market Seminar
ATTACH;FMTTYPE=image/jpeg:https://economia.uc3m.es/wp-content/uploads/2024/01/profile2-scaled-e1704792294822.jpg
END:VEVENT
BEGIN:VEVENT
DTSTART;TZID=Europe/Helsinki:20240124T124500
DTEND;TZID=Europe/Helsinki:20240124T140000
DTSTAMP:20260425T193624
CREATED:20240109T092949Z
LAST-MODIFIED:20240123T161039Z
UID:7890-1706100300-1706104800@economia.uc3m.es
SUMMARY:Assortment Choice and Market Power under Uniform Pricing
DESCRIPTION:Alina Ozhegova\n(Norwegian School of Economics)\n  \n«Assortment Choice and Market Power under Uniform Pricing»\n  \nRoom 15.1.39
URL:https://economia.uc3m.es/event/alina-ozhegova/
LOCATION:15.1.39
CATEGORIES:Job Market Seminar
ATTACH;FMTTYPE=image/jpeg:https://economia.uc3m.es/wp-content/uploads/2024/01/Ozhegova_Alina_6990-copy-e1704792583647.jpg
END:VEVENT
BEGIN:VEVENT
DTSTART;TZID=Europe/Helsinki:20240129T124500
DTEND;TZID=Europe/Helsinki:20240129T140000
DTSTAMP:20260425T193624
CREATED:20240123T152940Z
LAST-MODIFIED:20240123T161028Z
UID:7912-1706532300-1706536800@economia.uc3m.es
SUMMARY:Unemployment Insurance\, Inequality of Opportunity\, and Labor Market Conditions
DESCRIPTION:Jon Piqueras\n(University College London)\n  \n«Unemployment Insurance\, Inequality of Opportunity\, and Labor Market Conditions»\n  \nRoom 15.1.39
URL:https://economia.uc3m.es/event/jon-piqueras/
LOCATION:15.1.39
CATEGORIES:Job Market Seminar
ATTACH;FMTTYPE=image/png:https://economia.uc3m.es/wp-content/uploads/2024/01/profile_square_noback2-e1705658335376.png
END:VEVENT
END:VCALENDAR