BEGIN:VCALENDAR
VERSION:2.0
PRODID:-//Departamento de Economía Universidad Carlos III - ECPv6.15.19//NONSGML v1.0//EN
CALSCALE:GREGORIAN
METHOD:PUBLISH
X-ORIGINAL-URL:https://economia.uc3m.es
X-WR-CALDESC:Eventos para Departamento de Economía Universidad Carlos III
REFRESH-INTERVAL;VALUE=DURATION:PT1H
X-Robots-Tag:noindex
X-PUBLISHED-TTL:PT1H
BEGIN:VTIMEZONE
TZID:Europe/Helsinki
BEGIN:DAYLIGHT
TZOFFSETFROM:+0200
TZOFFSETTO:+0300
TZNAME:EEST
DTSTART:20220327T010000
END:DAYLIGHT
BEGIN:STANDARD
TZOFFSETFROM:+0300
TZOFFSETTO:+0200
TZNAME:EET
DTSTART:20221030T010000
END:STANDARD
BEGIN:DAYLIGHT
TZOFFSETFROM:+0200
TZOFFSETTO:+0300
TZNAME:EEST
DTSTART:20230326T010000
END:DAYLIGHT
BEGIN:STANDARD
TZOFFSETFROM:+0300
TZOFFSETTO:+0200
TZNAME:EET
DTSTART:20231029T010000
END:STANDARD
BEGIN:DAYLIGHT
TZOFFSETFROM:+0200
TZOFFSETTO:+0300
TZNAME:EEST
DTSTART:20240331T010000
END:DAYLIGHT
BEGIN:STANDARD
TZOFFSETFROM:+0300
TZOFFSETTO:+0200
TZNAME:EET
DTSTART:20241027T010000
END:STANDARD
END:VTIMEZONE
BEGIN:VEVENT
DTSTART;TZID=Europe/Helsinki:20231204T124500
DTEND;TZID=Europe/Helsinki:20231204T140000
DTSTAMP:20260425T163110
CREATED:20231116T115117Z
LAST-MODIFIED:20231130T150310Z
UID:7789-1701693900-1701698400@economia.uc3m.es
SUMMARY:The Long Shadow of the Spanish Civil War
DESCRIPTION:Felipe Valencia Caicedo\n(University of British Columbia)\n  \n«The Long Shadow of the Spanish Civil War»\n  \nFace-to-face Seminar – Room 15.1.39
URL:https://economia.uc3m.es/event/felipe-valencia-caicedo/
LOCATION:15.1.39
CATEGORIES:Seminario de A&E
ATTACH;FMTTYPE=image/jpeg:https://economia.uc3m.es/wp-content/uploads/2023/11/EmbeddedImage-1-e1700135472364.jpg
END:VEVENT
BEGIN:VEVENT
DTSTART;TZID=Europe/Helsinki:20231211T124500
DTEND;TZID=Europe/Helsinki:20231211T140000
DTSTAMP:20260425T163110
CREATED:20231123T132446Z
LAST-MODIFIED:20231204T124405Z
UID:7809-1702298700-1702303200@economia.uc3m.es
SUMMARY:Default and Interest Rate Shocks: Renegotiation Matters
DESCRIPTION:Timothy J. Kehoe\n(University of Minnesota)\n  \n«Default and Interest Rate Shocks: Renegotiation Matters»\n  \nFace-to-face Seminar – Room 15.1.39
URL:https://economia.uc3m.es/event/timothy-j-kehoe/
LOCATION:15.1.39
CATEGORIES:Seminario de Macroeconomía
ATTACH;FMTTYPE=image/jpeg:https://economia.uc3m.es/wp-content/uploads/2023/11/Timothy-Kehoe-e1700745878443.jpg
END:VEVENT
BEGIN:VEVENT
DTSTART;TZID=Europe/Helsinki:20231213T124500
DTEND;TZID=Europe/Helsinki:20231213T140000
DTSTAMP:20260425T163110
CREATED:20231116T121523Z
LAST-MODIFIED:20231212T091738Z
UID:7793-1702471500-1702476000@economia.uc3m.es
SUMMARY:Stimulus through Insurance: the Marginal Propensity to Repay Debt
DESCRIPTION:Davide Melcangi\n(Federal Reserve Bank of New York)\n  \n«Stimulus through Insurance: the Marginal Propensity to Repay Debt»\n  \nFace-to-face Seminar – Room 15.1.39
URL:https://economia.uc3m.es/event/davide-melcangi/
LOCATION:15.1.39
CATEGORIES:Seminario de Macroeconomía
ATTACH;FMTTYPE=image/jpeg:https://economia.uc3m.es/wp-content/uploads/2023/11/EmbeddedImage-1-1-e1700136917106.jpg
END:VEVENT
BEGIN:VEVENT
DTSTART;TZID=Europe/Helsinki:20231218T124500
DTEND;TZID=Europe/Helsinki:20231218T140000
DTSTAMP:20260425T163110
CREATED:20231123T133048Z
LAST-MODIFIED:20231214T160717Z
UID:7813-1702903500-1702908000@economia.uc3m.es
SUMMARY:Weak Identification with Many Instruments
DESCRIPTION:Liyang Sun\n(CEMFI)\n  \n«Weak Identification with Many Instruments»\n  \nFace-to-face Seminar – Room 15.1.39
URL:https://economia.uc3m.es/event/liyang-sun/
LOCATION:15.1.39
CATEGORIES:Seminario de A&E
ATTACH;FMTTYPE=image/jpeg:https://economia.uc3m.es/wp-content/uploads/2023/11/profile-1-e1700746241807.jpg
END:VEVENT
BEGIN:VEVENT
DTSTART;TZID=Europe/Helsinki:20231219T124500
DTEND;TZID=Europe/Helsinki:20231219T140000
DTSTAMP:20260425T163110
CREATED:20231123T133422Z
LAST-MODIFIED:20231214T131519Z
UID:7817-1702989900-1702994400@economia.uc3m.es
SUMMARY:What Do Certifications Certify
DESCRIPTION:Gregor Matvos\n(Kellogg School of Management)\n  \n“What Do Certifications Certify”\n  \nFace-to-face seminar – Room 15.1.39
URL:https://economia.uc3m.es/event/gregor-matvos/
LOCATION:15.1.39
CATEGORIES:Seminario de Microeconomía
ATTACH;FMTTYPE=image/jpeg:https://economia.uc3m.es/wp-content/uploads/2023/11/descarga.jpg
END:VEVENT
END:VCALENDAR