BEGIN:VCALENDAR
VERSION:2.0
PRODID:-//Departamento de Economía Universidad Carlos III - ECPv6.15.19//NONSGML v1.0//EN
CALSCALE:GREGORIAN
METHOD:PUBLISH
X-WR-CALNAME:Departamento de Economía Universidad Carlos III
X-ORIGINAL-URL:https://economia.uc3m.es
X-WR-CALDESC:Eventos para Departamento de Economía Universidad Carlos III
REFRESH-INTERVAL;VALUE=DURATION:PT1H
X-Robots-Tag:noindex
X-PUBLISHED-TTL:PT1H
BEGIN:VTIMEZONE
TZID:Europe/Helsinki
BEGIN:DAYLIGHT
TZOFFSETFROM:+0200
TZOFFSETTO:+0300
TZNAME:EEST
DTSTART:20210328T010000
END:DAYLIGHT
BEGIN:STANDARD
TZOFFSETFROM:+0300
TZOFFSETTO:+0200
TZNAME:EET
DTSTART:20211031T010000
END:STANDARD
BEGIN:DAYLIGHT
TZOFFSETFROM:+0200
TZOFFSETTO:+0300
TZNAME:EEST
DTSTART:20220327T010000
END:DAYLIGHT
BEGIN:STANDARD
TZOFFSETFROM:+0300
TZOFFSETTO:+0200
TZNAME:EET
DTSTART:20221030T010000
END:STANDARD
BEGIN:DAYLIGHT
TZOFFSETFROM:+0200
TZOFFSETTO:+0300
TZNAME:EEST
DTSTART:20230326T010000
END:DAYLIGHT
BEGIN:STANDARD
TZOFFSETFROM:+0300
TZOFFSETTO:+0200
TZNAME:EET
DTSTART:20231029T010000
END:STANDARD
END:VTIMEZONE
BEGIN:VEVENT
DTSTART;TZID=Europe/Helsinki:20221003T124500
DTEND;TZID=Europe/Helsinki:20221003T140000
DTSTAMP:20260425T145233
CREATED:20200214T114038Z
LAST-MODIFIED:20220905T105705Z
UID:4151-1664801100-1664805600@economia.uc3m.es
SUMMARY:First generation elite: the role of school networks
DESCRIPTION:Emma Tominey\n(University of York)\n  \n«First generation elite: the role of school networks»\n  \nFace-to-face seminar – Room 15.1.39
URL:https://economia.uc3m.es/event/emma-tominey/
CATEGORIES:Seminario de A&E
ATTACH;FMTTYPE=image/jpeg:https://economia.uc3m.es/wp-content/uploads/2020/02/unnamed-1-1.jpg
END:VEVENT
BEGIN:VEVENT
DTSTART;TZID=Europe/Helsinki:20221004T124500
DTEND;TZID=Europe/Helsinki:20221004T140000
DTSTAMP:20260425T145233
CREATED:20220926T102043Z
LAST-MODIFIED:20221003T101511Z
UID:6460-1664887500-1664892000@economia.uc3m.es
SUMMARY:Mechanisms without transfers for fully biased agents
DESCRIPTION:Deniz Kattwinkel\n(University College London)\n  \n«Mechanisms without transfers for fully biased agents» (with Axel Niemeyer\,  Justus Preusser and Alexander Winter)\n  \nFace-to-face seminar – Room 15.1.39
URL:https://economia.uc3m.es/event/deniz-kattwinkel/
LOCATION:15.1.39
CATEGORIES:Seminario de Microeconomía
ATTACH;FMTTYPE=image/png:https://economia.uc3m.es/wp-content/uploads/2022/09/EmbeddedImage-e1664187637376.png
END:VEVENT
BEGIN:VEVENT
DTSTART;TZID=Europe/Helsinki:20221005T124500
DTEND;TZID=Europe/Helsinki:20221005T140000
DTSTAMP:20260425T145233
CREATED:20220905T113924Z
LAST-MODIFIED:20221004T093018Z
UID:6409-1664973900-1664978400@economia.uc3m.es
SUMMARY:Do More School Resources Increase Learning Outcomes? Evidence from an Extended School-Day Reform
DESCRIPTION:Jorge Aguero\n(University of Connecticut)\n  \n«Do More School Resources Increase Learning Outcomes? Evidence from an Extended School-Day Reform» (with Marta Favara\, Alex Sánchez and Catherine)\n  \nFace-to-face seminar – Room 15.1.39
URL:https://economia.uc3m.es/event/jorge-aguero/
CATEGORIES:Seminario de A&E
ATTACH;FMTTYPE=image/jpeg:https://economia.uc3m.es/wp-content/uploads/2022/09/Jorge-Agueero-690x468-e1662377955621.jpg
END:VEVENT
BEGIN:VEVENT
DTSTART;TZID=Europe/Helsinki:20221006T124500
DTEND;TZID=Europe/Helsinki:20221006T140000
DTSTAMP:20260425T145233
CREATED:20220905T114632Z
LAST-MODIFIED:20220926T104820Z
UID:6413-1665060300-1665064800@economia.uc3m.es
SUMMARY:Growth\, Housing\, and Global Imbalances
DESCRIPTION:Luis Franjo\n(University of Alicante)\n  \n«Growth\, Housing\, and Global Imbalances»\n  \nFace-to-face seminar – Room 15.1.39
URL:https://economia.uc3m.es/event/luis-franjo/
LOCATION:15.1.39
CATEGORIES:Seminario de Macroeconomía
ATTACH;FMTTYPE=image/jpeg:https://economia.uc3m.es/wp-content/uploads/2022/09/EmbeddedImage-1-e1662378386467.jpg
END:VEVENT
BEGIN:VEVENT
DTSTART;TZID=Europe/Helsinki:20221010T124500
DTEND;TZID=Europe/Helsinki:20221010T140000
DTSTAMP:20260425T145233
CREATED:20220905T120951Z
LAST-MODIFIED:20221004T120449Z
UID:6417-1665405900-1665410400@economia.uc3m.es
SUMMARY:Partial retirement and spousal labor supply: learning from a retirement reform in Norway
DESCRIPTION:Elena Stancanelli\n(Paris School of Economics)\n  \n«Partial retirement and spousal labor supply: learning from a retirement reform in Norway» (with Bernt Bratsberg)\n  \nFace-to-face seminar – Room 15.1.39
URL:https://economia.uc3m.es/event/elena-stancanelli/
LOCATION:15.1.39
CATEGORIES:Seminario de A&E
ATTACH;FMTTYPE=image/jpeg:https://economia.uc3m.es/wp-content/uploads/2022/09/estancanelli-e1662379284334.jpg
END:VEVENT
BEGIN:VEVENT
DTSTART;TZID=Europe/Helsinki:20221011T124500
DTEND;TZID=Europe/Helsinki:20221011T140000
DTSTAMP:20260425T145233
CREATED:20220907T105051Z
LAST-MODIFIED:20221006T120926Z
UID:6442-1665492300-1665496800@economia.uc3m.es
SUMMARY:Optimal intermediary test-design
DESCRIPTION:Zeinab Aboutalebi\n(European University Institute)\n  \n«Optimal intermediary test-design«\n  \nFace-to-face seminar – Room 15.1.39
URL:https://economia.uc3m.es/event/zeinab-aboutalebi/
LOCATION:15.1.39
CATEGORIES:Seminario de Microeconomía
ATTACH;FMTTYPE=image/jpeg:https://economia.uc3m.es/wp-content/uploads/2022/09/20190826_123637-e1662547836919.jpg
END:VEVENT
BEGIN:VEVENT
DTSTART;TZID=Europe/Helsinki:20221013T124500
DTEND;TZID=Europe/Helsinki:20221013T140000
DTSTAMP:20260425T145233
CREATED:20220905T121100Z
LAST-MODIFIED:20221005T071630Z
UID:6421-1665665100-1665669600@economia.uc3m.es
SUMMARY:A Monetary-Fiscal Theory of Sudden Inflations
DESCRIPTION:Marco Bassetto\n(Federal Reserve Bank of Minneapolis)\n  \n«A Monetary-Fiscal Theory of Sudden Inflations» joint with David Miller\n  \nFace-to-face seminar – Room 15.1.39
URL:https://economia.uc3m.es/event/marco-bassetto/
LOCATION:15.1.39
CATEGORIES:Seminario de Macroeconomía
ATTACH;FMTTYPE=image/jpeg:https://economia.uc3m.es/wp-content/uploads/2022/09/marco-bassetto.jpg
END:VEVENT
BEGIN:VEVENT
DTSTART;TZID=Europe/Helsinki:20221017T124500
DTEND;TZID=Europe/Helsinki:20221017T140000
DTSTAMP:20260425T145233
CREATED:20221010T085811Z
LAST-MODIFIED:20221010T090817Z
UID:6498-1666010700-1666015200@economia.uc3m.es
SUMMARY:Specialised Courts and the Reporting of Intimate Partner Violence: Evidence from Spain
DESCRIPTION:Jorge García Hombrados\n(Universidad Autónoma de Madrid)\n  \n«Specialised Courts and the Reporting of Intimate Partner Violence: Evidence from Spain» (with Marta Martínez Matute)\n  \nFace-to-face Seminar – Room 15.1.39
URL:https://economia.uc3m.es/event/jorge-garcia-hombrados/
LOCATION:15.1.39
CATEGORIES:Seminario de A&E
ATTACH;FMTTYPE=image/jpeg:https://economia.uc3m.es/wp-content/uploads/2022/10/EmbeddedImage-e1665392284211.jpg
END:VEVENT
BEGIN:VEVENT
DTSTART;TZID=Europe/Helsinki:20221018T124500
DTEND;TZID=Europe/Helsinki:20221018T140000
DTSTAMP:20260425T145233
CREATED:20220906T085148Z
LAST-MODIFIED:20221014T080442Z
UID:6425-1666097100-1666101600@economia.uc3m.es
SUMMARY:Liberty\, Security\, and Accountability: The Rise and Fall of Illiberal Democracies
DESCRIPTION:Barton Lee\n(ETH Zurich)\n  \n«Liberty\, Security\, and Accountability: The Rise and Fall of Illiberal Democracies» (with Gabriele Gratton)\n  \nFace-to-face Seminar – Room 15.1.39
URL:https://economia.uc3m.es/event/barton-lee/
LOCATION:15.1.39
CATEGORIES:Seminario de Microeconomía
ATTACH;FMTTYPE=image/png:https://economia.uc3m.es/wp-content/uploads/2022/09/image_photo_blee-e1662454297669.png
END:VEVENT
BEGIN:VEVENT
DTSTART;TZID=Europe/Helsinki:20221020T124500
DTEND;TZID=Europe/Helsinki:20221020T140000
DTSTAMP:20260425T145233
CREATED:20220906T085857Z
LAST-MODIFIED:20221011T073036Z
UID:6430-1666269900-1666274400@economia.uc3m.es
SUMMARY:Systematic Monetary Policy and the Effects of Government Spending
DESCRIPTION:Lukas Hack\n(University of Mannheim)\n  \n«Systematic Monetary Policy and the Effects of Government Spending»\n  \nFace-to-face seminar – Room 15.1.39
URL:https://economia.uc3m.es/event/lukas-hack/
LOCATION:15.1.39
CATEGORIES:Seminario de Macroeconomía
ATTACH;FMTTYPE=image/jpeg:https://economia.uc3m.es/wp-content/uploads/2022/09/foto-e1662454725278.jpg
END:VEVENT
BEGIN:VEVENT
DTSTART;TZID=Europe/Helsinki:20221024T124500
DTEND;TZID=Europe/Helsinki:20221024T141500
DTSTAMP:20260425T145233
CREATED:20220906T100013Z
LAST-MODIFIED:20221017T095253Z
UID:6434-1666615500-1666620900@economia.uc3m.es
SUMMARY:ICT and Student Learning
DESCRIPTION:Ghazala Azmat\n(Sciences Po)\n  \n«ICT and Student Learning» (joint with Denis Fougere and Clemence Lobut)\n  \nFace-to-face Seminar – Room 15.1.39
URL:https://economia.uc3m.es/event/ghazala-azmat-2/
LOCATION:15.1.39
CATEGORIES:Seminario de A&E
ATTACH;FMTTYPE=image/jpeg:https://economia.uc3m.es/wp-content/uploads/2022/03/2019_G_AZMAT-e1647948322855.jpg
END:VEVENT
BEGIN:VEVENT
DTSTART;TZID=Europe/Helsinki:20221025T124500
DTEND;TZID=Europe/Helsinki:20221025T140000
DTSTAMP:20260425T145233
CREATED:20221020T101622Z
LAST-MODIFIED:20221020T102437Z
UID:6587-1666701900-1666706400@economia.uc3m.es
SUMMARY:Networking entrepreneurs: theory and evidence from a Pan-African RCT
DESCRIPTION:Fernando Vega-Redondo\n(UC3M)\n  \n«Networking entrepreneurs: theory and evidence from a Pan-African RCT»\n\nABSTRACT: Can peer interaction foster entrepreneurship and innovation\, even in large-scale environments? This question\, which has substantial economic implications\, is studied both empirically and theoretically. For the empirical part of the analysis\, we have conducted an RCT involving almost 5\,000 entrepreneurs from 49 African countries\, where the treatment provides the possibility of interacting with peers in alternative ways/arms: face-to-face or virtually (i.e. with more or less «band width»)\, and under different degrees of diversity (local\, national\, or international). Two are the main findings: (a) There is a non-monotonic trade-off between peer diversity and band width: whereas interaction with low band width (i.e. virtual) requires high enough diversity to be effective\, too much of it is detrimental. (b) Even when interaction is ineffective\, network peer effects are always positive and strongly significant. While (a) suggests that some intermediate degree of peer diversity is needed for scalable interaction (only feasible if implemented virtually)\, (b) points to an apparent paradox: ineffective interaction is not due to weak peer influence. To shed light on this evidence\, we develop a theory that is consistent with it and distinguishes between «constructive» and «disruptive» settings\, depending on how positive and negative peer stimuli compare. When these notions are operationalized\, we revisit the data and find that\, as the theory predicts\, only virtual interaction among peers of moderate diversity (same nationality) qualifies as constructive. \n\nFace-to-face seminar – Room 15.1.39
URL:https://economia.uc3m.es/event/fernando-vega-redondo/
LOCATION:15.1.39
CATEGORIES:Seminario de Microeconomía,Seminario I.I.D.
ATTACH;FMTTYPE=image/jpeg:https://economia.uc3m.es/wp-content/uploads/2022/10/fernando_vega_redondo_cv-e1666260972193.jpg
END:VEVENT
BEGIN:VEVENT
DTSTART;TZID=Europe/Helsinki:20221027T124500
DTEND;TZID=Europe/Helsinki:20221027T140000
DTSTAMP:20260425T145233
CREATED:20220906T100846Z
LAST-MODIFIED:20221018T074100Z
UID:6436-1666874700-1666879200@economia.uc3m.es
SUMMARY:Optimal minimum wages in spatial economies
DESCRIPTION:Gabriel Ahlfeldt\n(London School of Economics)\n  \n«Optimal minimum wages in spatial economies» (with Duncan Roth and Tobias Seidel)\n  \nFace-to-face seminar – Room 15.1.39
URL:https://economia.uc3m.es/event/gabriel-ahlfeldt/
LOCATION:15.1.39
CATEGORIES:Seminario de Macroeconomía
ATTACH;FMTTYPE=image/jpeg:https://economia.uc3m.es/wp-content/uploads/2022/09/2022-01-19-12.27_edited-e1662458919382.jpg
END:VEVENT
END:VCALENDAR