BEGIN:VCALENDAR
VERSION:2.0
PRODID:-//Departamento de Economía Universidad Carlos III - ECPv6.15.19//NONSGML v1.0//EN
CALSCALE:GREGORIAN
METHOD:PUBLISH
X-ORIGINAL-URL:https://economia.uc3m.es
X-WR-CALDESC:Eventos para Departamento de Economía Universidad Carlos III
REFRESH-INTERVAL;VALUE=DURATION:PT1H
X-Robots-Tag:noindex
X-PUBLISHED-TTL:PT1H
BEGIN:VTIMEZONE
TZID:Europe/Helsinki
BEGIN:DAYLIGHT
TZOFFSETFROM:+0200
TZOFFSETTO:+0300
TZNAME:EEST
DTSTART:20210328T010000
END:DAYLIGHT
BEGIN:STANDARD
TZOFFSETFROM:+0300
TZOFFSETTO:+0200
TZNAME:EET
DTSTART:20211031T010000
END:STANDARD
BEGIN:DAYLIGHT
TZOFFSETFROM:+0200
TZOFFSETTO:+0300
TZNAME:EEST
DTSTART:20220327T010000
END:DAYLIGHT
BEGIN:STANDARD
TZOFFSETFROM:+0300
TZOFFSETTO:+0200
TZNAME:EET
DTSTART:20221030T010000
END:STANDARD
BEGIN:DAYLIGHT
TZOFFSETFROM:+0200
TZOFFSETTO:+0300
TZNAME:EEST
DTSTART:20230326T010000
END:DAYLIGHT
BEGIN:STANDARD
TZOFFSETFROM:+0300
TZOFFSETTO:+0200
TZNAME:EET
DTSTART:20231029T010000
END:STANDARD
END:VTIMEZONE
BEGIN:VEVENT
DTSTART;TZID=Europe/Helsinki:20220905T124500
DTEND;TZID=Europe/Helsinki:20220905T140000
DTSTAMP:20260425T001027
CREATED:20220824T104239Z
LAST-MODIFIED:20220831T074706Z
UID:6365-1662381900-1662386400@economia.uc3m.es
SUMMARY:Endogenous Kink Threshold Regression
DESCRIPTION:Thanasis Stengos\n(University of Guelph)\n  \n«Endogenous Kink Threshold Regression»\n  \nFace-to-face seminar – Room 15.1.39
URL:https://economia.uc3m.es/event/thanasis-stengos/
LOCATION:15.1.39
CATEGORIES:Seminario de A&E
ATTACH;FMTTYPE=image/jpeg:https://economia.uc3m.es/wp-content/uploads/2022/08/descarga.jpg
END:VEVENT
BEGIN:VEVENT
DTSTART;TZID=Europe/Helsinki:20220909T124500
DTEND;TZID=Europe/Helsinki:20220909T140000
DTSTAMP:20260425T001027
CREATED:20220824T104552Z
LAST-MODIFIED:20220902T103120Z
UID:6369-1662727500-1662732000@economia.uc3m.es
SUMMARY:Human Capital and Financial Development: Firm-Level Interactions and Macroeconomic Implications
DESCRIPTION:Lian Allub\n(CAF)\n  \n«Human Capital and Financial Development: Firm-Level Interactions and Macroeconomic Implications»\n  \nFace-to-face seminar – Room 15.0.04
URL:https://economia.uc3m.es/event/lian-allub/
LOCATION:15.0.04
CATEGORIES:Seminario de Macroeconomía
ATTACH;FMTTYPE=image/jpeg:https://economia.uc3m.es/wp-content/uploads/2022/08/EmbeddedImage-e1661337944702.jpg
END:VEVENT
BEGIN:VEVENT
DTSTART;TZID=Europe/Helsinki:20220912T124500
DTEND;TZID=Europe/Helsinki:20220912T140000
DTSTAMP:20260425T001027
CREATED:20220824T112721Z
LAST-MODIFIED:20220905T102940Z
UID:6373-1662986700-1662991200@economia.uc3m.es
SUMMARY:Decarbonization and Electrification in the Long Run
DESCRIPTION:Erin Mansur\n(Dartmouth College)\n  \n«Decarbonization and Electrification in the Long Run»\n  \nFace-to-face seminar – Room 15.1.39
URL:https://economia.uc3m.es/event/erin-mansur/
LOCATION:15.1.39
CATEGORIES:Seminario de A&E
ATTACH;FMTTYPE=image/jpeg:https://economia.uc3m.es/wp-content/uploads/2022/08/erin_mansur_directory_600_770_75_s-e1661340457692.jpg
END:VEVENT
BEGIN:VEVENT
DTSTART;TZID=Europe/Helsinki:20220913T124500
DTEND;TZID=Europe/Helsinki:20220913T140000
DTSTAMP:20260425T001027
CREATED:20220901T090134Z
LAST-MODIFIED:20220905T095436Z
UID:6389-1663073100-1663077600@economia.uc3m.es
SUMMARY:Unpacking Overconfident Behavior
DESCRIPTION:Han Bleichrodt\n(University of Alicante)\n  \n«Unpacking Overconfident Behavior»\n  \nFace-to-face seminar – Room 15.1.39
URL:https://economia.uc3m.es/event/han-bleichrodt/
LOCATION:15.1.39
CATEGORIES:Seminario de Microeconomía
ATTACH;FMTTYPE=image/jpeg:https://economia.uc3m.es/wp-content/uploads/2022/09/5c17a62c633ae809a9d169d9_bleichrodthan.jpg
END:VEVENT
BEGIN:VEVENT
DTSTART;TZID=Europe/Helsinki:20220915T124500
DTEND;TZID=Europe/Helsinki:20220915T140000
DTSTAMP:20260425T001027
CREATED:20220824T113512Z
LAST-MODIFIED:20220907T073847Z
UID:6377-1663245900-1663250400@economia.uc3m.es
SUMMARY:Inequality in the Welfare Costs of Disinflation
DESCRIPTION:Hannah Rubinton\n(Federal Reserve Bank of St. Louis)\n  \n«Inequality in the Welfare Costs of Disinflation»\n  \nFace-to-face seminar – Room 15.1.39
URL:https://economia.uc3m.es/event/hannah-rubinton/
LOCATION:15.1.39
CATEGORIES:Seminario de Macroeconomía
ATTACH;FMTTYPE=image/jpeg:https://economia.uc3m.es/wp-content/uploads/2022/08/avatar_hu7104ed8bcf29023da866b9101b695d20_6207210_250x250_fill_q90_lanczos_center.jpg
END:VEVENT
BEGIN:VEVENT
DTSTART;TZID=Europe/Helsinki:20220919T124500
DTEND;TZID=Europe/Helsinki:20220919T140000
DTSTAMP:20260425T001027
CREATED:20220901T090813Z
LAST-MODIFIED:20220915T105625Z
UID:6393-1663591500-1663596000@economia.uc3m.es
SUMMARY:Innovation Nation: Evidence from Broadening Access to Ph.D. Training in the U.S
DESCRIPTION:Francisca Antman\n(University of Colorado Boulder)\n  \n«Innovation Nation: Evidence from Broadening Access to Ph.D. Training in the U.S»\n  \nFace-to-face seminar – Room 15.1.39
URL:https://economia.uc3m.es/event/francisca-antman/
LOCATION:15.1.39
CATEGORIES:Seminario de A&E
ATTACH;FMTTYPE=image/jpeg:https://economia.uc3m.es/wp-content/uploads/2022/09/FranciscaAntman.jpg
END:VEVENT
BEGIN:VEVENT
DTSTART;TZID=Europe/Helsinki:20220922T124500
DTEND;TZID=Europe/Helsinki:20220922T140000
DTSTAMP:20260425T001027
CREATED:20220824T113859Z
LAST-MODIFIED:20220915T105406Z
UID:6381-1663850700-1663855200@economia.uc3m.es
SUMMARY:The Long-Run Effects of Marginal tax Changes across Time
DESCRIPTION:Myroslav Pidkuyko\n(Banco de España)\n  \n«The Long-Run Effects of Marginal tax Changes across Time» with Patrick Macnamara and Raffaele Rossi\n  \nFace-to-face seminar – Room 15.1.39
URL:https://economia.uc3m.es/event/myroslav-pidkuyko-2/
LOCATION:15.1.39
CATEGORIES:Seminario de Macroeconomía
ATTACH;FMTTYPE=image/jpeg:https://economia.uc3m.es/wp-content/uploads/2022/08/pidkuykomyroslav-e1661341134535.jpg
END:VEVENT
BEGIN:VEVENT
DTSTART;TZID=Europe/Helsinki:20220926T124500
DTEND;TZID=Europe/Helsinki:20220926T140000
DTSTAMP:20260425T001027
CREATED:20220901T091128Z
LAST-MODIFIED:20220920T084231Z
UID:6397-1664196300-1664200800@economia.uc3m.es
SUMMARY:The Value-Added Tax: Theory vs. Practice
DESCRIPTION:Miguel Almunia\n(CUNEF)\n  \n«The Value-Added Tax: Theory vs. Practice»\n  \nFace-to-face seminar – Room 15.1.39
URL:https://economia.uc3m.es/event/miguel-almunia/
LOCATION:15.1.39
CATEGORIES:Seminario de A&E
ATTACH;FMTTYPE=image/jpeg:https://economia.uc3m.es/wp-content/uploads/2022/09/prof_pic.jpg
END:VEVENT
BEGIN:VEVENT
DTSTART;TZID=Europe/Helsinki:20220927T124500
DTEND;TZID=Europe/Helsinki:20220927T140000
DTSTAMP:20260425T001027
CREATED:20220901T100323Z
LAST-MODIFIED:20220920T094503Z
UID:6401-1664282700-1664287200@economia.uc3m.es
SUMMARY:A theory of front-line management
DESCRIPTION:Alexander Frug\n(Universitat Pompeu Fabra)\n  \n«A theory of front-line management» (joint with Daniel Bird)\n  \nFace-to-face seminar – Room 15.1.39
URL:https://economia.uc3m.es/event/alexander-frug/
LOCATION:15.1.39
CATEGORIES:Seminario de Microeconomía
ATTACH;FMTTYPE=image/jpeg:https://economia.uc3m.es/wp-content/uploads/2022/09/EmbeddedImage-e1662026590212.jpg
END:VEVENT
END:VCALENDAR