BEGIN:VCALENDAR
VERSION:2.0
PRODID:-//Departamento de Economía Universidad Carlos III - ECPv6.15.19//NONSGML v1.0//EN
CALSCALE:GREGORIAN
METHOD:PUBLISH
X-ORIGINAL-URL:https://economia.uc3m.es
X-WR-CALDESC:Eventos para Departamento de Economía Universidad Carlos III
REFRESH-INTERVAL;VALUE=DURATION:PT1H
X-Robots-Tag:noindex
X-PUBLISHED-TTL:PT1H
BEGIN:VTIMEZONE
TZID:Europe/Helsinki
BEGIN:DAYLIGHT
TZOFFSETFROM:+0200
TZOFFSETTO:+0300
TZNAME:EEST
DTSTART:20220327T010000
END:DAYLIGHT
BEGIN:STANDARD
TZOFFSETFROM:+0300
TZOFFSETTO:+0200
TZNAME:EET
DTSTART:20221030T010000
END:STANDARD
BEGIN:DAYLIGHT
TZOFFSETFROM:+0200
TZOFFSETTO:+0300
TZNAME:EEST
DTSTART:20230326T010000
END:DAYLIGHT
BEGIN:STANDARD
TZOFFSETFROM:+0300
TZOFFSETTO:+0200
TZNAME:EET
DTSTART:20231029T010000
END:STANDARD
BEGIN:DAYLIGHT
TZOFFSETFROM:+0200
TZOFFSETTO:+0300
TZNAME:EEST
DTSTART:20240331T010000
END:DAYLIGHT
BEGIN:STANDARD
TZOFFSETFROM:+0300
TZOFFSETTO:+0200
TZNAME:EET
DTSTART:20241027T010000
END:STANDARD
END:VTIMEZONE
BEGIN:VEVENT
DTSTART;TZID=Europe/Helsinki:20230413T124500
DTEND;TZID=Europe/Helsinki:20230413T140000
DTSTAMP:20260424T185513
CREATED:20230322T133651Z
LAST-MODIFIED:20230330T082910Z
UID:7087-1681389900-1681394400@economia.uc3m.es
SUMMARY:Pricing Inequality
DESCRIPTION:Simon Mongey\n(University of Chicago)\n  \n«Pricing Inequality*» with Michael Waugh\n  \nFace-to-face Seminar – Room 15.1.39
URL:https://economia.uc3m.es/event/simon-mongey/
LOCATION:15.1.39
CATEGORIES:Seminario de Macroeconomía
ATTACH;FMTTYPE=image/jpeg:https://economia.uc3m.es/wp-content/uploads/2023/03/simon-mongey-sm-cropped-1.jpg
END:VEVENT
BEGIN:VEVENT
DTSTART;TZID=Europe/Helsinki:20230417T124500
DTEND;TZID=Europe/Helsinki:20230417T140000
DTSTAMP:20260424T185513
CREATED:20230323T120423Z
LAST-MODIFIED:20230411T085757Z
UID:7095-1681735500-1681740000@economia.uc3m.es
SUMMARY:Understanding Labor Market Discrimination Against Transgender People: Evidence from a Double List Experiment and a Survey
DESCRIPTION:Dario Sansone\n(University of Exeter)\n  \n«Understanding Labor Market Discrimination Against Transgender People: Evidence from a Double List Experiment and a Survey»\n  \nFace-to-face Seminar – Room 15.1.39
URL:https://economia.uc3m.es/event/dario-sansone/
LOCATION:15.1.39
CATEGORIES:Seminario de A&E
ATTACH;FMTTYPE=image/jpeg:https://economia.uc3m.es/wp-content/uploads/2023/03/IMG_0384small-e1679569457345.jpg
END:VEVENT
BEGIN:VEVENT
DTSTART;TZID=Europe/Helsinki:20230418T124500
DTEND;TZID=Europe/Helsinki:20230418T140000
DTSTAMP:20260424T185513
CREATED:20230323T120714Z
LAST-MODIFIED:20230412T082701Z
UID:7099-1681821900-1681826400@economia.uc3m.es
SUMMARY:Sabotage in Contests: Group Size Uncertainty and Group Size Disclosure
DESCRIPTION:Jonathan Stäbler\n(University of Mannheim)\n  \n«Sabotage in Contests: Group Size Uncertainty and Group Size Disclosure»\n  \nFace-to-face seminar – Room 15.1.39
URL:https://economia.uc3m.es/event/jonathan-stabler/
LOCATION:15.1.39
CATEGORIES:Seminario de Microeconomía
ATTACH;FMTTYPE=image/jpeg:https://economia.uc3m.es/wp-content/uploads/2023/03/PassPhoto-e1679569648542.jpg
END:VEVENT
BEGIN:VEVENT
DTSTART;TZID=Europe/Helsinki:20230418T124500
DTEND;TZID=Europe/Helsinki:20230418T140000
DTSTAMP:20260424T185513
CREATED:20230323T121014Z
LAST-MODIFIED:20230411T084502Z
UID:7103-1681821900-1681826400@economia.uc3m.es
SUMMARY:Simultaneous inference for predictions by mixed parameters with some illustrations from small area estimation
DESCRIPTION:Stefan Sperlich\n(Université de Genève)\n  \n«Simultaneous inference for predictions by mixed parameters with some illustrations from small area estimation»\n  \nFace-to-face Seminar – Room 15.1.39
URL:https://economia.uc3m.es/event/stefan-sperlich-2/
LOCATION:15.1.39
CATEGORIES:Seminario de A&E
ATTACH;FMTTYPE=image/png:https://economia.uc3m.es/wp-content/uploads/2023/03/EmbeddedImage.png
END:VEVENT
BEGIN:VEVENT
DTSTART;TZID=Europe/Helsinki:20230419T124500
DTEND;TZID=Europe/Helsinki:20230419T140000
DTSTAMP:20260424T185513
CREATED:20230323T121357Z
LAST-MODIFIED:20230412T083315Z
UID:7107-1681908300-1681912800@economia.uc3m.es
SUMMARY:Robot Adoption and Inflation Dynamics
DESCRIPTION:Henrique S. Basso\n(Banco de España)\n  \n«Robot Adoption and Inflation Dynamics»\n  \nFace-to-face Seminar – Room 15.1.39
URL:https://economia.uc3m.es/event/henrique-s-basso/
LOCATION:15.1.39
CATEGORIES:Seminario de Macroeconomía
ATTACH;FMTTYPE=image/jpeg:https://economia.uc3m.es/wp-content/uploads/2023/03/bassohenrique.jpg
END:VEVENT
BEGIN:VEVENT
DTSTART;TZID=Europe/Helsinki:20230424T124500
DTEND;TZID=Europe/Helsinki:20230424T140000
DTSTAMP:20260424T185513
CREATED:20230330T083537Z
LAST-MODIFIED:20230417T140536Z
UID:7116-1682340300-1682344800@economia.uc3m.es
SUMMARY:Teacher Impacts on Students’ Non-Cognitive Skills and Young Adult Outcomes
DESCRIPTION:Sarah Flèche\n(Sorbonne Economics Centre)\n  \n«Teacher Impacts on Students’ Non-Cognitive Skills and Young Adult Outcomes»\n  \nFace-to-face Seminar – Room 15.1.39
URL:https://economia.uc3m.es/event/sarah-fleche/
LOCATION:15.1.39
CATEGORIES:Seminario de A&E
ATTACH;FMTTYPE=image/jpeg:https://economia.uc3m.es/wp-content/uploads/2023/03/Sarah-Fleche-e1680166297257.jpg
END:VEVENT
BEGIN:VEVENT
DTSTART;TZID=Europe/Helsinki:20230425T124500
DTEND;TZID=Europe/Helsinki:20230425T140000
DTSTAMP:20260424T185513
CREATED:20230330T083903Z
LAST-MODIFIED:20230420T185459Z
UID:7120-1682426700-1682431200@economia.uc3m.es
SUMMARY:Organizational Capacity and Project Dynamics
DESCRIPTION:Dana Foarta\n(Stanford)\n  \n«Organizational Capacity and Project Dynamics»\n  \nFace-to-face seminar – Room 15.1.39
URL:https://economia.uc3m.es/event/dana-foarta/
LOCATION:15.1.39
CATEGORIES:Seminario de Microeconomía
ATTACH;FMTTYPE=image/jpeg:https://economia.uc3m.es/wp-content/uploads/2023/03/SGSB-1039-Dana-FoartaRT-web.jpg
END:VEVENT
BEGIN:VEVENT
DTSTART;TZID=Europe/Helsinki:20230426T124500
DTEND;TZID=Europe/Helsinki:20230426T140000
DTSTAMP:20260424T185513
CREATED:20230419T142451Z
LAST-MODIFIED:20230420T185238Z
UID:7165-1682513100-1682517600@economia.uc3m.es
SUMMARY:Bailouts and the Maturity of Sovereign Debt
DESCRIPTION:Timm Prein\n(University of Helsinki)\n  \n «Bailouts and the Maturity of Sovereign Debt»\n  \nFace-to-face Seminar – Room 15.1.39
URL:https://economia.uc3m.es/event/timm-prein/
LOCATION:15.1.39
CATEGORIES:Seminario de Macroeconomía
ATTACH;FMTTYPE=image/jpeg:https://economia.uc3m.es/wp-content/uploads/2023/04/EmbeddedImage-e1681914327957.jpg
END:VEVENT
BEGIN:VEVENT
DTSTART;TZID=Europe/Helsinki:20230427T124500
DTEND;TZID=Europe/Helsinki:20230427T140000
DTSTAMP:20260424T185513
CREATED:20230330T084703Z
LAST-MODIFIED:20230420T081655Z
UID:7124-1682599500-1682604000@economia.uc3m.es
SUMMARY:Granular Corporate under Dominant Currency
DESCRIPTION:Liliana Varela\n(LSE)\n  \n«Granular Corporate under Dominant Currency» joint with Laura Alfaro and Mauricio Calani\n  \nFace-to-face Seminar – Room 15.1.39
URL:https://economia.uc3m.es/event/liliana-varela/
LOCATION:15.1.39
CATEGORIES:Seminario de Macroeconomía
ATTACH;FMTTYPE=image/jpeg:https://economia.uc3m.es/wp-content/uploads/2023/03/fUhsBJck_400x400-e1680166045949.jpg
END:VEVENT
BEGIN:VEVENT
DTSTART;TZID=Europe/Helsinki:20230504T124500
DTEND;TZID=Europe/Helsinki:20230504T140000
DTSTAMP:20260424T185513
CREATED:20230413T121108Z
LAST-MODIFIED:20230427T073124Z
UID:7132-1683204300-1683208800@economia.uc3m.es
SUMMARY:Central Bank Response to a Negative Cash Flow or How to Inflate if You Must
DESCRIPTION:Rodolfo Manuelli\n(WUSTL)\n  \n«Central Bank Response to a Negative Cash Flow or How to Inflate if You Must»\n  \nFace-to-face Seminar – Room 15.1.39
URL:https://economia.uc3m.es/event/rodolfo-manuelli/
LOCATION:15.1.39
CATEGORIES:Seminario de Macroeconomía
ATTACH;FMTTYPE=image/jpeg:https://economia.uc3m.es/wp-content/uploads/2023/04/descarga.jpg
END:VEVENT
BEGIN:VEVENT
DTSTART;TZID=Europe/Helsinki:20230508T124500
DTEND;TZID=Europe/Helsinki:20230508T140000
DTSTAMP:20260424T185513
CREATED:20230413T121419Z
LAST-MODIFIED:20230425T122152Z
UID:7136-1683549900-1683554400@economia.uc3m.es
SUMMARY:Factor and Factor Loading Augmented Estimators for Panel Regression With Possibly Nonstrong Factors
DESCRIPTION:Jad Beyhum\n(CREST and ENSAI)\n  \n«Factor and Factor Loading Augmented Estimators for Panel Regression With Possibly Nonstrong Factors»\n  \nFace-to-face Seminar – Room 15.1.39
URL:https://economia.uc3m.es/event/jad-beyhum/
LOCATION:15.1.39
CATEGORIES:Seminario de A&E
ATTACH;FMTTYPE=image/jpeg:https://economia.uc3m.es/wp-content/uploads/2023/04/1597301303806-e1681388073654.jpg
END:VEVENT
BEGIN:VEVENT
DTSTART;TZID=Europe/Helsinki:20230510T124500
DTEND;TZID=Europe/Helsinki:20230510T140000
DTSTAMP:20260424T185513
CREATED:20230413T121821Z
LAST-MODIFIED:20230509T131332Z
UID:7140-1683722700-1683727200@economia.uc3m.es
SUMMARY:Compound Tail Risk
DESCRIPTION:Robert Engle\n(NYU)\n  \n«Compound Tail Risk»\n  \nFace-to-face Seminar – Room 14.0.11\nLive stream: https://www.youtube.com/watch?v=fxLXeows5Po
URL:https://economia.uc3m.es/event/robert-engle/
LOCATION:14.0.11
CATEGORIES:Seminario de A&E
ATTACH;FMTTYPE=image/jpeg:https://economia.uc3m.es/wp-content/uploads/2023/04/robert-engle-speaker-e1681388320219.jpg
END:VEVENT
BEGIN:VEVENT
DTSTART;TZID=Europe/Helsinki:20230511T124500
DTEND;TZID=Europe/Helsinki:20230511T140000
DTSTAMP:20260424T185513
CREATED:20230413T122329Z
LAST-MODIFIED:20230427T110147Z
UID:7145-1683809100-1683813600@economia.uc3m.es
SUMMARY:Supply Chain Constraints and Inflation
DESCRIPTION:Diego Comin\n(Dartmouth)\n  \n«Supply Chain Constraints and Inflation»\n  \nFace-to-face Seminar – Room 15.1.39
URL:https://economia.uc3m.es/event/diego-comin/
LOCATION:15.1.39
CATEGORIES:Seminario de Macroeconomía
ATTACH;FMTTYPE=image/jpeg:https://economia.uc3m.es/wp-content/uploads/2023/04/20210322_comin_eb_011-e1681388620653.jpg
END:VEVENT
BEGIN:VEVENT
DTSTART;TZID=Europe/Helsinki:20230515T124500
DTEND;TZID=Europe/Helsinki:20230515T140000
DTSTAMP:20260424T185513
CREATED:20230413T123234Z
LAST-MODIFIED:20230508T142411Z
UID:7149-1684154700-1684159200@economia.uc3m.es
SUMMARY:Asymmetric Monetary Policy Tradeoffs
DESCRIPTION:Luca Gambetti\n(UAB)\n  \n«Asymmetric Monetary Policy Tradeoffs»\n  \nFace-to-face Seminar – Room 15.1.39
URL:https://economia.uc3m.es/event/luca-gambetti/
LOCATION:15.1.39
CATEGORIES:Seminario de A&E,Seminario de Macroeconomía
ATTACH;FMTTYPE=image/jpeg:https://economia.uc3m.es/wp-content/uploads/2023/04/lgambetti.jpg
END:VEVENT
BEGIN:VEVENT
DTSTART;TZID=Europe/Helsinki:20230516T124500
DTEND;TZID=Europe/Helsinki:20230516T140000
DTSTAMP:20260424T185513
CREATED:20230426T120226Z
LAST-MODIFIED:20230426T120226Z
UID:7179-1684241100-1684245600@economia.uc3m.es
SUMMARY:Florian Hett
DESCRIPTION:Florian Hett\n(University Mainz)\n  \nTBA\n  \nFace-to-face seminar – Room 15.1.39
URL:https://economia.uc3m.es/event/florian-hett/
LOCATION:15.1.39
CATEGORIES:Seminario de Microeconomía
ATTACH;FMTTYPE=image/jpeg:https://economia.uc3m.es/wp-content/uploads/2023/04/hpfotoklein2.jpg
END:VEVENT
BEGIN:VEVENT
DTSTART;TZID=Europe/Helsinki:20230516T124500
DTEND;TZID=Europe/Helsinki:20230516T140000
DTSTAMP:20260424T185513
CREATED:20230508T080414Z
LAST-MODIFIED:20230508T121012Z
UID:7194-1684241100-1684245600@economia.uc3m.es
SUMMARY:Group identity and ingroup bias in belief formation
DESCRIPTION:Florian Hett\n(University Mainz)\n  \n«Group identity and ingroup bias in belief formation»\n  \nFace-to-face seminar – Room 15.1.39
URL:https://economia.uc3m.es/event/florian-hett-2/
LOCATION:15.1.39
CATEGORIES:Seminario de Microeconomía
ATTACH;FMTTYPE=image/jpeg:https://economia.uc3m.es/wp-content/uploads/2023/04/hpfotoklein2.jpg
END:VEVENT
BEGIN:VEVENT
DTSTART;TZID=Europe/Helsinki:20230522T124500
DTEND;TZID=Europe/Helsinki:20230522T140000
DTSTAMP:20260424T185513
CREATED:20230426T111832Z
LAST-MODIFIED:20230505T113321Z
UID:7175-1684759500-1684764000@economia.uc3m.es
SUMMARY:The Role of Firms in the Assimilation of Immigrants
DESCRIPTION:Jaime Arellano-Bover\n(University of Rome)\n  \n«The Role of Firms in the Assimilation of Immigrants»\n  \nFace-to-face Seminar – Room 15.1.39
URL:https://economia.uc3m.es/event/jaime-arellano-bover/
LOCATION:15.1.39
CATEGORIES:Seminario de A&E
ATTACH;FMTTYPE=image/jpeg:https://economia.uc3m.es/wp-content/uploads/2023/04/picture_jab.jpg
END:VEVENT
BEGIN:VEVENT
DTSTART;TZID=Europe/Helsinki:20230523T124500
DTEND;TZID=Europe/Helsinki:20230523T140000
DTSTAMP:20260424T185513
CREATED:20230413T123801Z
LAST-MODIFIED:20230601T082235Z
UID:7153-1684845900-1684850400@economia.uc3m.es
SUMMARY:Economic Shocks and Populism
DESCRIPTION:Nicola Pavoni\n(Universita’ Bocconi)\n  \n«Economic Shocks and Populism»\n  \nFace-to-face seminar – Room 15.1.39
URL:https://economia.uc3m.es/event/nicola-pavoni/
LOCATION:15.1.39
CATEGORIES:Seminario de Microeconomía
ATTACH;FMTTYPE=image/jpeg:https://economia.uc3m.es/wp-content/uploads/2023/04/pavoni-570-e1682509056628.jpg
END:VEVENT
BEGIN:VEVENT
DTSTART;TZID=Europe/Helsinki:20230524T124500
DTEND;TZID=Europe/Helsinki:20230524T140000
DTSTAMP:20260424T185513
CREATED:20230426T122056Z
LAST-MODIFIED:20230516T103028Z
UID:7185-1684932300-1684936800@economia.uc3m.es
SUMMARY:Transition Age Youth in Jail: Mental Illness\, Mental Health Classification\, and Outcomes
DESCRIPTION:Scott Cunningham\n(Baylor University)\n  \n«Transition Age Youth in Jail: Mental Illness\, Mental Health Classification\, and Outcomes»\n  \nFace-to-face Seminar – Room 15.1.39
URL:https://economia.uc3m.es/event/scott-cunningham/
LOCATION:15.1.39
CATEGORIES:Seminario de A&E
ATTACH;FMTTYPE=image/jpeg:https://economia.uc3m.es/wp-content/uploads/2023/04/aboutme.jpeg
END:VEVENT
BEGIN:VEVENT
DTSTART;TZID=Europe/Helsinki:20230525T124500
DTEND;TZID=Europe/Helsinki:20230525T140000
DTSTAMP:20260424T185513
CREATED:20230426T123208Z
LAST-MODIFIED:20230516T101737Z
UID:7189-1685018700-1685023200@economia.uc3m.es
SUMMARY:Efficiency and Effectiveness of School Capital Investments Across the US
DESCRIPTION:Barbara Biasi\n(Yale School of Management)\n  \n«Efficiency and Effectiveness of School Capital Investments Across the US»\n  \nFace-to-face Seminar – Room 15.1.39
URL:https://economia.uc3m.es/event/barbara-biasi/
LOCATION:15.1.39
CATEGORIES:Seminario de A&E
ATTACH;FMTTYPE=image/jpeg:https://economia.uc3m.es/wp-content/uploads/2023/04/dsc0917-mod_orig-e1682512340780.jpeg
END:VEVENT
BEGIN:VEVENT
DTSTART;TZID=Europe/Helsinki:20230526T140000
DTEND;TZID=Europe/Helsinki:20230526T173000
DTSTAMP:20260424T185513
CREATED:20230517T083926Z
LAST-MODIFIED:20230524T094052Z
UID:7278-1685109600-1685122200@economia.uc3m.es
SUMMARY:Scott Cunningham Masterclass
DESCRIPTION:Scott Cunningham\n(Baylor University)\n  \nTBA\n  \nCampus Puerta de Toledo – Room -1.A.01
URL:https://economia.uc3m.es/event/scott-cunningham-masterclass/
LOCATION:-1.A.01
CATEGORIES:Otros eventos
ATTACH;FMTTYPE=image/jpeg:https://economia.uc3m.es/wp-content/uploads/2023/04/aboutme.jpeg
END:VEVENT
BEGIN:VEVENT
DTSTART;TZID=Europe/Helsinki:20230601T124500
DTEND;TZID=Europe/Helsinki:20230601T140000
DTSTAMP:20260424T185513
CREATED:20230516T124223Z
LAST-MODIFIED:20230524T094221Z
UID:7262-1685623500-1685628000@economia.uc3m.es
SUMMARY:Market information in banking supervision: the role of stress test design
DESCRIPTION:Alessio Ozanne\n(TSE)\n  \n«Market information in banking supervision: the role of stress test design»\n  \nFace-to-face seminar – Room 15.1.39
URL:https://economia.uc3m.es/event/alessio-ozanne/
LOCATION:15.1.39
CATEGORIES:Seminario de Enter
END:VEVENT
BEGIN:VEVENT
DTSTART;TZID=Europe/Helsinki:20230605T124500
DTEND;TZID=Europe/Helsinki:20230605T140000
DTSTAMP:20260424T185513
CREATED:20230516T124538Z
LAST-MODIFIED:20230516T125412Z
UID:7265-1685969100-1685973600@economia.uc3m.es
SUMMARY:Gender Differences in Management Decisions: Evidence from On-The-Job-Training
DESCRIPTION:Marco Caliendo\n(University of Potsdam)\n  \n«Gender Differences in Management Decisions: Evidence from On-The-Job-Training»\n  \nFace-to-face Seminar – Room 15.1.39
URL:https://economia.uc3m.es/event/marco-caliendo/
LOCATION:15.1.39
CATEGORIES:Seminario de A&E
ATTACH;FMTTYPE=image/jpeg:https://economia.uc3m.es/wp-content/uploads/2023/05/mc-1024x1024-e1684241175539.jpg
END:VEVENT
BEGIN:VEVENT
DTSTART;TZID=Europe/Helsinki:20230608T124500
DTEND;TZID=Europe/Helsinki:20230608T140000
DTSTAMP:20260424T185513
CREATED:20230516T125251Z
LAST-MODIFIED:20230531T075222Z
UID:7273-1686228300-1686232800@economia.uc3m.es
SUMMARY:Luxuries\, Necessities\, and the Allocation of Time
DESCRIPTION:Pedro Silos\n(Temple University)\n  \n«Luxuries\, Necessities\, and the Allocation of Time» (joint work with L. Fang and A. Hannusch)\n  \nFace-to-face Seminar – Room 15.1.39
URL:https://economia.uc3m.es/event/pedro-silos/
LOCATION:15.1.39
CATEGORIES:Seminario de Macroeconomía
ATTACH;FMTTYPE=image/jpeg:https://economia.uc3m.es/wp-content/uploads/2023/05/compressed.jpg
END:VEVENT
BEGIN:VEVENT
DTSTART;TZID=Europe/Helsinki:20230612T124500
DTEND;TZID=Europe/Helsinki:20230612T140000
DTSTAMP:20260424T185513
CREATED:20230531T075840Z
LAST-MODIFIED:20230606T075540Z
UID:7292-1686573900-1686578400@economia.uc3m.es
SUMMARY:Stable marriage\, household consumption and unobserved match quality
DESCRIPTION:Bram de Rock\n(Université libre de Bruxelles)\n  \n«Stable marriage\, household consumption and unobserved match quality»\n  \nFace-to-face Seminar – Room 15.1.39
URL:https://economia.uc3m.es/event/bram-de-rock/
LOCATION:15.1.39
CATEGORIES:Seminario de A&E
ATTACH;FMTTYPE=image/jpeg:https://economia.uc3m.es/wp-content/uploads/2023/05/Bram-de-Rock-e1685519942629.jpg
END:VEVENT
BEGIN:VEVENT
DTSTART;TZID=Europe/Helsinki:20230615T110000
DTEND;TZID=Europe/Helsinki:20230615T124000
DTSTAMP:20260424T185513
CREATED:20230531T085528Z
LAST-MODIFIED:20230608T103645Z
UID:7309-1686826800-1686832800@economia.uc3m.es
SUMMARY:PhD Student Workshop - Macroeconomics Session
DESCRIPTION:Macroeconomics Session\n  \nChair: Felix Wellschmied\n  \nROOM 15.1.39\n11:00 -11:20 – Anastasios Koufakis – Returns Cohort Luck and the Elderly Rich in Spain.\n11:20 -11:45 – Sofía Sánchez – Liquidity kills you fast: the transmission of monetary policy.\n11:35 -12:05 – Alvaro Jañez – Monopsony Power and Firm Organization.\n12:05 -12:25 – Oscar Jaulín – Default Risk Information and the Effect of Monetary Policy on the Exchange Rate in Brazil.\n12:25 -12:40 – Serkan Kocabas – Beyond the Budget: Exploring the Impact of Fiscal Limits on the Green Transition.
URL:https://economia.uc3m.es/event/phd-student-workshop-macroeconomics-session-4/
LOCATION:15.1.39
CATEGORIES:PhD Student Workshop
END:VEVENT
BEGIN:VEVENT
DTSTART;TZID=Europe/Helsinki:20230615T113000
DTEND;TZID=Europe/Helsinki:20230615T134500
DTSTAMP:20260424T185513
CREATED:20230531T084115Z
LAST-MODIFIED:20230608T103909Z
UID:7306-1686828600-1686836700@economia.uc3m.es
SUMMARY:PhD Student Workshop - Econometrics Session
DESCRIPTION:Econometrics Session\n  \nChair: Juan Carlos Escanciano\n  \nROOM 15.1.43\n11:30-12:00 – Joël Terschuur – Policy learning with U-statistics: Inequality\, Inequality of Opportunity and Intergenerational Mobility\n12:00-12:30 – Antonio Raiola – Chi-squared Tests for Conditional Moment Restrictions.\n12:30-12:50 – Andrey Ramos – A Quantile VECM to Analyze Climate Heterogeneity.\n12:50-13:10 – Joan Alegre – Inference of Calibrated Parameters.\n13:10-13:30 – Facundo Argañaraz – On the Existence and Information of Orthogonal Moments for Inference.\n13:30-13:45 – Alejandro Puerta – Posterior Average Effects for Intergenerational Mobility.
URL:https://economia.uc3m.es/event/phd-student-workshop-econometrics-session-4/
LOCATION:15.1.43
CATEGORIES:PhD Student Workshop
END:VEVENT
BEGIN:VEVENT
DTSTART;TZID=Europe/Helsinki:20230616T111500
DTEND;TZID=Europe/Helsinki:20230616T133000
DTSTAMP:20260424T185513
CREATED:20230531T114729Z
LAST-MODIFIED:20230614T145139Z
UID:7313-1686914100-1686922200@economia.uc3m.es
SUMMARY:PhD Student Workshop - Applied Economics
DESCRIPTION:Applied Economics Session\n  \nROOM 15.1.43\n  \nChair: Ricardo Mora\n\n  \n11:45-12:00 – Runyang Wang – Dynamic searching model with uncertainty design: an extension to Doval (2018).\n12:00-12:30 – Lorenzo de Masi – Municipal-Level Gender Norms: Measurement and Effects on Women in Politics.\n12:30-12:45 – Oleksandra Cheipesh – Hidden Costs of Ban the Box Laws: Unraveling the Effects on Drug-Related Deaths.\n12:45-13:00 – Irem Saglamdemir – Early Childhood Conflict Exposure and Long-run Gender Norms: Evidence from the WWII.\n\n  \nLUNCH BREAK: 13:00 – 14:00 – (Common Room 15.1.47)\n  \nChair: Luigi Minale\n  \n14:10-14:30 – Camila Steffens – Effects of e-commerce on local employment and firms’ dynamics.\n14:30-15:00 – María Alexandra Castellanos – Immigration\, parenthood and child penalty effects.\n15:00-15:30 – Lukas Delgado – The Impact of Hard Discount Stores on Local Labor Markets: Evidence from Colombia.\n15:30-15:45 – María Gertrudis Fernández – Immigration and voting.\n15:45-16:00 – Carmela Accettura – Does politicians’ pay matter?.
URL:https://economia.uc3m.es/event/phd-student-workshop-applied-economics-4/
LOCATION:15.1.43
CATEGORIES:PhD Student Workshop
END:VEVENT
BEGIN:VEVENT
DTSTART;TZID=Europe/Helsinki:20230619T124500
DTEND;TZID=Europe/Helsinki:20230619T140000
DTSTAMP:20260424T185513
CREATED:20230531T080152Z
LAST-MODIFIED:20230614T141718Z
UID:7297-1687178700-1687183200@economia.uc3m.es
SUMMARY:Binary Choice with Asymmetric Loss in a Data-Rich Environment: Theory and an Application to Racial Justice
DESCRIPTION:Andrii Babii\n(University of North Carolina)\n  \n«Binary Choice with Asymmetric Loss in a Data-Rich Environment: Theory and an Application to Racial Justice»\n  \nFace-to-face Seminar – Room 15.1.39
URL:https://economia.uc3m.es/event/andrii-babii/
LOCATION:15.1.39
CATEGORIES:Seminario de A&E
ATTACH;FMTTYPE=image/jpeg:https://economia.uc3m.es/wp-content/uploads/2023/05/photo-e1685520129675.jpg
END:VEVENT
BEGIN:VEVENT
DTSTART;TZID=Europe/Helsinki:20230626T124500
DTEND;TZID=Europe/Helsinki:20230626T140000
DTSTAMP:20260424T185513
CREATED:20230531T080627Z
LAST-MODIFIED:20230621T083745Z
UID:7301-1687783500-1687788000@economia.uc3m.es
SUMMARY:Abortion Legalization and the Fabric of American College Students
DESCRIPTION:Stéphane Mechoulan\n(Dalhousi University)\n  \n«Abortion Legalization and the Fabric of American College Students»\n  \nFace-to-face Seminar – Room 15.1.39
URL:https://economia.uc3m.es/event/stephane-mechoulan/
LOCATION:15.1.39
CATEGORIES:Seminario de A&E
ATTACH;FMTTYPE=image/jpeg:https://economia.uc3m.es/wp-content/uploads/2023/05/mechoulan-e1685520401870.jpg
END:VEVENT
END:VCALENDAR