BEGIN:VCALENDAR
VERSION:2.0
PRODID:-//Departamento de Economía Universidad Carlos III - ECPv6.15.19//NONSGML v1.0//EN
CALSCALE:GREGORIAN
METHOD:PUBLISH
X-ORIGINAL-URL:https://economia.uc3m.es
X-WR-CALDESC:Eventos para Departamento de Economía Universidad Carlos III
REFRESH-INTERVAL;VALUE=DURATION:PT1H
X-Robots-Tag:noindex
X-PUBLISHED-TTL:PT1H
BEGIN:VTIMEZONE
TZID:Europe/Helsinki
BEGIN:DAYLIGHT
TZOFFSETFROM:+0200
TZOFFSETTO:+0300
TZNAME:EEST
DTSTART:20200329T010000
END:DAYLIGHT
BEGIN:STANDARD
TZOFFSETFROM:+0300
TZOFFSETTO:+0200
TZNAME:EET
DTSTART:20201025T010000
END:STANDARD
BEGIN:DAYLIGHT
TZOFFSETFROM:+0200
TZOFFSETTO:+0300
TZNAME:EEST
DTSTART:20210328T010000
END:DAYLIGHT
BEGIN:STANDARD
TZOFFSETFROM:+0300
TZOFFSETTO:+0200
TZNAME:EET
DTSTART:20211031T010000
END:STANDARD
BEGIN:DAYLIGHT
TZOFFSETFROM:+0200
TZOFFSETTO:+0300
TZNAME:EEST
DTSTART:20220327T010000
END:DAYLIGHT
BEGIN:STANDARD
TZOFFSETFROM:+0300
TZOFFSETTO:+0200
TZNAME:EET
DTSTART:20221030T010000
END:STANDARD
END:VTIMEZONE
BEGIN:VEVENT
DTSTART;TZID=Europe/Helsinki:20210408T124500
DTEND;TZID=Europe/Helsinki:20210408T140000
DTSTAMP:20260424T185641
CREATED:20210303T162333Z
LAST-MODIFIED:20210407T082452Z
UID:4900-1617885900-1617890400@economia.uc3m.es
SUMMARY:Financial frictions: macro vs micro volatility
DESCRIPTION:Morten O. Ravn\n(University College London)\n  \n«Financial frictions: macro vs micro volatility» (joint with Lee and Luetticke)\n  \nVirtual seminar – Join the session here
URL:https://economia.uc3m.es/event/morten-o-ravn/
LOCATION:Virtual Seminar
CATEGORIES:Seminario de Macroeconomía
ATTACH;FMTTYPE=image/jpeg:https://economia.uc3m.es/wp-content/uploads/2021/03/f11c1719-15cb-4539-807b3af1c60ec1a7-e1614785005696.jpg
END:VEVENT
BEGIN:VEVENT
DTSTART;TZID=Europe/Helsinki:20210412T150000
DTEND;TZID=Europe/Helsinki:20210412T161500
DTSTAMP:20260424T185641
CREATED:20210305T135857Z
LAST-MODIFIED:20210408T071358Z
UID:4904-1618239600-1618244100@economia.uc3m.es
SUMMARY:KNG - A New Mechanism for Data Privacy
DESCRIPTION:Matthew Reimherr\n(Penn State University)\n  \n«KNG – A New Mechanism for Data Privacy»\n  \nVirtual seminar – Join the session here
URL:https://economia.uc3m.es/event/matthew-reimherr/
LOCATION:Virtual Seminar
CATEGORIES:Seminario de A&E
ATTACH;FMTTYPE=image/jpeg:https://economia.uc3m.es/wp-content/uploads/2021/03/ProfilePick-e1614949129216.jpg
END:VEVENT
BEGIN:VEVENT
DTSTART;TZID=Europe/Helsinki:20210413T150000
DTEND;TZID=Europe/Helsinki:20210413T161500
DTSTAMP:20260424T185641
CREATED:20210311T133222Z
LAST-MODIFIED:20210408T100655Z
UID:4940-1618326000-1618330500@economia.uc3m.es
SUMMARY:Diversification and Information in Contests
DESCRIPTION:Jorge Lemus\n(University of Illinois at Urbana-Champaign)\n  \n«Diversification and Information in Contests» (joint with Emil Temnyalov)\n  \nVirtual seminar – Join the session here
URL:https://economia.uc3m.es/event/jorge-lemus/
LOCATION:Virtual Seminar
CATEGORIES:Seminario de Microeconomía
ATTACH;FMTTYPE=image/jpeg:https://economia.uc3m.es/wp-content/uploads/2021/03/Lemus.jpg
END:VEVENT
BEGIN:VEVENT
DTSTART;TZID=Europe/Helsinki:20210415T160000
DTEND;TZID=Europe/Helsinki:20210415T171500
DTSTAMP:20260424T185641
CREATED:20200220T133352Z
LAST-MODIFIED:20210408T083515Z
UID:4192-1618502400-1618506900@economia.uc3m.es
SUMMARY:Fiscal Paradoxes in a Liquidity Trap
DESCRIPTION:Francisco Buera\n(Washington University)\n  \n«Fiscal Paradoxes in a Liquidity Trap»\n  \nVirtual seminar – Join the session here
URL:https://economia.uc3m.es/event/francisco-buera/
LOCATION:Virtual Seminar
CATEGORIES:Seminario de Macroeconomía
ATTACH;FMTTYPE=image/jpeg:https://economia.uc3m.es/wp-content/uploads/2020/02/Econ_Buera_F_P1044513-e1582201988187.jpg
END:VEVENT
BEGIN:VEVENT
DTSTART;TZID=Europe/Helsinki:20210419T124500
DTEND;TZID=Europe/Helsinki:20210419T140000
DTSTAMP:20260424T185641
CREATED:20210303T103116Z
LAST-MODIFIED:20210415T132504Z
UID:4890-1618836300-1618840800@economia.uc3m.es
SUMMARY:Firm-Level Effects of Reductions in Working Hours
DESCRIPTION:Alessandro Tondini\n(European University Institute)\n  \nFirm-Level Effects of Reductions in Working Hours (with M. Lopes)\n  \nVirtual seminar – Join the session here
URL:https://economia.uc3m.es/event/alessandro-tondini/
LOCATION:Virtual Seminar
CATEGORIES:Seminario de A&E
ATTACH;FMTTYPE=image/jpeg:https://economia.uc3m.es/wp-content/uploads/2021/03/EmbeddedImage-e1614763857153.jpg
END:VEVENT
BEGIN:VEVENT
DTSTART;TZID=Europe/Helsinki:20210420T124500
DTEND;TZID=Europe/Helsinki:20210420T140000
DTSTAMP:20260424T185641
CREATED:20200220T172155Z
LAST-MODIFIED:20210414T084732Z
UID:4202-1618922700-1618927200@economia.uc3m.es
SUMMARY:Dual Pricing in a Model of Sales
DESCRIPTION:Nicolas Schutz\n(University of Mannheim)\n  \n«Dual Pricing in a Model of Sales» (joint with Anton Sobolev)\n  \nVirtual seminar – Join the session here
URL:https://economia.uc3m.es/event/nicolas-schutz/
LOCATION:Virtual Seminar
CATEGORIES:Seminario de Microeconomía
ATTACH;FMTTYPE=image/jpeg:https://economia.uc3m.es/wp-content/uploads/2020/02/ns-cropped-website-e1582215707359.jpg
END:VEVENT
BEGIN:VEVENT
DTSTART;TZID=Europe/Helsinki:20210422T150000
DTEND;TZID=Europe/Helsinki:20210422T161500
DTSTAMP:20260424T185641
CREATED:20210305T141336Z
LAST-MODIFIED:20210414T102353Z
UID:4909-1619103600-1619108100@economia.uc3m.es
SUMMARY:Bank-Runs\, Contagion and Credit Easing
DESCRIPTION:Javier Bianchi\n(Federal Reserve Bank of Minneapolis)\n  \n«Bank-Runs\, Contagion and Credit Easing» (joint with Manuel Amador)\n  \nVirtual seminar – Join the session here
URL:https://economia.uc3m.es/event/javier-bianchi/
LOCATION:Virtual Seminar
CATEGORIES:Seminario de Macroeconomía
ATTACH;FMTTYPE=image/jpeg:https://economia.uc3m.es/wp-content/uploads/2021/03/foto-fed-2019_orig.jpg
END:VEVENT
BEGIN:VEVENT
DTSTART;TZID=Europe/Helsinki:20210427T124500
DTEND;TZID=Europe/Helsinki:20210427T140000
DTSTAMP:20260424T185641
CREATED:20210305T142122Z
LAST-MODIFIED:20210421T105416Z
UID:4913-1619527500-1619532000@economia.uc3m.es
SUMMARY:Directed Search on a Platform: Meet Fewer to Match More?
DESCRIPTION:Chengsi Wang\n(Monash University)\n  \n«Directed Search on a Platform: Meet Fewer to Match More?» (joint with Makoto Watanabe)\n  \nVirtual seminar – Join the session here
URL:https://economia.uc3m.es/event/chengsi-wang/
LOCATION:Virtual Seminar
CATEGORIES:Seminario de Microeconomía
END:VEVENT
BEGIN:VEVENT
DTSTART;TZID=Europe/Helsinki:20210504T124500
DTEND;TZID=Europe/Helsinki:20210504T140000
DTSTAMP:20260424T185641
CREATED:20210512T113328Z
LAST-MODIFIED:20210512T113328Z
UID:5127-1620132300-1620136800@economia.uc3m.es
SUMMARY:Optimal School Design
DESCRIPTION:Adrien Vigier\n(University of Nottingham)\n  \n“Optimal School Design” (joint with Jacopo Bizzotto)\n  \nVirtual seminar – Join the session here
URL:https://economia.uc3m.es/event/adrien-vigier/
LOCATION:Virtual Seminar
CATEGORIES:Seminario de Microeconomía
ATTACH;FMTTYPE=image/jpeg:https://economia.uc3m.es/wp-content/uploads/2021/05/adrienvigier.jpg
END:VEVENT
BEGIN:VEVENT
DTSTART;TZID=Europe/Helsinki:20210506T160000
DTEND;TZID=Europe/Helsinki:20210506T171500
DTSTAMP:20260424T185641
CREATED:20210324T135136Z
LAST-MODIFIED:20210421T141725Z
UID:4975-1620316800-1620321300@economia.uc3m.es
SUMMARY:Risk and the Misallocation of Human Capital
DESCRIPTION:German Cubas\n(University of Houston)\n  \n«Risk and the Misallocation of Human Capital» (joint with Pedro Silos and Vesa Soini)\n  \nVirtual seminar – Join the session here
URL:https://economia.uc3m.es/event/german-cubas/
LOCATION:Virtual Seminar
CATEGORIES:Seminario de Macroeconomía
ATTACH;FMTTYPE=image/jpeg:https://economia.uc3m.es/wp-content/uploads/2021/03/germancubas.jpg
END:VEVENT
BEGIN:VEVENT
DTSTART;TZID=Europe/Helsinki:20210512T120000
DTEND;TZID=Europe/Helsinki:20210512T140000
DTSTAMP:20260424T185641
CREATED:20200221T123347Z
LAST-MODIFIED:20210509T181232Z
UID:4256-1620820800-1620828000@economia.uc3m.es
SUMMARY:Why Does Capital Flow from Equal to Unequal Countries?
DESCRIPTION:Kurt Mitman\n(Institute for International Economic Studies)\n  \n«Why Does Capital Flow from Equal to Unequal Countries?» (joint with Sergio de Ferra & Federica Romei)\n  \nVirtual seminar – Join the session here
URL:https://economia.uc3m.es/event/kurt-mitman/
LOCATION:Virtual Seminar
CATEGORIES:Seminario de Macroeconomía
ATTACH;FMTTYPE=image/jpeg:https://economia.uc3m.es/wp-content/uploads/2020/02/Kurt-1-e1616598555135.jpg
END:VEVENT
BEGIN:VEVENT
DTSTART;TZID=Europe/Helsinki:20210517T124500
DTEND;TZID=Europe/Helsinki:20210517T140000
DTSTAMP:20260424T185641
CREATED:20210512T105726Z
LAST-MODIFIED:20210512T105726Z
UID:5123-1621255500-1621260000@economia.uc3m.es
SUMMARY:Labelled loans and human capital investments
DESCRIPTION:Bansi Malde\n(University of Kent)\n  \n«Labelled loans and human capital investments» (joint with Britta Augsburg\, Bet Caeyers\, Sara Giunti & Susanna Smets)\n  \nVirtual seminar – Join the session here
URL:https://economia.uc3m.es/event/bansi-malde/
LOCATION:Virtual Seminar
CATEGORIES:Seminario de A&E
ATTACH;FMTTYPE=image/jpeg:https://economia.uc3m.es/wp-content/uploads/2021/05/EmbeddedImage-e1620817029793.jpg
END:VEVENT
BEGIN:VEVENT
DTSTART;TZID=Europe/Helsinki:20210518T150000
DTEND;TZID=Europe/Helsinki:20210518T161500
DTSTAMP:20260424T185641
CREATED:20210512T073925Z
LAST-MODIFIED:20210512T122133Z
UID:5119-1621350000-1621354500@economia.uc3m.es
SUMMARY:The Effects of Influencer Advertising Disclosure Regulations: Evidence From Instagram
DESCRIPTION:Matthew Mitchell\n(University of  Toronto)\n  \n«The Effects of Influencer Advertising Disclosure Regulations: Evidence From Instagram» (joint with Dan Ershov)\n  \nVirtual seminar – Join the session here
URL:https://economia.uc3m.es/event/the-effects-of-influencer-advertising-disclosure-regulations-evidence-from-instagram/
LOCATION:Virtual Seminar
CATEGORIES:Seminario de Microeconomía
ATTACH;FMTTYPE=image/jpeg:https://economia.uc3m.es/wp-content/uploads/2021/05/descarga.jpg
END:VEVENT
BEGIN:VEVENT
DTSTART;TZID=Europe/Helsinki:20210524T174500
DTEND;TZID=Europe/Helsinki:20210524T190000
DTSTAMP:20260424T185641
CREATED:20210513T102230Z
LAST-MODIFIED:20210520T072347Z
UID:5140-1621878300-1621882800@economia.uc3m.es
SUMMARY:Inference for Large-Scale Linear Systems with Known Coefficients
DESCRIPTION:Andrés Santos\n(UCLA)\n  \n«Inference for Large-Scale Linear Systems with Known Coefficients» (joint with Zheng Fang\, Azeem M. Shaikh and Alexander Torgovitsky)\n  \nVirtual seminar – Join the session here
URL:https://economia.uc3m.es/event/andres-santos/
LOCATION:Virtual Seminar
CATEGORIES:Seminario de A&E
ATTACH;FMTTYPE=image/jpeg:https://economia.uc3m.es/wp-content/uploads/2021/05/Japan-97-wpcf_250x250.jpg
END:VEVENT
BEGIN:VEVENT
DTSTART;TZID=Europe/Helsinki:20210525T124500
DTEND;TZID=Europe/Helsinki:20210525T140000
DTSTAMP:20260424T185641
CREATED:20210513T103242Z
LAST-MODIFIED:20210519T123701Z
UID:5144-1621946700-1621951200@economia.uc3m.es
SUMMARY:Measuring Complementarities in Vertical Markets: Evidence from the Digital Advertising Industry
DESCRIPTION:Francesco Decarolis\n(Università Bocconi)\n  \n«Measuring Complementarities in Vertical Markets: Evidence from the Digital Advertising Industry» (joint with Andrea Chiantello\, Maris Goldmanis and Antonio Penta).\n  \nVirtual seminar
URL:https://economia.uc3m.es/event/francesco-decarolis/
LOCATION:Virtual Seminar
CATEGORIES:Seminario de Microeconomía
ATTACH;FMTTYPE=image/jpeg:https://economia.uc3m.es/wp-content/uploads/2021/05/Max-12420190603092123-e1620901944746.jpg
END:VEVENT
BEGIN:VEVENT
DTSTART;TZID=Europe/Helsinki:20210527T124500
DTEND;TZID=Europe/Helsinki:20210527T140000
DTSTAMP:20260424T185641
CREATED:20210324T170418Z
LAST-MODIFIED:20210519T123539Z
UID:4989-1622119500-1622124000@economia.uc3m.es
SUMMARY:Public insurance and marital outcomes: Evidence from the Affordable Care Act’s Medicaid expansions
DESCRIPTION:Sarah Rosenberg\n(Université Libre de Bruxelles)\n  \n«Public insurance and marital outcomes: Evidence from the Affordable Care Act’s Medicaid expansions» (joint with Tom Potoms)\n  \nVirtual seminar – Join the session here
URL:https://economia.uc3m.es/event/sarah-rosenberg/
LOCATION:Virtual Seminar
CATEGORIES:Seminario de Enter
ATTACH;FMTTYPE=image/png:https://economia.uc3m.es/wp-content/uploads/2021/03/sarah_rosenberg_front-e1591612177284.png
END:VEVENT
BEGIN:VEVENT
DTSTART;TZID=Europe/Helsinki:20210601T150000
DTEND;TZID=Europe/Helsinki:20210601T161500
DTSTAMP:20260424T185641
CREATED:20200221T115807Z
LAST-MODIFIED:20210526T114542Z
UID:4240-1622559600-1622564100@economia.uc3m.es
SUMMARY:Agency-Constrained Information Design
DESCRIPTION:Maher Said\n(New York University)\n  \n«Agency-Constrained Information Design» (joint with Rahul Deb and Mallesh Pai)\n  \nVirtual seminar – Join the session here
URL:https://economia.uc3m.es/event/maher-said/
LOCATION:Virtual Seminar
CATEGORIES:Seminario de Microeconomía
ATTACH;FMTTYPE=image/png:https://economia.uc3m.es/wp-content/uploads/2020/02/xOvI2taV_400x400-e1582282681730.png
END:VEVENT
BEGIN:VEVENT
DTSTART;TZID=Europe/Helsinki:20210602T124500
DTEND;TZID=Europe/Helsinki:20210602T140000
DTSTAMP:20260424T185641
CREATED:20210324T171303Z
LAST-MODIFIED:20210526T114827Z
UID:4994-1622637900-1622642400@economia.uc3m.es
SUMMARY:Quality Regulation and Competition: Evidence from Pharmaceutical Markets
DESCRIPTION:Juan Pablo Atal\n(University of Pennsylvania)\n  \n«Quality Regulation and Competition: Evidence from Pharmaceutical Markets» (joint with José Ignacio Cuesta and Morten Sæthre)\n  \nVirtual seminar – Join the session here
URL:https://economia.uc3m.es/event/juan-pablo-atal/
LOCATION:Virtual Seminar
CATEGORIES:Seminario de A&E
ATTACH;FMTTYPE=image/jpeg:https://economia.uc3m.es/wp-content/uploads/2021/03/Juan-Pablo-Atal-1-e1616602358454.jpg
END:VEVENT
BEGIN:VEVENT
DTSTART;TZID=Europe/Helsinki:20210603T124500
DTEND;TZID=Europe/Helsinki:20210603T140000
DTSTAMP:20260424T185641
CREATED:20210324T172033Z
LAST-MODIFIED:20210526T120441Z
UID:5000-1622724300-1622728800@economia.uc3m.es
SUMMARY:Capital Taxation and Stock Market Volatility
DESCRIPTION:Pau Belda i Tortosa\n(Universitat Autònoma de Barcelona)\n  \n«Capital Taxation and Stock Market Volatility»\n  \nVirtual seminar – Join the session here
URL:https://economia.uc3m.es/event/pau-belda-i-tortosa/
LOCATION:Virtual Seminar
CATEGORIES:Seminario de Enter
ATTACH;FMTTYPE=image/jpeg:https://economia.uc3m.es/wp-content/uploads/2021/03/s200_pau.belda_i_tortosa.jpg
END:VEVENT
BEGIN:VEVENT
DTSTART;TZID=Europe/Helsinki:20210607T124500
DTEND;TZID=Europe/Helsinki:20210607T140000
DTSTAMP:20260424T185641
CREATED:20210303T114039Z
LAST-MODIFIED:20210609T111839Z
UID:4894-1623069900-1623074400@economia.uc3m.es
SUMMARY:Behavioral Constraints of Micro-Entrepreneurs
DESCRIPTION:Catia Batista\n(Nova School of Business & Economics)\n  \n«Behavioral Constraints of Micro-Entrepreneurs» (joint with Julia Seither)\n  \nConfirmation is required for face-to-face attendance\nOr join the virtual session here
URL:https://economia.uc3m.es/event/catia-batista/
CATEGORIES:Seminario de A&E
ATTACH;FMTTYPE=image/jpeg:https://economia.uc3m.es/wp-content/uploads/2021/03/catia-e1614768014310.jpg
END:VEVENT
BEGIN:VEVENT
DTSTART;TZID=Europe/Helsinki:20210608T150000
DTEND;TZID=Europe/Helsinki:20210608T161500
DTSTAMP:20260424T185641
CREATED:20200214T122214Z
LAST-MODIFIED:20210604T094442Z
UID:4168-1623164400-1623168900@economia.uc3m.es
SUMMARY:Seeking Relationship Support: Strategic network formation and robust cooperation
DESCRIPTION:David Miller\n(University of Michigan)\n  \n«Seeking Relationship Support: Strategic network formation and robust cooperation» (joint with Xu Tan)\n  \nVirtual seminar – Join the session here
URL:https://economia.uc3m.es/event/david-miller/
LOCATION:Virtual Seminar
CATEGORIES:Seminario de Microeconomía
ATTACH;FMTTYPE=image/jpeg:https://economia.uc3m.es/wp-content/uploads/2020/02/image.1581633288729-e1581679327460.jpg
END:VEVENT
BEGIN:VEVENT
DTSTART;TZID=Europe/Helsinki:20210614T124500
DTEND;TZID=Europe/Helsinki:20210614T140000
DTSTAMP:20260424T185641
CREATED:20210609T094500Z
LAST-MODIFIED:20210609T111735Z
UID:5199-1623674700-1623679200@economia.uc3m.es
SUMMARY:Gender Asymmetries in Peer Effects in the Workplace
DESCRIPTION:Anna Sanz-de-Galdeano\n(University of Alicante)\n  \n«Gender Asymmetries in Peer Effects in the Workplace» (joint with Julián Messina and Anastasia Terskaya)\n  \nConfirmation is required for face-to-face attendance\nOr join the virtual session here
URL:https://economia.uc3m.es/event/anna-sanz-de-galdeano/
CATEGORIES:Seminario de A&E
ATTACH;FMTTYPE=image/jpeg:https://economia.uc3m.es/wp-content/uploads/2021/06/02436891386084023.jpg
END:VEVENT
BEGIN:VEVENT
DTSTART;TZID=Europe/Helsinki:20210615T160000
DTEND;TZID=Europe/Helsinki:20210615T171500
DTSTAMP:20260424T185641
CREATED:20210325T101459Z
LAST-MODIFIED:20210611T080440Z
UID:5005-1623772800-1623777300@economia.uc3m.es
SUMMARY:Quality Regulation and Competition: Evidence from Pharmaceutical Markets
DESCRIPTION:José Ignacio Cuesta\n(Stanford University)\n  \n«Quality Regulation and Competition: Evidence from Pharmaceutical Markets» (joint with Juan Pablo Atal and Morten Saethre)\n  \nVirtual seminar – Join the session here
URL:https://economia.uc3m.es/event/jose-ignacio-cuesta/
LOCATION:Virtual Seminar
CATEGORIES:Seminario de Microeconomía
ATTACH;FMTTYPE=image/jpeg:https://economia.uc3m.es/wp-content/uploads/2021/03/8291-ji-cuesta-e1616663689318.jpg
END:VEVENT
BEGIN:VEVENT
DTSTART;TZID=Europe/Helsinki:20210910T083000
DTEND;TZID=Europe/Helsinki:20210910T193000
DTSTAMP:20260424T185641
CREATED:20210728T080123Z
LAST-MODIFIED:20210902T115919Z
UID:5324-1631262600-1631302200@economia.uc3m.es
SUMMARY:Workshop on High-Dimensional Data Analysis
DESCRIPTION:Department of Economics at the Universidad Carlos III de Madrid is pleased to announce the first workshop on High-Dimensional Data Analysis\, to take place Getafe Campus\, on 10 September 2021. \n\n\n\n\n\n\nThe goal of this workshop is to provide a forum for junior and senior researchers with a special interest in econometrics and statistics of high-dimensional data analysis\, and to establish an academic network among this group. Priority of presentations will be given to PhD students that are close to finish their studies and go on the academic market. \n \nKeynote Speakers\n\nMarine Carrasco (Université de Montréal)\n\nSiegfried Hoermann (Graz University of Technology)\nRajen Shah (University of Cambridge)\nSara Van de Geer (ETH Zurich) \nWebsite & Program\n\nVirtual workshop – Join the session here
URL:https://economia.uc3m.es/event/workshop-on-high-dimensional-data-analysis/
LOCATION:Virtual Seminar
CATEGORIES:Conferencias y Workshops
END:VEVENT
BEGIN:VEVENT
DTSTART;TZID=Europe/Helsinki:20210916T124500
DTEND;TZID=Europe/Helsinki:20210916T140000
DTSTAMP:20260424T185641
CREATED:20210910T082451Z
LAST-MODIFIED:20210910T082451Z
UID:5372-1631796300-1631800800@economia.uc3m.es
SUMMARY:Labor mobility over the business cycle
DESCRIPTION:Eugenia Gonzalez-Aguado\n(Toulouse School of Economics)\n  \n«Labor mobility over the business cycle»\n  \nFace-to-face seminar – Room 18.0.A13\nOr join the virtual session here
URL:https://economia.uc3m.es/event/eugenia-gonzalez-aguado/
LOCATION:18.0.A13
CATEGORIES:Seminario de Macroeconomía
ATTACH;FMTTYPE=image/jpeg:https://economia.uc3m.es/wp-content/uploads/2021/09/EmbeddedImage-e1631262275877.jpg
END:VEVENT
BEGIN:VEVENT
DTSTART;TZID=Europe/Helsinki:20210923T124500
DTEND;TZID=Europe/Helsinki:20210923T140000
DTSTAMP:20260424T185641
CREATED:20210728T081124Z
LAST-MODIFIED:20210916T104658Z
UID:5333-1632401100-1632405600@economia.uc3m.es
SUMMARY:Herding through Booms and Busts
DESCRIPTION:Edouard Schaal\n(CREI – UPF)\n  \n«Herding through Booms and Busts»\n  \nFace-to-face seminar – Room 18.0.A13\nOr join the virtual session here
URL:https://economia.uc3m.es/event/edouard-schaal/
LOCATION:18.0.A13
CATEGORIES:Seminario de Macroeconomía
ATTACH;FMTTYPE=image/jpeg:https://economia.uc3m.es/wp-content/uploads/2021/07/eschaal_0.jpg
END:VEVENT
BEGIN:VEVENT
DTSTART;TZID=Europe/Helsinki:20210927T124500
DTEND;TZID=Europe/Helsinki:20210927T140000
DTSTAMP:20260424T185641
CREATED:20210729T115650Z
LAST-MODIFIED:20210927T085545Z
UID:5341-1632746700-1632751200@economia.uc3m.es
SUMMARY:The Management of the Pandemic and its Effects on Trust and Accountability
DESCRIPTION:Mónica Martínez-Bravo\n(CEMFI)\n  \n“The Management of the Pandemic and its Effects on Trust and Accountability» (joint with Carlos Sanz)\n  \nFace-to-face seminar – Room 18.0.A13\nOr join the virtual session here
URL:https://economia.uc3m.es/event/monica-martinez-bravo/
LOCATION:18.0.A13
CATEGORIES:Seminario de A&E
ATTACH;FMTTYPE=image/jpeg:https://economia.uc3m.es/wp-content/uploads/2021/07/IMG_4176-e1627559801911.jpg
END:VEVENT
BEGIN:VEVENT
DTSTART;TZID=Europe/Helsinki:20210928T124500
DTEND;TZID=Europe/Helsinki:20210928T140000
DTSTAMP:20260424T185641
CREATED:20210901T080535Z
LAST-MODIFIED:20210922T093404Z
UID:5349-1632833100-1632837600@economia.uc3m.es
SUMMARY:Attitudes towards Success and Failure
DESCRIPTION:Antonio Penta\n(ICREA-UPF and BSE)\n  \n«Attitudes towards Success and Failure» (joint with Larbi Alaoui)\n  \nFace-to-face seminar – Room 18.0.A13\nOr join the virtual session here
URL:https://economia.uc3m.es/event/antonio-penta/
LOCATION:18.0.A13
CATEGORIES:Seminario de Microeconomía
ATTACH;FMTTYPE=image/jpeg:https://economia.uc3m.es/wp-content/uploads/2021/09/Antonio-Penta-e1630483790624.jpg
END:VEVENT
BEGIN:VEVENT
DTSTART;TZID=Europe/Helsinki:20210929T124500
DTEND;TZID=Europe/Helsinki:20210929T140000
DTSTAMP:20260424T185641
CREATED:20210924T074640Z
LAST-MODIFIED:20210924T074640Z
UID:5443-1632919500-1632924000@economia.uc3m.es
SUMMARY:Time Trumps Quantity in the Market for Lemons
DESCRIPTION:William Fuchs\n(University Carlos III)\n  \n«Time Trumps Quantity in the Market for Lemons»\n  \nFace-to-face seminar – Room 18.0.A13\nOr join the virtual session here
URL:https://economia.uc3m.es/event/william-fuchs/
LOCATION:18.0.A13
CATEGORIES:Seminario I.I.D.
ATTACH;FMTTYPE=image/jpeg:https://economia.uc3m.es/wp-content/uploads/2021/09/unnamed-e1632469586489.jpg
END:VEVENT
BEGIN:VEVENT
DTSTART;TZID=Europe/Helsinki:20211004T124500
DTEND;TZID=Europe/Helsinki:20211004T140000
DTSTAMP:20260424T185641
CREATED:20210324T142942Z
LAST-MODIFIED:20210928T144209Z
UID:4979-1633351500-1633356000@economia.uc3m.es
SUMMARY:"Land Use\, Structural Change and Urban Expansion"
DESCRIPTION:Florian Oswald\n(SciencesPo)\n  \n«Land Use\, Structural Change and Urban Expansion».\n  \nFace-to-face seminar – Room 18.0.A13\nOr join the virtual session here
URL:https://economia.uc3m.es/event/florian-oswald/
LOCATION:18.0.A13
CATEGORIES:Seminario de A&E
ATTACH;FMTTYPE=image/jpeg:https://economia.uc3m.es/wp-content/uploads/2021/03/florian-e1616592561924.jpg
END:VEVENT
END:VCALENDAR