BEGIN:VCALENDAR
VERSION:2.0
PRODID:-//Departamento de Economía Universidad Carlos III - ECPv6.15.19//NONSGML v1.0//EN
CALSCALE:GREGORIAN
METHOD:PUBLISH
X-WR-CALNAME:Departamento de Economía Universidad Carlos III
X-ORIGINAL-URL:https://economia.uc3m.es
X-WR-CALDESC:Eventos para Departamento de Economía Universidad Carlos III
REFRESH-INTERVAL;VALUE=DURATION:PT1H
X-Robots-Tag:noindex
X-PUBLISHED-TTL:PT1H
BEGIN:VTIMEZONE
TZID:Europe/Helsinki
BEGIN:DAYLIGHT
TZOFFSETFROM:+0200
TZOFFSETTO:+0300
TZNAME:EEST
DTSTART:20250330T010000
END:DAYLIGHT
BEGIN:STANDARD
TZOFFSETFROM:+0300
TZOFFSETTO:+0200
TZNAME:EET
DTSTART:20251026T010000
END:STANDARD
BEGIN:DAYLIGHT
TZOFFSETFROM:+0200
TZOFFSETTO:+0300
TZNAME:EEST
DTSTART:20260329T010000
END:DAYLIGHT
BEGIN:STANDARD
TZOFFSETFROM:+0300
TZOFFSETTO:+0200
TZNAME:EET
DTSTART:20261025T010000
END:STANDARD
BEGIN:DAYLIGHT
TZOFFSETFROM:+0200
TZOFFSETTO:+0300
TZNAME:EEST
DTSTART:20270328T010000
END:DAYLIGHT
BEGIN:STANDARD
TZOFFSETFROM:+0300
TZOFFSETTO:+0200
TZNAME:EET
DTSTART:20271031T010000
END:STANDARD
END:VTIMEZONE
BEGIN:VEVENT
DTSTART;TZID=Europe/Helsinki:20260413T124500
DTEND;TZID=Europe/Helsinki:20260413T140000
DTSTAMP:20260425T024857
CREATED:20260217T132035Z
LAST-MODIFIED:20260309T132352Z
UID:10378-1776084300-1776088800@economia.uc3m.es
SUMMARY:Noncausal AR processes driven by causal GARCH volatility
DESCRIPTION:Jean-Michel Zakoian\n(CREST and U. Lille)\n  \n«Noncausal AR processes driven by causal GARCH volatility»\nRoom 15.1.39
URL:https://economia.uc3m.es/event/tba-183/
LOCATION:15.1.39
CATEGORIES:Seminario de A&E
ATTACH;FMTTYPE=image/jpeg:https://economia.uc3m.es/wp-content/uploads/2026/02/Jean-Michel-Zakoian-e1771334409978.jpg
END:VEVENT
BEGIN:VEVENT
DTSTART;TZID=Europe/Helsinki:20260414T124500
DTEND;TZID=Europe/Helsinki:20260414T140000
DTSTAMP:20260425T024857
CREATED:20260217T132945Z
LAST-MODIFIED:20260217T132945Z
UID:10382-1776170700-1776175200@economia.uc3m.es
SUMMARY:Strategyproof Maximum Matching Under Dichotomous Agent Preferences\,” joint work with Haris Aziz and Shahidul Islam
DESCRIPTION:Szilvia Papai\n(Concordia University)\n  \n«Strategyproof Maximum Matching Under Dichotomous Agent Preferences\,” joint work with Haris Aziz and Shahidul Islam»\n  \nFace-to-face Seminar – Room 15.1.39
URL:https://economia.uc3m.es/event/strategyproof-maximum-matching-under-dichotomous-agent-preferences-joint-work-with-haris-aziz-and-shahidul-islam/
LOCATION:15.1.39
CATEGORIES:Seminario de Microeconomía
ATTACH;FMTTYPE=image/jpeg:https://economia.uc3m.es/wp-content/uploads/2026/02/citations.jpg
END:VEVENT
BEGIN:VEVENT
DTSTART;TZID=Europe/Helsinki:20260415T124500
DTEND;TZID=Europe/Helsinki:20260415T140000
DTSTAMP:20260425T024857
CREATED:20260217T133503Z
LAST-MODIFIED:20260409T145024Z
UID:10386-1776257100-1776261600@economia.uc3m.es
SUMMARY:Government Contracting and Living Wages > Minimum Wages
DESCRIPTION:Stephen Machin\n(LSE)\n  \n«Government Contracting and Living Wages > Minimum Wages»\n  \nRoom 15.1.39
URL:https://economia.uc3m.es/event/tba-184/
LOCATION:15.1.39
CATEGORIES:Seminario de A&E
ATTACH;FMTTYPE=image/jpeg:https://economia.uc3m.es/wp-content/uploads/2026/02/Steve-Machin-e1771335271889.jpg
END:VEVENT
BEGIN:VEVENT
DTSTART;TZID=Europe/Helsinki:20260416T124500
DTEND;TZID=Europe/Helsinki:20260416T140000
DTSTAMP:20260425T024857
CREATED:20260204T120029Z
LAST-MODIFIED:20260409T145221Z
UID:10337-1776343500-1776348000@economia.uc3m.es
SUMMARY:Plastic Dumping Grounds: International Impacts of China's Waste Import Ban ​(with Deniz Atalar and Banu Demir)
DESCRIPTION:Swati Dhingra\n(LSE)\n  \n«Plastic Dumping Grounds: International Impacts of China’s Waste Import Ban(with Deniz Atalar and Banu Demir)»\n  \nRoom 15.1.39
URL:https://economia.uc3m.es/event/tba-180/
LOCATION:15.1.39
CATEGORIES:Seminario de Macroeconomía
ATTACH;FMTTYPE=image/jpeg:https://economia.uc3m.es/wp-content/uploads/2026/02/swati-dhingra-e1770206413759.jpg
END:VEVENT
BEGIN:VEVENT
DTSTART;TZID=Europe/Helsinki:20260420T124500
DTEND;TZID=Europe/Helsinki:20260420T140000
DTSTAMP:20260425T024857
CREATED:20260409T084806Z
LAST-MODIFIED:20260414T123814Z
UID:10496-1776689100-1776693600@economia.uc3m.es
SUMMARY:Directed Technical Change: Evidence from the Electrification of U.S. Agriculture
DESCRIPTION:Martin Fiszbein\n(Boston University)\n  \n«Directed Technical Change: Evidence from the Electrification of U.S. Agriculture»\n  \nFace to Face 15.2.36  –  Room 15.1.39
URL:https://economia.uc3m.es/event/tba-187/
LOCATION:15.1.39
CATEGORIES:Seminario de A&E
ATTACH;FMTTYPE=image/jpeg:https://economia.uc3m.es/wp-content/uploads/2026/04/Martin-Fiszbein.jpg
END:VEVENT
BEGIN:VEVENT
DTSTART;TZID=Europe/Helsinki:20260421T124500
DTEND;TZID=Europe/Helsinki:20260421T140000
DTSTAMP:20260425T024857
CREATED:20260409T090902Z
LAST-MODIFIED:20260409T091128Z
UID:10500-1776775500-1776780000@economia.uc3m.es
SUMMARY:Price Discrimination and Market Power in Insurance Markets
DESCRIPTION:Christopher Sandmann\n(LSE)\n  \n«Price Discrimination and Market Power in Insurance Markets»\n  \nFace-to-face Seminar 15.2.71 – Room 15.1.39
URL:https://economia.uc3m.es/event/price-discrimination-and-market-power-in-insurance-markets/
LOCATION:15.1.39
CATEGORIES:Seminario de Microeconomía
ATTACH;FMTTYPE=image/jpeg:https://economia.uc3m.es/wp-content/uploads/2026/04/Christopher-Sandmann-e1775725508179.jpg
END:VEVENT
BEGIN:VEVENT
DTSTART;TZID=Europe/Helsinki:20260422T124500
DTEND;TZID=Europe/Helsinki:20260422T140000
DTSTAMP:20260425T024857
CREATED:20260414T124405Z
LAST-MODIFIED:20260414T124405Z
UID:10566-1776861900-1776866400@economia.uc3m.es
SUMMARY:A non-cooperative repeated game for hunter-gatherers (Co-author José Luis Ferreira)
DESCRIPTION:Javier Ruiz-Castillo Ucelay\n(UC3M)\nAffiliation: retired professor from the economics department\n  \n  \n«A non-cooperative repeated game for hunter-gatherers (Co-author José Luis Ferreira)«\n  \nRoom 15.1.39
URL:https://economia.uc3m.es/event/a-non-cooperative-repeated-game-for-hunter-gatherers-co-author-jose-luis-ferreira/
LOCATION:15.1.39
CATEGORIES:Seminario I.I.D.
ATTACH;FMTTYPE=image/jpeg:https://economia.uc3m.es/wp-content/uploads/2026/04/descarga-2-e1776170523670.jpg
END:VEVENT
BEGIN:VEVENT
DTSTART;TZID=Europe/Helsinki:20260423T124500
DTEND;TZID=Europe/Helsinki:20260423T140000
DTSTAMP:20260425T024857
CREATED:20260204T120530Z
LAST-MODIFIED:20260409T091400Z
UID:10341-1776948300-1776952800@economia.uc3m.es
SUMMARY:Human Capital Accumulation Across Space
DESCRIPTION:Esteban Rossi-Hansberg\n(University of Chicago)\n  \n«Human Capital Accumulation Across Space»\n  \nRoom 15.1.39
URL:https://economia.uc3m.es/event/tba-181/
LOCATION:15.1.39
CATEGORIES:Seminario de Macroeconomía
ATTACH;FMTTYPE=image/jpeg:https://economia.uc3m.es/wp-content/uploads/2026/02/Esteban_Rossi-Hansberg_04Crop-e1770206701298.jpg
END:VEVENT
BEGIN:VEVENT
DTSTART;TZID=Europe/Helsinki:20260427T124500
DTEND;TZID=Europe/Helsinki:20260427T140000
DTSTAMP:20260425T024857
CREATED:20260409T092840Z
LAST-MODIFIED:20260409T092853Z
UID:10508-1777293900-1777298400@economia.uc3m.es
SUMMARY:Beyond the Oracle: Misclassification-Robust Inference Under Latent Grouped Heterogeneity
DESCRIPTION:Oriol González-Casasús\n(UPF)\n  \n«Beyond the Oracle: Misclassification-Robust Inference Under Latent Grouped Heterogeneity»\n  \nFace to Face 15.2.71 – Room 15.1.39
URL:https://economia.uc3m.es/event/beyond-the-oracle-misclassification-robust-inference-under-latent-grouped-heterogeneity/
LOCATION:15.1.39
CATEGORIES:Seminario de A&E
ATTACH;FMTTYPE=image/png:https://economia.uc3m.es/wp-content/uploads/2026/04/Oriol-Gonzalez-e1775726891946.png
END:VEVENT
BEGIN:VEVENT
DTSTART;TZID=Europe/Helsinki:20260428T124500
DTEND;TZID=Europe/Helsinki:20260428T140000
DTSTAMP:20260425T024857
CREATED:20260409T093558Z
LAST-MODIFIED:20260416T104616Z
UID:10512-1777380300-1777384800@economia.uc3m.es
SUMMARY:Demographic Decline and Within School Segregation (with Claudia Meo\, Pietro Salmaso and Duygu Sili)
DESCRIPTION:Antonio Miralles\n(Univesitá degli Studi di Messina)\n  \n«Demographic Decline and Within School Segregation (with Claudia Meo\, Pietro Salmaso and Duygu Sili)»\n  \nFace-to-face Seminar 15.2.71  – Room 15.1.39
URL:https://economia.uc3m.es/event/tba-188/
LOCATION:15.1.39
CATEGORIES:Seminario de Microeconomía
ATTACH;FMTTYPE=image/jpeg:https://economia.uc3m.es/wp-content/uploads/2026/04/Antonio-Miralles-e1775727264614.jpg
END:VEVENT
BEGIN:VEVENT
DTSTART;TZID=Europe/Helsinki:20260429T124500
DTEND;TZID=Europe/Helsinki:20260429T140000
DTSTAMP:20260425T024857
CREATED:20260409T143920Z
LAST-MODIFIED:20260409T143920Z
UID:10520-1777466700-1777471200@economia.uc3m.es
SUMMARY:Making sovereign debt safe and sustainable in the EU
DESCRIPTION:Ramón Marimon\n(European University Institute)\n  \n«Making sovereign debt safe and sustainable in the EU»\n  \nFace to face 15.2.71 – Room 15.1.39
URL:https://economia.uc3m.es/event/making-sovereign-debt-safe-and-sustainable-in-the-eu/
LOCATION:15.1.39
CATEGORIES:Seminario de Macroeconomía
ATTACH;FMTTYPE=image/jpeg:https://economia.uc3m.es/wp-content/uploads/2026/04/Ramon-Miramon-e1775731243783.jpg
END:VEVENT
BEGIN:VEVENT
DTSTART;TZID=Europe/Helsinki:20260504T124500
DTEND;TZID=Europe/Helsinki:20260504T140000
DTSTAMP:20260425T024857
CREATED:20260409T144439Z
LAST-MODIFIED:20260409T144439Z
UID:10524-1777898700-1777903200@economia.uc3m.es
SUMMARY:A Robust Test for Equal Predictive Accuracy
DESCRIPTION:Matei Demetrescu\n(Dortmund University)\n  \n«A Robust Test for Equal Predictive Accuracy»\n  \nFace to face 15.2.71 – Room 15.1.39
URL:https://economia.uc3m.es/event/a-robust-test-for-equal-predictive-accuracy/
LOCATION:15.1.39
CATEGORIES:Seminario de A&E
ATTACH;FMTTYPE=image/webp:https://economia.uc3m.es/wp-content/uploads/2026/04/csm_demetrescu_sq_2_ba8074ae62-e1775745860252.webp
END:VEVENT
BEGIN:VEVENT
DTSTART;TZID=Europe/Helsinki:20260505T124500
DTEND;TZID=Europe/Helsinki:20260505T140000
DTSTAMP:20260425T024857
CREATED:20260409T150008Z
LAST-MODIFIED:20260423T085023Z
UID:10530-1777985100-1777989600@economia.uc3m.es
SUMMARY:Convex Choice
DESCRIPTION:Andreas Kleiner\n(University of Bonn)\n  \n«Convex Choice»\n  \nFace-to-face Seminar 15.2.71 – Room 15.1.39
URL:https://economia.uc3m.es/event/tba-189/
LOCATION:15.1.39
CATEGORIES:Seminario de Microeconomía
ATTACH;FMTTYPE=image/jpeg:https://economia.uc3m.es/wp-content/uploads/2026/04/Andreas-Kleiner-e1775746783161.jpg
END:VEVENT
BEGIN:VEVENT
DTSTART;TZID=Europe/Helsinki:20260506T124500
DTEND;TZID=Europe/Helsinki:20260506T140000
DTSTAMP:20260425T024857
CREATED:20260409T150321Z
LAST-MODIFIED:20260409T150321Z
UID:10534-1778071500-1778076000@economia.uc3m.es
SUMMARY:Green Development
DESCRIPTION:Bruno Conte\n(UPF)\n  \n«Green Development»\n  \nFace to face 15.2.71 – Room 15.1.39
URL:https://economia.uc3m.es/event/green-development/
LOCATION:15.1.39
CATEGORIES:Seminario de A&E
ATTACH;FMTTYPE=image/png:https://economia.uc3m.es/wp-content/uploads/2026/04/profile_picture_brunoconte-e1775746988955.png
END:VEVENT
BEGIN:VEVENT
DTSTART;TZID=Europe/Helsinki:20260507T124500
DTEND;TZID=Europe/Helsinki:20260507T140000
DTSTAMP:20260425T024857
CREATED:20260409T150645Z
LAST-MODIFIED:20260409T150645Z
UID:10538-1778157900-1778162400@economia.uc3m.es
SUMMARY:Time Inconsistency with Heterogeneous Agents
DESCRIPTION:Eduardo Dávila\n(Yale University)\n  \n«Time Inconsistency with Heterogeneous Agents»\n  \nFace to face 15.2.71 – Room 15.1.39
URL:https://economia.uc3m.es/event/time-inconsistency-with-heterogeneous-agents/
LOCATION:15.1.39
CATEGORIES:Seminario de Macroeconomía
ATTACH;FMTTYPE=image/jpeg:https://economia.uc3m.es/wp-content/uploads/2026/04/davila_photo-e1775747186913.jpg
END:VEVENT
BEGIN:VEVENT
DTSTART;TZID=Europe/Helsinki:20260508T124500
DTEND;TZID=Europe/Helsinki:20260508T140000
DTSTAMP:20260425T024857
CREATED:20260414T124936Z
LAST-MODIFIED:20260414T124936Z
UID:10573-1778244300-1778248800@economia.uc3m.es
SUMMARY:Stabilization vs. Growth” (with Miguel Farie-e-Castro and Pascal Paul)
DESCRIPTION:Juan Sánchez\n(Federal Reserve Bank of St. Louis)\n  \n«Stabilization vs. Growth” (with Miguel Farie-e-Castro and Pascal Paul)»\n  \nFace to Face 15.2.71  –  Room 15.1.39
URL:https://economia.uc3m.es/event/stabilization-vs-growth-with-miguel-farie-e-castro-and-pascal-paul/
LOCATION:15.1.39
CATEGORIES:Seminario de Macroeconomía
ATTACH;FMTTYPE=image/jpeg:https://economia.uc3m.es/wp-content/uploads/2026/04/descarga-3-e1776170930190.jpg
END:VEVENT
BEGIN:VEVENT
DTSTART;TZID=Europe/Helsinki:20260512T124500
DTEND;TZID=Europe/Helsinki:20260512T140000
DTSTAMP:20260425T024857
CREATED:20260409T151641Z
LAST-MODIFIED:20260409T151649Z
UID:10542-1778589900-1778594400@economia.uc3m.es
SUMMARY:Social Learning with Endogenous Timing (joint with Daniel Hauser and Pauli Murto9
DESCRIPTION:Juuso Valimaki\n(Aalto University School of Business)\n  \n«Social Learning with Endogenous Timing (joint with Daniel Hauser and Pauli Murto9»\n  \nFace-to-face Seminar 15.2.71  – Room 15.1.39
URL:https://economia.uc3m.es/event/social-learning-with-endogenous-timing-joint-with-daniel-hauser-and-pauli-murto9/
LOCATION:15.1.39
CATEGORIES:Seminario de Microeconomía
ATTACH;FMTTYPE=image/jpeg:https://economia.uc3m.es/wp-content/uploads/2026/04/Juuso-Valimaki-e1775747781853.jpg
END:VEVENT
BEGIN:VEVENT
DTSTART;TZID=Europe/Helsinki:20260512T124500
DTEND;TZID=Europe/Helsinki:20260512T140000
DTSTAMP:20260425T024857
CREATED:20260409T153049Z
LAST-MODIFIED:20260414T125230Z
UID:10546-1778589900-1778594400@economia.uc3m.es
SUMMARY:GI Jobs in GE: The macroeconomic effects of defense employment
DESCRIPTION:Ethan Ilzetzki\n(LSE)\n  \n«GI Jobs in GE: The macroeconomic effects of defense employment»\n  \nRoom  Seminar 15.0.05
URL:https://economia.uc3m.es/event/gi-jobs-in-ge-the-macroeconomic-effects-of-defense-employment/
LOCATION:15.1.39
CATEGORIES:Seminario de Macroeconomía
ATTACH;FMTTYPE=image/jpeg:https://economia.uc3m.es/wp-content/uploads/2026/04/descarga.jpg
END:VEVENT
BEGIN:VEVENT
DTSTART;TZID=Europe/Helsinki:20260518T124500
DTEND;TZID=Europe/Helsinki:20260518T140000
DTSTAMP:20260425T024857
CREATED:20260413T122444Z
LAST-MODIFIED:20260413T122444Z
UID:10550-1779108300-1779112800@economia.uc3m.es
SUMMARY:Preaching to the Future: Religious Schools\, Youth Organizations\, and the Rise of Political Islam in Türkiye
DESCRIPTION:Janne Tukiainen\n(University of Turku)\n  \n«Preaching to the Future: Religious Schools\, Youth Organizations\, and the Rise of Political Islam in Türkiye»\n  \nFace to Face 15.2.71  –  Room 15.1.39
URL:https://economia.uc3m.es/event/preaching-to-the-future-religious-schools-youth-organizations-and-the-rise-of-political-islam-in-turkiye/
LOCATION:15.1.39
CATEGORIES:Seminario de A&E
ATTACH;FMTTYPE=image/jpeg:https://economia.uc3m.es/wp-content/uploads/2026/04/40621850-e1776083051865.jpg
END:VEVENT
BEGIN:VEVENT
DTSTART;TZID=Europe/Helsinki:20260519T124500
DTEND;TZID=Europe/Helsinki:20260519T140000
DTSTAMP:20260425T024857
CREATED:20260421T113140Z
LAST-MODIFIED:20260421T113140Z
UID:10595-1779194700-1779199200@economia.uc3m.es
SUMMARY:The War of Attrition under Uncertainty: Theory and Robust Testable Implications » with Jean-Paul Décamps and Fabien Gensbittel
DESCRIPTION:Thomas Mariotti\n(TSE)\n  \n«The War of Attrition under Uncertainty: Theory and Robust Testable Implications » with Jean-Paul Décamps and Fabien Gensbittel»\n  \nFace-to-face Seminar 15.2.71 – Room 15.1.39
URL:https://economia.uc3m.es/event/the-war-of-attrition-under-uncertainty-theory-and-robust-testable-implications-with-jean-paul-decamps-and-fabien-gensbittel/
LOCATION:15.1.39
CATEGORIES:Seminario de Microeconomía
ATTACH;FMTTYPE=image/jpeg:https://economia.uc3m.es/wp-content/uploads/2026/04/descarga-5.jpg
END:VEVENT
BEGIN:VEVENT
DTSTART;TZID=Europe/Helsinki:20260521T124500
DTEND;TZID=Europe/Helsinki:20260521T140000
DTSTAMP:20260425T024857
CREATED:20260413T123353Z
LAST-MODIFIED:20260413T123353Z
UID:10554-1779367500-1779372000@economia.uc3m.es
SUMMARY:Idea Rents and Firm Growth (with Boppart\, Laski\, and Li)
DESCRIPTION:Pete Klenow\n(Stanford)\n  \n«Idea Rents and Firm Growth (with Boppart\, Laski\, and Li)»\n  \nFace to Face 15.2.71 – Room 15.1.39
URL:https://economia.uc3m.es/event/idea-rents-and-firm-growth-with-boppart-laski-and-li/
LOCATION:15.1.39
CATEGORIES:Seminario de Macroeconomía
ATTACH;FMTTYPE=image/jpeg:https://economia.uc3m.es/wp-content/uploads/2026/04/descarga-1-e1776083607396.jpg
END:VEVENT
BEGIN:VEVENT
DTSTART;TZID=Europe/Helsinki:20260522T124500
DTEND;TZID=Europe/Helsinki:20260522T140000
DTSTAMP:20260425T024857
CREATED:20260413T125336Z
LAST-MODIFIED:20260413T125336Z
UID:10558-1779453900-1779458400@economia.uc3m.es
SUMMARY:Social Learning among Urban Manufacturing Firms: Energy-Efficient Motors in Bangladesh
DESCRIPTION:Eric Verhoogen\n(Columbia University)\n  \n«Social Learning among Urban Manufacturing Firms: Energy-Efficient Motors in Bangladesh»\n  \nFace to Face 15.2.71  –  Room 15.1.39
URL:https://economia.uc3m.es/event/social-learning-among-urban-manufacturing-firms-energy-efficient-motors-in-bangladesh/
LOCATION:15.1.39
CATEGORIES:Seminario de Macroeconomía
ATTACH;FMTTYPE=image/png:https://economia.uc3m.es/wp-content/uploads/2026/04/Eric-Verhoogen-e1776084704498.png
END:VEVENT
BEGIN:VEVENT
DTSTART;TZID=Europe/Helsinki:20260526T124500
DTEND;TZID=Europe/Helsinki:20260526T140000
DTSTAMP:20260425T024857
CREATED:20260421T114600Z
LAST-MODIFIED:20260421T114600Z
UID:10599-1779799500-1779804000@economia.uc3m.es
SUMMARY:Success\, Learning\, and Overconfidence in Elimination Contests
DESCRIPTION:Luis Santos-Pinto\n(University of Lausanne)\n  \n«Success\, Learning\, and Overconfidence in Elimination Contests»\n  \nFace-to-face Seminar 15.2.71 – Room 15.1.39
URL:https://economia.uc3m.es/event/success-learning-and-overconfidence-in-elimination-contests/
LOCATION:15.1.39
CATEGORIES:Seminario de Microeconomía
ATTACH;FMTTYPE=image/jpeg:https://economia.uc3m.es/wp-content/uploads/2026/04/LuisSantos-1-e1776771931126.jpg
END:VEVENT
BEGIN:VEVENT
DTSTART;TZID=Europe/Helsinki:20260528T124500
DTEND;TZID=Europe/Helsinki:20260528T140000
DTSTAMP:20260425T024857
CREATED:20260414T125925Z
LAST-MODIFIED:20260414T125925Z
UID:10582-1779972300-1779976800@economia.uc3m.es
SUMMARY:A Theory of Endogenous Degrowth and Environmental Sustainability
DESCRIPTION:Michael Peters\n(Yale Department of Economics)\n  \n«A Theory of Endogenous Degrowth and Environmental Sustainability»\n  \nFace to Face 15.2.71  –  Room 15.1.39
URL:https://economia.uc3m.es/event/a-theory-of-endogenous-degrowth-and-environmental-sustainability/
LOCATION:15.1.39
CATEGORIES:Seminario de Macroeconomía
ATTACH;FMTTYPE=image/jpeg:https://economia.uc3m.es/wp-content/uploads/2026/04/descarga-4-e1776171533887.jpg
END:VEVENT
BEGIN:VEVENT
DTSTART;TZID=Europe/Helsinki:20260601T124500
DTEND;TZID=Europe/Helsinki:20260601T140000
DTSTAMP:20260425T024857
CREATED:20260421T121803Z
LAST-MODIFIED:20260421T121803Z
UID:10603-1780317900-1780322400@economia.uc3m.es
SUMMARY:The Global Incumbency Advantage
DESCRIPTION:Benjamin Marx\n(Boston University)\n  \n«The Global Incumbency Advantage»\n  \nFace to Face 15.2.71  –  Room 15.1.39
URL:https://economia.uc3m.es/event/the-global-incumbency-advantage/
LOCATION:15.1.39
CATEGORIES:Seminario de A&E
ATTACH;FMTTYPE=image/jpeg:https://economia.uc3m.es/wp-content/uploads/2026/04/Benjamin-Marx-e1776773854715.jpg
END:VEVENT
BEGIN:VEVENT
DTSTART;TZID=Europe/Helsinki:20260608T124500
DTEND;TZID=Europe/Helsinki:20260608T140000
DTSTAMP:20260425T024857
CREATED:20260421T123244Z
LAST-MODIFIED:20260421T123244Z
UID:10607-1780922700-1780927200@economia.uc3m.es
SUMMARY:TBA
DESCRIPTION:Iván Fernández-Val\n(Boston University)\n  \n«TBA»\n  \nFace to Face 15.2.71  –  Room 15.1.39
URL:https://economia.uc3m.es/event/tba-191/
LOCATION:15.1.39
CATEGORIES:Seminario de A&E
ATTACH;FMTTYPE=image/jpeg:https://economia.uc3m.es/wp-content/uploads/2026/04/2023-09-17_BUEcon-21-scaled-1-e1776774737641.jpg
END:VEVENT
BEGIN:VEVENT
DTSTART;TZID=Europe/Helsinki:20260609T124500
DTEND;TZID=Europe/Helsinki:20260609T140000
DTSTAMP:20260425T024857
CREATED:20260421T125336Z
LAST-MODIFIED:20260421T125336Z
UID:10611-1781009100-1781013600@economia.uc3m.es
SUMMARY:Testing or selling? Market entry under uncertainty\, paper joint with Chantal Marlats (Université de Tours)
DESCRIPTION:Lucie Ménager\n(Université Paris Panthéon-Assas)\n  \n«Testing or selling? Market entry under uncertainty\, paper joint with Chantal Marlats (Université de Tours)»\n  \nFace-to-face Seminar 15.2.71  – Room 15.1.39
URL:https://economia.uc3m.es/event/testing-or-selling-market-entry-under-uncertainty-paper-joint-with-chantal-marlats-universite-de-tours/
LOCATION:15.1.39
CATEGORIES:Seminario de Microeconomía
ATTACH;FMTTYPE=image/jpeg:https://economia.uc3m.es/wp-content/uploads/2026/04/Lucie-Menager-e1776775992334.jpg
END:VEVENT
BEGIN:VEVENT
DTSTART;TZID=Europe/Helsinki:20260610T124500
DTEND;TZID=Europe/Helsinki:20260610T140000
DTSTAMP:20260425T024857
CREATED:20260423T085705Z
LAST-MODIFIED:20260423T085803Z
UID:10618-1781095500-1781100000@economia.uc3m.es
SUMMARY:Biased Expectations\, Unequal Opportunities: The Role of Teachers in Social Mobility
DESCRIPTION:Michela Carlana\n(Harvard Kennedy School)\n  \n«Biased Expectations\, Unequal Opportunities: The Role of Teachers in Social Mobility»\n  \nFace to Face 15.2.71  –  Room 15.1.39
URL:https://economia.uc3m.es/event/biased-expectations-unequal-opportunities-the-role-of-teachers-in-social-mobility/
LOCATION:15.1.39
CATEGORIES:Seminario de A&E
ATTACH;FMTTYPE=image/jpeg:https://economia.uc3m.es/wp-content/uploads/2026/04/Michela-Carlana-e1776934595179.jpg
END:VEVENT
END:VCALENDAR