BEGIN:VCALENDAR
VERSION:2.0
PRODID:-//Departamento de Economía Universidad Carlos III - ECPv6.15.19//NONSGML v1.0//EN
CALSCALE:GREGORIAN
METHOD:PUBLISH
X-WR-CALNAME:Departamento de Economía Universidad Carlos III
X-ORIGINAL-URL:https://economia.uc3m.es
X-WR-CALDESC:Eventos para Departamento de Economía Universidad Carlos III
REFRESH-INTERVAL;VALUE=DURATION:PT1H
X-Robots-Tag:noindex
X-PUBLISHED-TTL:PT1H
BEGIN:VTIMEZONE
TZID:Europe/Helsinki
BEGIN:DAYLIGHT
TZOFFSETFROM:+0200
TZOFFSETTO:+0300
TZNAME:EEST
DTSTART:20210328T010000
END:DAYLIGHT
BEGIN:STANDARD
TZOFFSETFROM:+0300
TZOFFSETTO:+0200
TZNAME:EET
DTSTART:20211031T010000
END:STANDARD
BEGIN:DAYLIGHT
TZOFFSETFROM:+0200
TZOFFSETTO:+0300
TZNAME:EEST
DTSTART:20220327T010000
END:DAYLIGHT
BEGIN:STANDARD
TZOFFSETFROM:+0300
TZOFFSETTO:+0200
TZNAME:EET
DTSTART:20221030T010000
END:STANDARD
BEGIN:DAYLIGHT
TZOFFSETFROM:+0200
TZOFFSETTO:+0300
TZNAME:EEST
DTSTART:20230326T010000
END:DAYLIGHT
BEGIN:STANDARD
TZOFFSETFROM:+0300
TZOFFSETTO:+0200
TZNAME:EET
DTSTART:20231029T010000
END:STANDARD
END:VTIMEZONE
BEGIN:VEVENT
DTSTART;TZID=Europe/Helsinki:20220404T124500
DTEND;TZID=Europe/Helsinki:20220404T141500
DTSTAMP:20260425T005649
CREATED:20220321T140059Z
LAST-MODIFIED:20220330T081606Z
UID:6099-1649076300-1649081700@economia.uc3m.es
SUMMARY:When do state-dependent local projections work?
DESCRIPTION:Silvia Goncalves\n(McGill University)\n  \n«When do state-dependent local projections work?»\n  \nFace-to-face seminar – Room 18.0.A13\nOr join the virtual session here
URL:https://economia.uc3m.es/event/silvia-goncalves/
LOCATION:18.0.A13
CATEGORIES:Seminario de A&E
ATTACH;FMTTYPE=image/jpeg:https://economia.uc3m.es/wp-content/uploads/2022/03/silvia_goncalves.jpg
END:VEVENT
BEGIN:VEVENT
DTSTART;TZID=Europe/Helsinki:20220406T124500
DTEND;TZID=Europe/Helsinki:20220406T141500
DTSTAMP:20260425T005649
CREATED:20220321T140527Z
LAST-MODIFIED:20220328T075411Z
UID:6103-1649249100-1649254500@economia.uc3m.es
SUMMARY:Revisiting the Determinants of Unemployment Duration: Variance Decomposition à la ABS in Spain
DESCRIPTION:Maia Güell\n(University of Edinburgh)\n  \n«Revisiting the Determinants of Unemployment Duration: Variance Decomposition à la ABS in Spain» joint with Cristina Lafuente\n  \nFace-to-face seminar – Room 18.0.A13\nOr join the virtual session here
URL:https://economia.uc3m.es/event/maia-guell/
LOCATION:18.0.A13
CATEGORIES:Seminario de A&E
ATTACH;FMTTYPE=image/jpeg:https://economia.uc3m.es/wp-content/uploads/2022/03/maia-guell.jpg
END:VEVENT
BEGIN:VEVENT
DTSTART;TZID=Europe/Helsinki:20220407T104500
DTEND;TZID=Europe/Helsinki:20220407T120000
DTSTAMP:20260425T005649
CREATED:20220406T074613Z
LAST-MODIFIED:20220406T074613Z
UID:6170-1649328300-1649332800@economia.uc3m.es
SUMMARY:The Impact of Exposure to Female Leadership on Marriage and Fertility Outcomes of Young Girls: Evidence from Rural India
DESCRIPTION:Sueda Evirgen\n(Tilburg)\n  \n«The Impact of Exposure to Female Leadership on Marriage and Fertility Outcomes of Young Girls: Evidence from Rural India»\n  \nFace-to-face seminar – Room 9.2.12
URL:https://economia.uc3m.es/event/sueda-evirgen/
LOCATION:9.2.12
CATEGORIES:Seminario de Enter
ATTACH;FMTTYPE=image/jpeg:https://economia.uc3m.es/wp-content/uploads/2022/04/IMG_2382.jpg
END:VEVENT
BEGIN:VEVENT
DTSTART;TZID=Europe/Helsinki:20220407T124500
DTEND;TZID=Europe/Helsinki:20220407T140000
DTSTAMP:20260425T005649
CREATED:20220321T140855Z
LAST-MODIFIED:20220406T143415Z
UID:6107-1649335500-1649340000@economia.uc3m.es
SUMMARY:Monetary Policy\, Capital Controls\, and International Portfolios
DESCRIPTION:Sebastián Fanelli\n(CEMFI)\n  \n«Monetary Policy\, Capital Controls\, and International Portfolios»\n  \nIn-person seminar – Room 15.1.39
URL:https://economia.uc3m.es/event/sebastian-fanelli/
LOCATION:15.1.39
CATEGORIES:Seminario de Macroeconomía
ATTACH;FMTTYPE=image/jpeg:https://economia.uc3m.es/wp-content/uploads/2022/03/Emoeld5XUAAmyX8.jpg
END:VEVENT
BEGIN:VEVENT
DTSTART;TZID=Europe/Helsinki:20220419T124500
DTEND;TZID=Europe/Helsinki:20220419T140000
DTSTAMP:20260425T005649
CREATED:20220322T121755Z
LAST-MODIFIED:20220419T072810Z
UID:6116-1650372300-1650376800@economia.uc3m.es
SUMMARY:Expected utility as an expression of linear preference intensity
DESCRIPTION:Andrés Perea\n(Maastricht University)\n  \n«Expected utility as an expression of linear preference intensity»\n  \nFace-to-face seminar – Room 15.1.39
URL:https://economia.uc3m.es/event/andres-perea/
LOCATION:15.1.39
CATEGORIES:Seminario de Microeconomía
ATTACH;FMTTYPE=image/jpeg:https://economia.uc3m.es/wp-content/uploads/2022/03/Expert-guide-e1647947865283.jpg
END:VEVENT
BEGIN:VEVENT
DTSTART;TZID=Europe/Helsinki:20220421T124500
DTEND;TZID=Europe/Helsinki:20220421T140000
DTSTAMP:20260425T005650
CREATED:20220322T122206Z
LAST-MODIFIED:20220419T072835Z
UID:6120-1650545100-1650549600@economia.uc3m.es
SUMMARY:Optimal Exchange Rate Policy
DESCRIPTION:Dmitry Mukhin\n(London School of Economics)\n  \n«Optimal Exchange Rate Policy»\n  \nFace-to-face seminar – Room 15.1.39
URL:https://economia.uc3m.es/event/dmitry-mukhin/
LOCATION:15.1.39
CATEGORIES:Seminario de Macroeconomía
ATTACH;FMTTYPE=image/png:https://economia.uc3m.es/wp-content/uploads/2022/03/1iJCqs11F30Jg71kgYoHwbXtCKjI7yNLq-e1647948109361.png
END:VEVENT
BEGIN:VEVENT
DTSTART;TZID=Europe/Helsinki:20220425T124500
DTEND;TZID=Europe/Helsinki:20220425T141500
DTSTAMP:20260425T005650
CREATED:20220322T122540Z
LAST-MODIFIED:20220425T072402Z
UID:6111-1650890700-1650896100@economia.uc3m.es
SUMMARY:Workplace Presenteeism\, Job Substitutability and Gender Inequality
DESCRIPTION: CANCELLED\nGhazala Azmat\n(Sciences Po)\n  \n«Workplace Presenteeism\, Job Substitutability and Gender Inequality» (joint with Lena Hensvik and Olof Rosenqvist)\n  \nFace-to-face seminar – Room 15.1.39
URL:https://economia.uc3m.es/event/ghazala-azmat/
LOCATION:15.1.39
CATEGORIES:Seminario de A&E
END:VEVENT
BEGIN:VEVENT
DTSTART;TZID=Europe/Helsinki:20220426T124500
DTEND;TZID=Europe/Helsinki:20220426T140000
DTSTAMP:20260425T005650
CREATED:20220419T110922Z
LAST-MODIFIED:20220420T074224Z
UID:6187-1650977100-1650981600@economia.uc3m.es
SUMMARY:A gender bias in reporting expected ranks when performance feedback is at stake
DESCRIPTION:Aurora García Gallego\n(Universitat Jaume I)\n  \n«A gender bias in reporting expected ranks when performance feedback is at stake»\n  \nFace-to-face seminar – Room 15.1.39
URL:https://economia.uc3m.es/event/aurora-garcia-gallego/
LOCATION:15.1.39
CATEGORIES:Seminario de Microeconomía
ATTACH;FMTTYPE=image/jpeg:https://economia.uc3m.es/wp-content/uploads/2022/04/descarga.jpg
END:VEVENT
BEGIN:VEVENT
DTSTART;TZID=Europe/Helsinki:20220428T124500
DTEND;TZID=Europe/Helsinki:20220428T140000
DTSTAMP:20260425T005650
CREATED:20220322T125210Z
LAST-MODIFIED:20220422T090455Z
UID:6136-1651149900-1651154400@economia.uc3m.es
SUMMARY:Uneven inflationary pressures and topsy-turvy capital flows
DESCRIPTION:Julien Bengui\n(Bank of Canada)\n  \n«Uneven inflationary pressures and topsy-turvy capital flows»\n  \nFace-to-face seminar – Room 15.1.39
URL:https://economia.uc3m.es/event/julien-bengui/
LOCATION:15.1.39
CATEGORIES:Seminario de Macroeconomía
ATTACH;FMTTYPE=image/jpeg:https://economia.uc3m.es/wp-content/uploads/2022/03/jul-cropped.jpg
END:VEVENT
BEGIN:VEVENT
DTSTART;TZID=Europe/Helsinki:20220505T124500
DTEND;TZID=Europe/Helsinki:20220505T140000
DTSTAMP:20260425T005650
CREATED:20220420T082246Z
LAST-MODIFIED:20220426T085554Z
UID:6201-1651754700-1651759200@economia.uc3m.es
SUMMARY:The Long-Term Earnings’ Effects of a Credit Market Disruption
DESCRIPTION:Efi Adamopoulou\n(University of Mannheim)\n  \n«The Long-Term Earnings’ Effects of a Credit Market Disruption»\n  \nFace-to-face seminar – Room 15.1.39
URL:https://economia.uc3m.es/event/efi-adamopoulou/
LOCATION:15.1.39
CATEGORIES:Seminario de Macroeconomía
ATTACH;FMTTYPE=image/jpeg:https://economia.uc3m.es/wp-content/uploads/2022/04/Photo_Adamopoulou.jpg
END:VEVENT
BEGIN:VEVENT
DTSTART;TZID=Europe/Helsinki:20220509T124500
DTEND;TZID=Europe/Helsinki:20220509T140000
DTSTAMP:20260425T005650
CREATED:20220420T112657Z
LAST-MODIFIED:20220503T115259Z
UID:6205-1652100300-1652104800@economia.uc3m.es
SUMMARY:Why Finding a Job Gets Harder as Spells lengthen: Applications vs Interviews and Offers
DESCRIPTION:Rafael Lalive\n(University of Lausanne)\n  \n«Why Finding a Job Gets Harder as Spells lengthen: Applications vs Interviews and Offers» (joint with Aderonke Osikominu\, Jeremy Zuchuat\, and Josef Zweimuller)\n  \nFace-to-face seminar – Room 15.1.39
URL:https://economia.uc3m.es/event/rafael-lalive/
LOCATION:15.1.39
CATEGORIES:Seminario de A&E
ATTACH;FMTTYPE=image/jpeg:https://economia.uc3m.es/wp-content/uploads/2022/04/EmbeddedImage-e1650454000468.jpg
END:VEVENT
BEGIN:VEVENT
DTSTART;TZID=Europe/Helsinki:20220510T124500
DTEND;TZID=Europe/Helsinki:20220510T140000
DTSTAMP:20260425T005650
CREATED:20220420T113013Z
LAST-MODIFIED:20220503T115503Z
UID:6209-1652186700-1652191200@economia.uc3m.es
SUMMARY:Optimal Contests with Incomplete Information and Convex Effort Costs
DESCRIPTION:Mengxi Zhang\n(University of Bonn)\n  \n«Optimal Contests with Incomplete Information and Convex Effort Costs»\n  \nFace-to-face seminar – Room 15.1.39
URL:https://economia.uc3m.es/event/mengxi-zhang/
LOCATION:15.1.39
CATEGORIES:Seminario de Microeconomía
ATTACH;FMTTYPE=image/jpeg:https://economia.uc3m.es/wp-content/uploads/2022/04/descarga-1.jpg
END:VEVENT
BEGIN:VEVENT
DTSTART;TZID=Europe/Helsinki:20220512T124500
DTEND;TZID=Europe/Helsinki:20220512T140000
DTSTAMP:20260425T005650
CREATED:20220503T120224Z
LAST-MODIFIED:20220503T120224Z
UID:6276-1652359500-1652364000@economia.uc3m.es
SUMMARY:Labor Misallocation Across Firms and Regions
DESCRIPTION:Tommaso Porzio\n(Columbia Business School)\n  \n«Labor Misallocation Across Firms and Regions«\n  \nFace-to-face seminar – Room 15.1.39
URL:https://economia.uc3m.es/event/tommaso-porzio/
LOCATION:15.1.39
CATEGORIES:Seminario de Macroeconomía
ATTACH;FMTTYPE=image/jpeg:https://economia.uc3m.es/wp-content/uploads/2022/05/EmbeddedImage-e1651579331634.jpg
END:VEVENT
BEGIN:VEVENT
DTSTART;TZID=Europe/Helsinki:20220512T150000
DTEND;TZID=Europe/Helsinki:20220512T161500
DTSTAMP:20260425T005650
CREATED:20200212T141624Z
LAST-MODIFIED:20220503T124636Z
UID:4128-1652367600-1652372100@economia.uc3m.es
SUMMARY:Razor-Thin Elections
DESCRIPTION:Cesar Martinelli\n(George Mason University)\n  \n«Razor-Thin Elections» (joint work with David K Levine)\n  \nFace-to-face seminar – Room 15.1.41
URL:https://economia.uc3m.es/event/cesar-martinelli/
LOCATION:15.1.41
CATEGORIES:Seminario de Microeconomía
ATTACH;FMTTYPE=image/jpeg:https://economia.uc3m.es/wp-content/uploads/2020/02/unnamed-1.jpg
END:VEVENT
BEGIN:VEVENT
DTSTART;TZID=Europe/Helsinki:20220516T124500
DTEND;TZID=Europe/Helsinki:20220516T140000
DTSTAMP:20260425T005650
CREATED:20210513T104036Z
LAST-MODIFIED:20220510T113753Z
UID:5149-1652705100-1652709600@economia.uc3m.es
SUMMARY:Long-run Health and Mortality Effects of Exposure to Universal Health Care in Infancy
DESCRIPTION:Melanie Lührmann\n(Royal Holloway)\n  \n«Long-run Health and Mortality Effects of Exposure to Universal Health Care in Infancy» (with Tanya Wilson)\n  \nFace-to-face seminar – Room 15.1.39
URL:https://economia.uc3m.es/event/melanie-luhrmann/
LOCATION:15.1.39
CATEGORIES:Seminario de A&E
ATTACH;FMTTYPE=image/jpeg:https://economia.uc3m.es/wp-content/uploads/2021/05/EmbeddedImage-1-e1620902428789.jpg
END:VEVENT
BEGIN:VEVENT
DTSTART;TZID=Europe/Helsinki:20220517T124500
DTEND;TZID=Europe/Helsinki:20220517T140000
DTSTAMP:20260425T005650
CREATED:20220421T104549Z
LAST-MODIFIED:20220517T080905Z
UID:6216-1652791500-1652796000@economia.uc3m.es
SUMMARY:Competitive award of scarce airport slots: an empirical analysis
DESCRIPTION:Marleen Marra\n(Sciences Po)\n  \n«Competitive award of scarce airport slots: an empirical analysis»\n  \nFace-to-face seminar – Room 15.1.41
URL:https://economia.uc3m.es/event/marleen-marra/
LOCATION:15.1.41
CATEGORIES:Seminario de Microeconomía
ATTACH;FMTTYPE=image/jpeg:https://economia.uc3m.es/wp-content/uploads/2022/04/Marleen-Marra-e1650537939957.jpg
END:VEVENT
BEGIN:VEVENT
DTSTART;TZID=Europe/Helsinki:20220519T124500
DTEND;TZID=Europe/Helsinki:20220519T140000
DTSTAMP:20260425T005650
CREATED:20220421T105156Z
LAST-MODIFIED:20220511T115919Z
UID:6223-1652964300-1652968800@economia.uc3m.es
SUMMARY:A Labor Market Sorting Model of Scarring and Hysteresis
DESCRIPTION:Edoardo Maria Acabbi\n(UC3M)\n  \n«A Labor Market Sorting Model of Scarring and Hysteresis»\n  \nFace-to-face seminar – Room 15.1.39
URL:https://economia.uc3m.es/event/edoardo-maria-acabbi/
LOCATION:15.1.39
CATEGORIES:Seminario de Macroeconomía
ATTACH;FMTTYPE=image/png:https://economia.uc3m.es/wp-content/uploads/2022/04/perfil-1599207750-e1650538306433.png
END:VEVENT
BEGIN:VEVENT
DTSTART;TZID=Europe/Helsinki:20220523T004500
DTEND;TZID=Europe/Helsinki:20220523T140000
DTSTAMP:20260425T005650
CREATED:20220421T110142Z
LAST-MODIFIED:20220504T065938Z
UID:6227-1653266700-1653314400@economia.uc3m.es
SUMMARY:Uniform vs Competing Standards: A Structural Analysis of the U.S. Wireless Telecommunications Industry
DESCRIPTION:Michela Bonani\n(Tilburg)\n  \n«Uniform vs Competing Standards: A Structural Analysis of the U.S. Wireless Telecommunications Industry«\n  \nFace-to-face seminar – Room 15.1.39
URL:https://economia.uc3m.es/event/michela-bonani/
LOCATION:15.1.39
CATEGORIES:Seminario de Enter
ATTACH;FMTTYPE=image/jpeg:https://economia.uc3m.es/wp-content/uploads/2022/04/descarga-1-1-e1650538894438.jpg
END:VEVENT
BEGIN:VEVENT
DTSTART;TZID=Europe/Helsinki:20220523T150000
DTEND;TZID=Europe/Helsinki:20220523T161500
DTSTAMP:20260425T005650
CREATED:20220421T114628Z
LAST-MODIFIED:20220518T105646Z
UID:6232-1653318000-1653322500@economia.uc3m.es
SUMMARY:Central Bank Mandates and the Financial Cycle: through the Lens of Federal Reserve Speeches
DESCRIPTION:Robin Lumsdaine\n(American University)\n  \n«Central Bank Mandates and the Financial Cycle: through the Lens of Federal Reserve Speeches»\n  \nFace-to-face seminar – Room 15.1.41
URL:https://economia.uc3m.es/event/robin-lumsdaine/
LOCATION:15.1.41
CATEGORIES:Seminario de A&E
ATTACH;FMTTYPE=image/jpeg:https://economia.uc3m.es/wp-content/uploads/2020/02/robin_lumsdaine.jpg
END:VEVENT
BEGIN:VEVENT
DTSTART;TZID=Europe/Helsinki:20220527T124500
DTEND;TZID=Europe/Helsinki:20220527T140000
DTSTAMP:20260425T005650
CREATED:20220421T121342Z
LAST-MODIFIED:20220518T090639Z
UID:6240-1653655500-1653660000@economia.uc3m.es
SUMMARY:Amenity Shocks in the Labor Market
DESCRIPTION:Gianluca Violante\n(Princeton University)\n  \n«Amenity Shocks in the Labor Market»\n  \nFace-to-face seminar – Room 15.1.41
URL:https://economia.uc3m.es/event/gianluca-violante/
LOCATION:15.1.41
CATEGORIES:Seminario de Macroeconomía
ATTACH;FMTTYPE=image/jpeg:https://economia.uc3m.es/wp-content/uploads/2022/04/maxresdefault-e1650543215710.jpg
END:VEVENT
BEGIN:VEVENT
DTSTART;TZID=Europe/Helsinki:20220530T124500
DTEND;TZID=Europe/Helsinki:20220530T140000
DTSTAMP:20260425T005650
CREATED:20220421T121654Z
LAST-MODIFIED:20220523T092440Z
UID:6244-1653914700-1653919200@economia.uc3m.es
SUMMARY:From Refugees to Citizens: Returns to Naturalization and Labour Market Outcomes
DESCRIPTION:Francesco Fasani\n(University of Milan)\n  \n«From Refugees to Citizens: Returns to Naturalization and Labour Market Outcomes» (with T.Frattini and M.Pirot)\n  \nFace-to-face seminar – Room 15.1.39
URL:https://economia.uc3m.es/event/francesco-fasani/
LOCATION:15.1.39
CATEGORIES:Seminario de A&E
ATTACH;FMTTYPE=image/jpeg:https://economia.uc3m.es/wp-content/uploads/2022/04/EmbeddedImage-1-e1650543405178.jpg
END:VEVENT
BEGIN:VEVENT
DTSTART;TZID=Europe/Helsinki:20220531T124500
DTEND;TZID=Europe/Helsinki:20220531T140000
DTSTAMP:20260425T005650
CREATED:20220525T085405Z
LAST-MODIFIED:20220531T091106Z
UID:6293-1654001100-1654005600@economia.uc3m.es
SUMMARY:Naivete and Sophistication in Initial and Repeated Play
DESCRIPTION:Nagore Iriberri\n(University of the Basque Country)\n  \n«Naivete and Sophistication in Initial and Repeated Play«\n  \nFace-to-face seminar – Room 15.1.39
URL:https://economia.uc3m.es/event/nagore-iriberri/
LOCATION:15.1.39
CATEGORIES:Seminario de Microeconomía
ATTACH;FMTTYPE=image/jpeg:https://economia.uc3m.es/wp-content/uploads/2022/05/NI4-e1653468833984.jpg
END:VEVENT
BEGIN:VEVENT
DTSTART;TZID=Europe/Helsinki:20220607T124500
DTEND;TZID=Europe/Helsinki:20220607T140000
DTSTAMP:20260425T005650
CREATED:20220531T090949Z
LAST-MODIFIED:20220531T091022Z
UID:6298-1654605900-1654610400@economia.uc3m.es
SUMMARY:Competing Narratives in Action: Belief Cycles throughout the Pandemic
DESCRIPTION:Ricardo Serrano Padial\n(Drexel University)\n  \n«Competing Narratives in Action: Belief Cycles throughout the Pandemic» (joint with Marco Angrisani & Anya Samek)\n  \nFace-to-face seminar – Room 15.1.39
URL:https://economia.uc3m.es/event/ricardo-serrano-padial/
LOCATION:15.1.39
CATEGORIES:Seminario de Microeconomía
ATTACH;FMTTYPE=image/png:https://economia.uc3m.es/wp-content/uploads/2022/04/1453847935.png
END:VEVENT
BEGIN:VEVENT
DTSTART;TZID=Europe/Helsinki:20220609T124500
DTEND;TZID=Europe/Helsinki:20220609T140000
DTSTAMP:20260425T005650
CREATED:20220503T121018Z
LAST-MODIFIED:20220607T102022Z
UID:6280-1654778700-1654783200@economia.uc3m.es
SUMMARY:Do Temporary Help Agencies Help? Employment Transitions for Low-Skilled Workers
DESCRIPTION:Ismael Gálvez-Iniesta\n(Universitat de les Illes Balears)\n  \n«Do Temporary Help Agencies Help? Employment Transitions for Low-Skilled Workers» (with Raquel Carrasco and Belén Jerez)\n  \nFace-to-face seminar – Room 15.1.39
URL:https://economia.uc3m.es/event/ismael-galvez-iniesta/
CATEGORIES:Seminario de A&E,Seminario de Macroeconomía
ATTACH;FMTTYPE=image/jpeg:https://economia.uc3m.es/wp-content/uploads/2022/05/EmbeddedImage-1-e1651579807642.jpg
END:VEVENT
BEGIN:VEVENT
DTSTART;TZID=Europe/Helsinki:20220614T124500
DTEND;TZID=Europe/Helsinki:20220614T140000
DTSTAMP:20260425T005650
CREATED:20200220T172314Z
LAST-MODIFIED:20220613T074527Z
UID:4205-1655210700-1655215200@economia.uc3m.es
SUMMARY:An Economic Framework for Vaccine Prioritization
DESCRIPTION:Piotr Dworczak\n(Northwestern University)\n  \n«An Economic Framework for Vaccine Prioritization»\n  \nFace-to-face seminar – Room 15.1.39
URL:https://economia.uc3m.es/event/piotr-dworczak/
LOCATION:15.1.39
CATEGORIES:Seminario de Microeconomía
ATTACH;FMTTYPE=image/jpeg:https://economia.uc3m.es/wp-content/uploads/2020/02/picture2-r2de84-e1582215782559.jpg
END:VEVENT
BEGIN:VEVENT
DTSTART;TZID=Europe/Helsinki:20220616T111500
DTEND;TZID=Europe/Helsinki:20220616T135000
DTSTAMP:20260425T005650
CREATED:20220607T101324Z
LAST-MODIFIED:20220615T104956Z
UID:6309-1655378100-1655387400@economia.uc3m.es
SUMMARY:PhD Student Workshop - Macroeconomics Session
DESCRIPTION:Macroeconomics Session\n  \nChair: Belén Jerez\n  \n11:15 -11:30 – Anastasios Koufakis – Top Wealth Inequality in Spain: A Generational Shift.\n11:30 -11:45 – Oscar Jaulín – A Survey-based Instrument to Analyze Monetary Policy in Latin America.\n11:45 -12:05 – Alvaro Jañez – Production Organization and Labor Market Concentration.\n12:05 -12:35 – Isabel Micó – Inheritance Taxation and Wealth Inequality: Evidence from Spain.\n  \nBREAK: 12:35 – 12:50\n  \n12:50 -13:20 – Fernando Riverio – Capital Misallocation and High-Growth Firms in Spain.\n13:20 -13:50 – Morteza Ghomi – Monetary Policy\, Economic Uncertainty\, and Firms R&D Expenditure.\n  \nFace-to-face Workshop – Room 18.1.A07\nOr join the virtual session here
URL:https://economia.uc3m.es/event/phd-student-workshop-macroeconomics-session/
LOCATION:18.1.A07
CATEGORIES:PhD Student Workshop
END:VEVENT
BEGIN:VEVENT
DTSTART;TZID=Europe/Helsinki:20220616T123500
DTEND;TZID=Europe/Helsinki:20220616T140000
DTSTAMP:20260425T005650
CREATED:20220607T101122Z
LAST-MODIFIED:20220615T104805Z
UID:6307-1655382900-1655388000@economia.uc3m.es
SUMMARY:PhD Student Workshop - Econometrics Session
DESCRIPTION:Econometrics Session\n  \nChair: Juan Carlos Escanciano\n  \n12:35 -12:50 – Andrey Ramos – From Paleo-Cooling to Paleo-Warming.\n12:50 -13:05 – Joan Alegre – Robust Minimum Distance Inference in Structural Models.\n13:05 -13:20 – Facundo Argañaraz – Locally Robust Inference for Models with Unobserved Heterogeneity.\n13:20 -13:40 – Joël Terschuur – Debiased Semiparametric U-statistics: Machine Learning Inference on Inequality of Opportunity.\n13:40 -14:00 – Antonio Raiola – On Nontrivial Power of Panel Slope Homogeneity Tests in the Presence of Grouped Patterns.\n  \nFace-to-face Workshop – Room 18.0.A13\nOr join the virtual session here
URL:https://economia.uc3m.es/event/phd-student-workshop-econometrics-session-2/
LOCATION:18.0.A13
CATEGORIES:PhD Student Workshop
END:VEVENT
BEGIN:VEVENT
DTSTART;TZID=Europe/Helsinki:20220617T111500
DTEND;TZID=Europe/Helsinki:20220617T130000
DTSTAMP:20260425T005650
CREATED:20220607T101522Z
LAST-MODIFIED:20220615T105135Z
UID:6311-1655464500-1655470800@economia.uc3m.es
SUMMARY:PhD Student Workshop - Applied Economics
DESCRIPTION:Applied Economics Session\n  \nChair: Jesús Fernández-Huertas\n  \n11:15 -11:30 – Camila Steffens – E-commerce and local labor markets.\n11:30 -11:50 – Lukas Delgado – Production Organization and Labor Market Concentration.\n11:50 -12:10 – María Alexandra Castellanos – TBA.\n12:10 -12:40 – Agustina Martínez – Raise your voice! Activism and peer effects in online social networks.\n12:40 -13:05 – Lorenzo de Masi – TBA.\n  \nFace-to-face Workshop – Room 18.1.A07\nOr join the virtual session here
URL:https://economia.uc3m.es/event/phd-student-workshop-applied-economics-2/
LOCATION:18.1.A07
CATEGORIES:PhD Student Workshop
END:VEVENT
BEGIN:VEVENT
DTSTART;TZID=Europe/Helsinki:20220627T124500
DTEND;TZID=Europe/Helsinki:20220627T140000
DTSTAMP:20260425T005650
CREATED:20220426T084654Z
LAST-MODIFIED:20220621T074041Z
UID:6254-1656333900-1656338400@economia.uc3m.es
SUMMARY:Policy Choice in Time Series by Empirical Welfare Maximization
DESCRIPTION:Toru Kitagawa\n(University College London)\n  \n«Policy Choice in Time Series by Empirical Welfare Maximization»\n  \nFace-to-face seminar – Room 15.1.39
URL:https://economia.uc3m.es/event/toru-kitagawa/
LOCATION:15.1.39
CATEGORIES:Seminario de A&E
ATTACH;FMTTYPE=image/jpeg:https://economia.uc3m.es/wp-content/uploads/2022/04/size_3_toru-kitagawa-e1650962805836.jpg
END:VEVENT
BEGIN:VEVENT
DTSTART;TZID=Europe/Helsinki:20220628T123000
DTEND;TZID=Europe/Helsinki:20220628T140000
DTSTAMP:20260425T005650
CREATED:20220622T103848Z
LAST-MODIFIED:20220624T074133Z
UID:6329-1656419400-1656424800@economia.uc3m.es
SUMMARY:Doctor Honoris Causa to Ehud Kalai
DESCRIPTION:Ehud Kalai\n(Kellogg School of Management)\n  \nThe Rector of Universidad Carlos III de Madrid\, Juan Romo\, invites you to attend the Solemn Act in which the degree Doctor Honoris Causa will be awarded to Ehud Kailai.\n  \nEhud Kalai is a prominent American game theorist and mathematical economist known for his contributions to game theory and its interface with economics\, social choice\, computer science and operations research.\n  \nFull program here
URL:https://economia.uc3m.es/event/doctor-honoris-causa-to-ehud-kalai/
LOCATION:Aula Magna – Rectorado
CATEGORIES:Conferencias y Workshops
ATTACH;FMTTYPE=image/jpeg:https://economia.uc3m.es/wp-content/uploads/2022/06/Kalai_Ehud_PS_73015.jpg
END:VEVENT
END:VCALENDAR