BEGIN:VCALENDAR
VERSION:2.0
PRODID:-//Departamento de Economía Universidad Carlos III - ECPv6.15.19//NONSGML v1.0//EN
CALSCALE:GREGORIAN
METHOD:PUBLISH
X-WR-CALNAME:Departamento de Economía Universidad Carlos III
X-ORIGINAL-URL:https://economia.uc3m.es
X-WR-CALDESC:Eventos para Departamento de Economía Universidad Carlos III
REFRESH-INTERVAL;VALUE=DURATION:PT1H
X-Robots-Tag:noindex
X-PUBLISHED-TTL:PT1H
BEGIN:VTIMEZONE
TZID:Europe/Helsinki
BEGIN:DAYLIGHT
TZOFFSETFROM:+0200
TZOFFSETTO:+0300
TZNAME:EEST
DTSTART:20200329T010000
END:DAYLIGHT
BEGIN:STANDARD
TZOFFSETFROM:+0300
TZOFFSETTO:+0200
TZNAME:EET
DTSTART:20201025T010000
END:STANDARD
BEGIN:DAYLIGHT
TZOFFSETFROM:+0200
TZOFFSETTO:+0300
TZNAME:EEST
DTSTART:20210328T010000
END:DAYLIGHT
BEGIN:STANDARD
TZOFFSETFROM:+0300
TZOFFSETTO:+0200
TZNAME:EET
DTSTART:20211031T010000
END:STANDARD
BEGIN:DAYLIGHT
TZOFFSETFROM:+0200
TZOFFSETTO:+0300
TZNAME:EEST
DTSTART:20220327T010000
END:DAYLIGHT
BEGIN:STANDARD
TZOFFSETFROM:+0300
TZOFFSETTO:+0200
TZNAME:EET
DTSTART:20221030T010000
END:STANDARD
BEGIN:DAYLIGHT
TZOFFSETFROM:+0200
TZOFFSETTO:+0300
TZNAME:EEST
DTSTART:20230326T010000
END:DAYLIGHT
BEGIN:STANDARD
TZOFFSETFROM:+0300
TZOFFSETTO:+0200
TZNAME:EET
DTSTART:20231029T010000
END:STANDARD
END:VTIMEZONE
BEGIN:VEVENT
DTSTART;TZID=Europe/Helsinki:20211209T124500
DTEND;TZID=Europe/Helsinki:20211209T140000
DTSTAMP:20260424T215544
CREATED:20211019T145034Z
LAST-MODIFIED:20211203T115552Z
UID:5546-1639053900-1639058400@economia.uc3m.es
SUMMARY:The constraint on public debt when r
DESCRIPTION:Ricardo Reis\n(LSE)\n  \n«The constraint on public debt when r<g but g<m»\n  \nVirtual seminar – Join the session here
URL:https://economia.uc3m.es/event/ricardo-reis/
LOCATION:Virtual Seminar
CATEGORIES:Seminario de Macroeconomía
ATTACH;FMTTYPE=image/jpeg:https://economia.uc3m.es/wp-content/uploads/2021/10/Reis_TB-e1634655026709.jpg
END:VEVENT
BEGIN:VEVENT
DTSTART;TZID=Europe/Helsinki:20211210T124500
DTEND;TZID=Europe/Helsinki:20211210T140000
DTSTAMP:20260424T215544
CREATED:20211116T131138Z
LAST-MODIFIED:20211202T135918Z
UID:5681-1639140300-1639144800@economia.uc3m.es
SUMMARY:Social Inequalities in Climate Change-Attributed Impacts of Hurricane Harvey
DESCRIPTION:Ilan Noy\n(Victoria University of Wellington)\n  \n“Social Inequalities in Climate Change-Attributed Impacts of Hurricane Harvey”\n  \nFace-to-face seminar – Room 18.0.A13\nOr join the virtual session here
URL:https://economia.uc3m.es/event/ilan-noy/
LOCATION:18.0.A13
CATEGORIES:Seminario de A&E
ATTACH;FMTTYPE=image/jpeg:https://economia.uc3m.es/wp-content/uploads/2021/11/ilan-noy-e1637064688991.jpg
END:VEVENT
BEGIN:VEVENT
DTSTART;TZID=Europe/Helsinki:20211213T124500
DTEND;TZID=Europe/Helsinki:20211213T140000
DTSTAMP:20260424T215544
CREATED:20211019T145526Z
LAST-MODIFIED:20211210T093453Z
UID:5550-1639399500-1639404000@economia.uc3m.es
SUMMARY:Instrumental Factor Models for High Dimensional Functional Data
DESCRIPTION:Jihyun Kim\n(TSE)\n  \n«Instrumental Factor Models for High Dimensional Functional Data»\n  \nFace-to-face seminar – Room 18.0.A13\nOr join the virtual session here
URL:https://economia.uc3m.es/event/jihyun-kim/
LOCATION:18.0.A13
CATEGORIES:Seminario de A&E
ATTACH;FMTTYPE=image/jpeg:https://economia.uc3m.es/wp-content/uploads/2021/10/15189773922_1354cff1d9_b-e1634655318697.jpg
END:VEVENT
BEGIN:VEVENT
DTSTART;TZID=Europe/Helsinki:20211220T124500
DTEND;TZID=Europe/Helsinki:20211220T140000
DTSTAMP:20260424T215544
CREATED:20211019T150115Z
LAST-MODIFIED:20211210T114935Z
UID:5554-1640004300-1640008800@economia.uc3m.es
SUMMARY:Estimation of Time Series Models Using Generalized Spectral Distribution
DESCRIPTION:Weifeng Jin\n(UC3M)\n  \n“Estimation of Time Series Models Using Generalized Spectral Distribution”\n  \nFace-to-face seminar – Room 18.0.A13\nOr join the virtual session here
URL:https://economia.uc3m.es/event/weifeng-jin/
LOCATION:18.0.A13
CATEGORIES:Mock Job Market Seminar
ATTACH;FMTTYPE=image/jpeg:https://economia.uc3m.es/wp-content/uploads/2021/10/unnamed-e1634655654675.jpg
END:VEVENT
BEGIN:VEVENT
DTSTART;TZID=Europe/Helsinki:20211221T124500
DTEND;TZID=Europe/Helsinki:20211221T140000
DTSTAMP:20260424T215544
CREATED:20211019T150622Z
LAST-MODIFIED:20211213T113509Z
UID:5558-1640090700-1640095200@economia.uc3m.es
SUMMARY:Identification and Estimation of Linear Structural VARMA models using pairwise dependence measures
DESCRIPTION:Miguel Ángel Cabello \n(UC3M)\n  \n“Identification and Estimation of Linear Structural VARMA models using pairwise dependence measures”\n  \nFace-to-face seminar – Room 18.0.A13\nOr join the virtual session here
URL:https://economia.uc3m.es/event/miguel-angel-cabello/
LOCATION:18.0.A13
CATEGORIES:Mock Job Market Seminar
ATTACH;FMTTYPE=image/jpeg:https://economia.uc3m.es/wp-content/uploads/2021/10/cabello-e1634655958247.jpg
END:VEVENT
BEGIN:VEVENT
DTSTART;TZID=Europe/Helsinki:20220111T124500
DTEND;TZID=Europe/Helsinki:20220111T140000
DTSTAMP:20260424T215544
CREATED:20220110T123728Z
LAST-MODIFIED:20220111T133004Z
UID:5730-1641905100-1641909600@economia.uc3m.es
SUMMARY:Daddy’s girl: Daughters\, managerial decisions\, and gender inequality
DESCRIPTION:Maddalena Ronchi\n(Università Bocconi)\n  \nDaddy’s girl: Daughters\, managerial decisions\, and gender inequality\n  \nVirtual seminar – Join the session here
URL:https://economia.uc3m.es/event/maddalena-ronchi/
LOCATION:Virtual Seminar
CATEGORIES:Job Market Seminar
ATTACH;FMTTYPE=image/png:https://economia.uc3m.es/wp-content/uploads/2022/01/sito-cropped_orig-e1641904196310.png
END:VEVENT
BEGIN:VEVENT
DTSTART;TZID=Europe/Helsinki:20220113T124500
DTEND;TZID=Europe/Helsinki:20220113T140000
DTSTAMP:20260424T215544
CREATED:20220111T133220Z
LAST-MODIFIED:20220111T133220Z
UID:5736-1642077900-1642082400@economia.uc3m.es
SUMMARY:Charismatic Leaders and Nation-Building
DESCRIPTION:Lydia Assouad\n(Paris School of Economics)\n  \nCharismatic Leaders and Nation-Building\n  \nIn person seminar – Room 18.0.A13\nOr join the virtual session here
URL:https://economia.uc3m.es/event/lydia-assouad/
LOCATION:18.0.A13
CATEGORIES:Job Market Seminar
ATTACH;FMTTYPE=image/png:https://economia.uc3m.es/wp-content/uploads/2022/01/EmbeddedImage-e1641904092277.png
END:VEVENT
BEGIN:VEVENT
DTSTART;TZID=Europe/Helsinki:20220114T124500
DTEND;TZID=Europe/Helsinki:20220114T140000
DTSTAMP:20260424T215544
CREATED:20220111T133404Z
LAST-MODIFIED:20220111T133404Z
UID:5739-1642164300-1642168800@economia.uc3m.es
SUMMARY:On the Origin and Persistence of Identity-Driven Choice Behavior
DESCRIPTION:Caroline W. Liqui Lung\n(Paris School of Economics)\n  \nOn the Origin and Persistence of Identity-Driven Choice Behavior\n  \nIn person seminar – Room 18.0.A13\nOr join the virtual session here
URL:https://economia.uc3m.es/event/caroline-w-liqui-lung/
LOCATION:18.0.A13
CATEGORIES:Job Market Seminar
ATTACH;FMTTYPE=image/jpeg:https://economia.uc3m.es/wp-content/uploads/2022/01/cropped-logo-1.jpg
END:VEVENT
BEGIN:VEVENT
DTSTART;TZID=Europe/Helsinki:20220117T124500
DTEND;TZID=Europe/Helsinki:20220117T140000
DTSTAMP:20260424T215544
CREATED:20220113T101538Z
LAST-MODIFIED:20220113T101538Z
UID:5743-1642423500-1642428000@economia.uc3m.es
SUMMARY:Coarse and Precise Information in Food Labeling
DESCRIPTION:Silvio Ravaioli\n(Columbia University)\n  \nCoarse and Precise Information in Food Labeling\n  \nIn person seminar – Room 18.0.A13\nOr join the virtual session here
URL:https://economia.uc3m.es/event/silvio-ravaioli/
LOCATION:18.0.A13
CATEGORIES:Job Market Seminar
ATTACH;FMTTYPE=image/jpeg:https://economia.uc3m.es/wp-content/uploads/2022/01/IMG_E5201-e1642065330252.jpg
END:VEVENT
BEGIN:VEVENT
DTSTART;TZID=Europe/Helsinki:20220118T150000
DTEND;TZID=Europe/Helsinki:20220118T161500
DTSTAMP:20260424T215544
CREATED:20220113T102127Z
LAST-MODIFIED:20220114T120752Z
UID:5747-1642518000-1642522500@economia.uc3m.es
SUMMARY:International Trade\, Volatility\, and Income Differences
DESCRIPTION:Roman Merga\n(University of Rochester)\n  \nInternational Trade\, Volatility\, and Income Differences\n  \nVirtual seminar – Join the session here
URL:https://economia.uc3m.es/event/roman-merga/
LOCATION:Virtual Seminar
CATEGORIES:Job Market Seminar
ATTACH;FMTTYPE=image/jpeg:https://economia.uc3m.es/wp-content/uploads/2022/01/merga-e1642065673670.jpg
END:VEVENT
BEGIN:VEVENT
DTSTART;TZID=Europe/Helsinki:20220119T150000
DTEND;TZID=Europe/Helsinki:20220119T161500
DTSTAMP:20260424T215544
CREATED:20220113T102638Z
LAST-MODIFIED:20220114T122724Z
UID:5751-1642604400-1642608900@economia.uc3m.es
SUMMARY:Dynamics of Corporate Credit Markets\, Employment and Wages: Evidence from Colombia
DESCRIPTION:María Aristizábal-Ramírez\n(University of Michigan)\n  \nDynamics of Corporate Credit Markets\, Employment and Wages: Evidence from Colombia\n  \nVirtual seminar – Join the session here
URL:https://economia.uc3m.es/event/maria-aristizabal-ramirez/
LOCATION:Virtual Seminar
CATEGORIES:Job Market Seminar
ATTACH;FMTTYPE=image/jpeg:https://economia.uc3m.es/wp-content/uploads/2022/01/MaríaAristizábalRamírez-e1642065987716.jpg
END:VEVENT
BEGIN:VEVENT
DTSTART;TZID=Europe/Helsinki:20220120T124500
DTEND;TZID=Europe/Helsinki:20220120T140000
DTSTAMP:20260424T215544
CREATED:20220113T103140Z
LAST-MODIFIED:20220113T103140Z
UID:5755-1642682700-1642687200@economia.uc3m.es
SUMMARY:The Effects of Face-To-Face Conversations on Polarization: Evidence from a Quasi-Experiment
DESCRIPTION:Sven Heuser\n(University of Bonn)\n  \nThe Effects of Face-To-Face Conversations on Polarization: Evidence from a Quasi-Experiment\n  \nIn person seminar – Room 18.0.A13\nOr join the virtual session here
URL:https://economia.uc3m.es/event/sven-heuser/
LOCATION:18.0.A13
CATEGORIES:Job Market Seminar
ATTACH;FMTTYPE=image/jpeg:https://economia.uc3m.es/wp-content/uploads/2022/01/Walter-3-e1642066288511.jpeg
END:VEVENT
BEGIN:VEVENT
DTSTART;TZID=Europe/Helsinki:20220121T124500
DTEND;TZID=Europe/Helsinki:20220121T140000
DTSTAMP:20260424T215544
CREATED:20220113T103621Z
LAST-MODIFIED:20220113T103621Z
UID:5759-1642769100-1642773600@economia.uc3m.es
SUMMARY:Comparative Rationality
DESCRIPTION:Mauricio Almeida Couri Ribeiro\n( New York University)\n  \nComparative Rationality\n  \nIn person seminar – Room 18.0.A13\nOr join the virtual session here
URL:https://economia.uc3m.es/event/mauricio-almeida-couri-ribeiro/
LOCATION:18.0.A13
CATEGORIES:Job Market Seminar
ATTACH;FMTTYPE=image/jpeg:https://economia.uc3m.es/wp-content/uploads/2022/01/Mauricio-Picture-e1642066569613.jpg
END:VEVENT
BEGIN:VEVENT
DTSTART;TZID=Europe/Helsinki:20220127T123000
DTEND;TZID=Europe/Helsinki:20220127T140000
DTSTAMP:20260424T215544
CREATED:20211216T102556Z
LAST-MODIFIED:20220131T142503Z
UID:5723-1643286600-1643292000@economia.uc3m.es
SUMMARY:The Impact of Large Minority Equity Investors on Market Power
DESCRIPTION:Emmanuel Petrakis\n(University of Crete)\n  \nPublic lecture of UC3M-Santander Cátedras de Excelencia program:\n«The Impact of Large Minority Equity Investors on Market Power»\n  \nIn person event – Room 9.2.6\nOr join the virtual session here\nWatch recorded lecture at this link
URL:https://economia.uc3m.es/event/the-impact-of-large-minority-equity-investors-on-market-power/
LOCATION:9.2.6
CATEGORIES:Conferencias y Workshops
ATTACH;FMTTYPE=image/jpeg:https://economia.uc3m.es/wp-content/uploads/2021/12/p1bbc7jitm1fuq1s8c1prk1ls91irq4.jpg
END:VEVENT
BEGIN:VEVENT
DTSTART;TZID=Europe/Helsinki:20220131T124500
DTEND;TZID=Europe/Helsinki:20220131T140000
DTSTAMP:20260424T215544
CREATED:20220125T111732Z
LAST-MODIFIED:20220125T111732Z
UID:5780-1643633100-1643637600@economia.uc3m.es
SUMMARY:Schools\, Language\, and Nations: Evidence From a Natural Experiment in France
DESCRIPTION:Guillaume Jacques Blanc\n(Brown University)\n  \nSchools\, Language\, and Nations: Evidence From a Natural Experiment in France\n  \nIn person seminar – Room 18.0.A13\nOr join the virtual session here
URL:https://economia.uc3m.es/event/guillaume-jacques-blanc/
LOCATION:18.0.A13
CATEGORIES:Job Market Seminar
ATTACH;FMTTYPE=image/jpeg:https://economia.uc3m.es/wp-content/uploads/2022/01/pic-blanc_orig-e1643105845879.jpg
END:VEVENT
BEGIN:VEVENT
DTSTART;TZID=Europe/Helsinki:20220204T124500
DTEND;TZID=Europe/Helsinki:20220204T140000
DTSTAMP:20260424T215544
CREATED:20220125T122107Z
LAST-MODIFIED:20220125T122107Z
UID:5784-1643978700-1643983200@economia.uc3m.es
SUMMARY:Shamed to Death: Social Image Concerns and War Participation
DESCRIPTION:Anna Becker\n(UCL)\n  \nShamed to Death: Social Image Concerns and War Participation\n  \nIn person seminar – Room 18.0.A13
URL:https://economia.uc3m.es/event/anna-becker/
LOCATION:18.0.A13
CATEGORIES:Job Market Seminar
ATTACH;FMTTYPE=image/png:https://economia.uc3m.es/wp-content/uploads/2022/01/avatar_hu6681b3c36444901a6db5c16f7e75c6ec_5215501_270x270_fill_lanczos_center_3.png
END:VEVENT
BEGIN:VEVENT
DTSTART;TZID=Europe/Helsinki:20220215T124500
DTEND;TZID=Europe/Helsinki:20220215T140000
DTSTAMP:20260424T215544
CREATED:20220203T095601Z
LAST-MODIFIED:20220203T095601Z
UID:5987-1644929100-1644933600@economia.uc3m.es
SUMMARY:The Toll of Tariffs: Protectionism\, Education and Fertility in Late 19th Century France
DESCRIPTION:Cecilia García Peñalosa\n(Marseille School of Economics)\n  \n“The Toll of Tariffs: Protectionism\, Education and Fertility in Late 19th Century France”\n  \nFace-to-face seminar – Room 18.0.A13\nOr join the virtual session here
URL:https://economia.uc3m.es/event/cecilia-garcia-penalosa/
LOCATION:18.0.A13
CATEGORIES:Seminario de A&E
ATTACH;FMTTYPE=image/jpeg:https://economia.uc3m.es/wp-content/uploads/2022/02/GarciaPenalosa2-e1643878554333.jpg
END:VEVENT
BEGIN:VEVENT
DTSTART;TZID=Europe/Helsinki:20220216T110000
DTEND;TZID=Europe/Helsinki:20220216T121500
DTSTAMP:20260424T215544
CREATED:20220201T094027Z
LAST-MODIFIED:20220201T145806Z
UID:5956-1645009200-1645013700@economia.uc3m.es
SUMMARY:The Great Moderation and the Financial Cycle
DESCRIPTION:Friedrich Lucke\n(TSE)\n  \n«The Great Moderation and the Financial Cycle»\n  \nFace-to-face seminar – Room 18.1.A05\nOr join the virtual session here
URL:https://economia.uc3m.es/event/friedrich-lucke/
LOCATION:18.1.A05
CATEGORIES:Seminario de Enter
ATTACH;FMTTYPE=image/jpeg:https://economia.uc3m.es/wp-content/uploads/2022/02/Friedrich-Lucke-16b-e1643704858116.jpg
END:VEVENT
BEGIN:VEVENT
DTSTART;TZID=Europe/Helsinki:20220221T124500
DTEND;TZID=Europe/Helsinki:20220221T140000
DTSTAMP:20260424T215544
CREATED:20220201T095501Z
LAST-MODIFIED:20220216T104021Z
UID:5965-1645447500-1645452000@economia.uc3m.es
SUMMARY:Local projections in unstable environments: how effective is fiscal policy?
DESCRIPTION:Barbara Rossi \n(UPF)\n  \n“Local projections in unstable environments: how effective is fiscal policy?”\n  \nVirtual seminar – Join the session here
URL:https://economia.uc3m.es/event/barbara-rossi/
LOCATION:Virtual Seminar
CATEGORIES:Seminario de A&E
ATTACH;FMTTYPE=image/jpeg:https://economia.uc3m.es/wp-content/uploads/2022/02/Rossi-B4_WEB-600x403-e1643705689312.jpg
END:VEVENT
BEGIN:VEVENT
DTSTART;TZID=Europe/Helsinki:20220222T124500
DTEND;TZID=Europe/Helsinki:20220222T140000
DTSTAMP:20260424T215544
CREATED:20220218T114146Z
LAST-MODIFIED:20220218T115630Z
UID:6036-1645533900-1645538400@economia.uc3m.es
SUMMARY:Parenting and Peers (Before and During Covid)
DESCRIPTION:Fabrizio Zilibotti\n(Yale University)\n  \n«Parenting and Peers (Before and During Covid)«(joint with Francesco Agostinelli\, Matthias Doepke and Giuseppe Sorrenti).\n  \nFace-to-face seminar – Room 18.0.A13\nOr join the virtual session here
URL:https://economia.uc3m.es/event/fabrizio-zilibotti/
LOCATION:18.0.A13
CATEGORIES:Seminario de Macroeconomía
ATTACH;FMTTYPE=image/jpeg:https://economia.uc3m.es/wp-content/uploads/2022/02/zilibotti-news-crop_0_0_0_0_0_0_0_0_0_0_0_0_0_0_0_0_0_0_0_0_0_0_0.jpg
END:VEVENT
BEGIN:VEVENT
DTSTART;TZID=Europe/Helsinki:20220223T124500
DTEND;TZID=Europe/Helsinki:20220223T140000
DTSTAMP:20260424T215544
CREATED:20220201T100027Z
LAST-MODIFIED:20220216T124442Z
UID:5970-1645620300-1645624800@economia.uc3m.es
SUMMARY:Who Watches the Watchmen? Local News and Police Behaviour in the United States
DESCRIPTION:Nicola Mastrorocco\n(Trinity College Dublin)\n  \n“Who Watches the Watchmen? Local News and Police Behaviour in the United States» joint with Arianna Ornaghi\n  \nFace-to-face seminar – Room 18.0.A13\nOr join the virtual session here
URL:https://economia.uc3m.es/event/nicola-mastrorocco/
LOCATION:18.0.A13
CATEGORIES:Seminario de A&E
ATTACH;FMTTYPE=image/jpeg:https://economia.uc3m.es/wp-content/uploads/2022/02/2D86504-e1643706013367.jpeg
END:VEVENT
BEGIN:VEVENT
DTSTART;TZID=Europe/Helsinki:20220224T124500
DTEND;TZID=Europe/Helsinki:20220224T140000
DTSTAMP:20260424T215544
CREATED:20220201T100611Z
LAST-MODIFIED:20220221T131231Z
UID:5974-1645706700-1645711200@economia.uc3m.es
SUMMARY:Does Paid Parental Leave Help or Hurt Mothers’ Economic Progress?
DESCRIPTION:Marco Francesconi\n(University of Essex)\n  \n«Does Paid Parental Leave Help or Hurt Mothers’ Economic Progress?» (with Gozde Corekcioglu and Astrid Kunze)\n\nJoint with the Applied seminars series\n  \nVirtual seminar – Join the session here
URL:https://economia.uc3m.es/event/marco-francesconi/
LOCATION:Virtual Seminar
CATEGORIES:Seminario de Macroeconomía
ATTACH;FMTTYPE=image/jpeg:https://economia.uc3m.es/wp-content/uploads/2022/02/FRANC62309-1-e1643706348877.jpg
END:VEVENT
BEGIN:VEVENT
DTSTART;TZID=Europe/Helsinki:20220301T124500
DTEND;TZID=Europe/Helsinki:20220301T140000
DTSTAMP:20260424T215544
CREATED:20220215T141447Z
LAST-MODIFIED:20220215T141447Z
UID:6005-1646138700-1646143200@economia.uc3m.es
SUMMARY:Propaganda\, Alternative Media\, and Accountability in Fragile Democracies
DESCRIPTION:Ken Shotts\n(Stanford GSB)\n  \n«Propaganda\, Alternative Media\, and Accountability in Fragile Democracies» Coauthored with Anqi Li and Davin Raiha.\n  \nFace-to-face seminar – Room 18.0.A13\nOr join the virtual session here
URL:https://economia.uc3m.es/event/ken-shotts/
LOCATION:18.0.A13
CATEGORIES:Seminario de Microeconomía
ATTACH;FMTTYPE=image/jpeg:https://economia.uc3m.es/wp-content/uploads/2022/02/SGSB-0511-Ken_ShottsRT.jpg
END:VEVENT
BEGIN:VEVENT
DTSTART;TZID=Europe/Helsinki:20220303T124500
DTEND;TZID=Europe/Helsinki:20220303T140000
DTSTAMP:20260424T215544
CREATED:20220216T130056Z
LAST-MODIFIED:20220228T093011Z
UID:6011-1646311500-1646316000@economia.uc3m.es
SUMMARY:Product Reallocation and Market Concentration
DESCRIPTION:Liangjie Wu\n(Einaudi Institute for Economics and Finance)\n  \n«Product Reallocation and Market Concentration»\n  \nFace-to-face seminar – Room 18.0.A13\nOr join the virtual session here
URL:https://economia.uc3m.es/event/liangjie-wu/
LOCATION:Virtual Seminar
CATEGORIES:Seminario de Macroeconomía
ATTACH;FMTTYPE=image/png:https://economia.uc3m.es/wp-content/uploads/2022/02/WU-Liangjie-DSCN7361.png
END:VEVENT
BEGIN:VEVENT
DTSTART;TZID=Europe/Helsinki:20220307T124500
DTEND;TZID=Europe/Helsinki:20220307T140000
DTSTAMP:20260424T215544
CREATED:20220216T130612Z
LAST-MODIFIED:20220304T094936Z
UID:6015-1646657100-1646661600@economia.uc3m.es
SUMMARY:Bailing out the Kids: New Evidence on Informal Insurance from one Billion Bank Transfers
DESCRIPTION:Asger Lau Andersen\n(University of Copenhagen)\n  \n“Bailing out the Kids: New Evidence on Informal Insurance from one Billion Bank Transfers” joint with Niels Johannesen and Adam Sheridan\n  \nFace-to-face seminar – Room 18.0.A13\nOr join the virtual session here
URL:https://economia.uc3m.es/event/asger-lau-andersen/
LOCATION:18.0.A13
CATEGORIES:Seminario de A&E
ATTACH;FMTTYPE=image/jpeg:https://economia.uc3m.es/wp-content/uploads/2022/02/1zUATQujlEyZUwi210hFiTP_g-uzHgoDj-e1645013163580.jpg
END:VEVENT
BEGIN:VEVENT
DTSTART;TZID=Europe/Helsinki:20220310T124500
DTEND;TZID=Europe/Helsinki:20220310T140000
DTSTAMP:20260424T215544
CREATED:20220216T131214Z
LAST-MODIFIED:20220303T121010Z
UID:6020-1646916300-1646920800@economia.uc3m.es
SUMMARY:Zero-hours contracts in a frictional labour market
DESCRIPTION:Helen Turon\n(University of Bristol)\n  \n«Zero-hours contracts in a frictional labour market» joint with Juan José Dolado and Etienne Lalé\n  \nFace-to-face seminar – Room 18.0.A13\nOr join the virtual session here
URL:https://economia.uc3m.es/event/helen-turon/
LOCATION:18.0.A13
CATEGORIES:Seminario de Macroeconomía
ATTACH;FMTTYPE=image/jpeg:https://economia.uc3m.es/wp-content/uploads/2022/02/ht-e1645013527661.jpg
END:VEVENT
BEGIN:VEVENT
DTSTART;TZID=Europe/Helsinki:20220314T124500
DTEND;TZID=Europe/Helsinki:20220314T140000
DTSTAMP:20260424T215544
CREATED:20220216T133214Z
LAST-MODIFIED:20220307T134417Z
UID:6024-1647261900-1647266400@economia.uc3m.es
SUMMARY:Does Homeownership Reduce Crime? A Radical Housing Reform from the UK
DESCRIPTION:Matteo Sandi\n(CEP/LSE)\n  \n«Does Homeownership Reduce Crime? A Radical Housing Reform from the UK»\n  \nFace-to-face seminar – Room 18.0.A13\nOr join the virtual session here
URL:https://economia.uc3m.es/event/matteo-sandi-2/
LOCATION:18.0.A13
CATEGORIES:Seminario de A&E
ATTACH;FMTTYPE=image/jpeg:https://economia.uc3m.es/wp-content/uploads/2020/02/unnamed-1-2-e1582285825964.jpg
END:VEVENT
BEGIN:VEVENT
DTSTART;TZID=Europe/Helsinki:20220317T124500
DTEND;TZID=Europe/Helsinki:20220317T140000
DTSTAMP:20260424T215544
CREATED:20220216T134456Z
LAST-MODIFIED:20220307T100648Z
UID:6027-1647521100-1647525600@economia.uc3m.es
SUMMARY:Are Managers paid for Market Power?
DESCRIPTION:  \nJan Eeckhout\n(UPF)\n  \n«Are Managers paid for Market Power?»\n  \nFace-to-face seminar – Room 18.0.A13\nOr join the virtual session here
URL:https://economia.uc3m.es/event/jan-eeckhout/
LOCATION:18.0.A13
CATEGORIES:Seminario de Macroeconomía
ATTACH;FMTTYPE=image/jpeg:https://economia.uc3m.es/wp-content/uploads/2022/02/jeeckhout_0.jpg
END:VEVENT
BEGIN:VEVENT
DTSTART;TZID=Europe/Helsinki:20220321T124500
DTEND;TZID=Europe/Helsinki:20220321T140000
DTSTAMP:20260424T215544
CREATED:20220221T104134Z
LAST-MODIFIED:20220316T121812Z
UID:6043-1647866700-1647871200@economia.uc3m.es
SUMMARY:Uniform and distribution-free inference with general autoregressive processes
DESCRIPTION:Katerina Petrova\n(UPF)\n  \n«Uniform and distribution-free inference with general autoregressive processes» joint with Tassos Magdalinos\n  \nFace-to-face seminar – Room 18.0.A13\nOr join the virtual session here
URL:https://economia.uc3m.es/event/katerina-petrova/
LOCATION:18.0.A13
CATEGORIES:Seminario de A&E
ATTACH;FMTTYPE=image/jpeg:https://economia.uc3m.es/wp-content/uploads/2022/02/1ctvNOGEem34r1BqFmMm-FePy6z6qsSn2-e1645436484249.jpg
END:VEVENT
BEGIN:VEVENT
DTSTART;TZID=Europe/Helsinki:20220324T124500
DTEND;TZID=Europe/Helsinki:20220324T140000
DTSTAMP:20260424T215544
CREATED:20220221T104510Z
LAST-MODIFIED:20220317T091026Z
UID:6047-1648125900-1648130400@economia.uc3m.es
SUMMARY:Sovereign debt repatriation during crises
DESCRIPTION:  \nLaura Sunder-Plassmann\n(University of Copenhagen)\n  \n«Sovereign debt repatriation during crises»\n  \nFace-to-face seminar – Room 18.0.A13\nOr join the virtual session here
URL:https://economia.uc3m.es/event/laura-sunder-plassmann/
LOCATION:18.0.A13
CATEGORIES:Seminario de Macroeconomía
ATTACH;FMTTYPE=image/jpeg:https://economia.uc3m.es/wp-content/uploads/2022/02/IMG-6579-e1645436702539.jpg
END:VEVENT
END:VCALENDAR