BEGIN:VCALENDAR
VERSION:2.0
PRODID:-//Departamento de Economía Universidad Carlos III - ECPv6.15.19//NONSGML v1.0//EN
CALSCALE:GREGORIAN
METHOD:PUBLISH
X-ORIGINAL-URL:https://economia.uc3m.es
X-WR-CALDESC:Eventos para Departamento de Economía Universidad Carlos III
REFRESH-INTERVAL;VALUE=DURATION:PT1H
X-Robots-Tag:noindex
X-PUBLISHED-TTL:PT1H
BEGIN:VTIMEZONE
TZID:Europe/Helsinki
BEGIN:DAYLIGHT
TZOFFSETFROM:+0200
TZOFFSETTO:+0300
TZNAME:EEST
DTSTART:20210328T010000
END:DAYLIGHT
BEGIN:STANDARD
TZOFFSETFROM:+0300
TZOFFSETTO:+0200
TZNAME:EET
DTSTART:20211031T010000
END:STANDARD
BEGIN:DAYLIGHT
TZOFFSETFROM:+0200
TZOFFSETTO:+0300
TZNAME:EEST
DTSTART:20220327T010000
END:DAYLIGHT
BEGIN:STANDARD
TZOFFSETFROM:+0300
TZOFFSETTO:+0200
TZNAME:EET
DTSTART:20221030T010000
END:STANDARD
BEGIN:DAYLIGHT
TZOFFSETFROM:+0200
TZOFFSETTO:+0300
TZNAME:EEST
DTSTART:20230326T010000
END:DAYLIGHT
BEGIN:STANDARD
TZOFFSETFROM:+0300
TZOFFSETTO:+0200
TZNAME:EET
DTSTART:20231029T010000
END:STANDARD
END:VTIMEZONE
BEGIN:VEVENT
DTSTART;TZID=Europe/Helsinki:20221124T091500
DTEND;TZID=Europe/Helsinki:20221124T124000
DTSTAMP:20260424T221041
CREATED:20221114T132237Z
LAST-MODIFIED:20221123T141356Z
UID:6666-1669281300-1669293600@economia.uc3m.es
SUMMARY:PhD Student Workshop - Econometrics Session
DESCRIPTION:Econometrics Session\n  \nChair: Juan Carlos Escanciano\n  \nROOM 15.1.03\n09:15-09:35 – Andrey Ramos – On the association between a panel of temperatures and CO2.\n09:35-09:50 – Alejandro Puerta – TBA.\n09:50-10:10 – Joan Alegre – Locally Robust Inference for Models with Unobserved Heterogeneity.\n10:10-10:30 – Facundo Argañaraz – On the Existence of Locally Robust Moments For Inference with Applications to Models with Unobserved Heterogeneity.\n\n  \nCOFFE BREAK: 10:30 (Common Room 15.1.47)\n  \n\nROOM 15.1.39\n12:30-13:00 – Joël Terschuur – Debiased Machine Learning Inequality of Opportunity in Europe.\n13:00-13:30 – Antonio Raiola – A Pearson Test for Conditional Moment Restrictions.
URL:https://economia.uc3m.es/event/phd-student-workshop-econometrics-session-3/
LOCATION:15.1.03 & 15.1.39
CATEGORIES:PhD Student Workshop
END:VEVENT
BEGIN:VEVENT
DTSTART;TZID=Europe/Helsinki:20221124T110000
DTEND;TZID=Europe/Helsinki:20221124T124000
DTSTAMP:20260424T221041
CREATED:20221114T132426Z
LAST-MODIFIED:20221123T135755Z
UID:6668-1669287600-1669293600@economia.uc3m.es
SUMMARY:PhD Student Workshop - Macroeconomics Session
DESCRIPTION:Macroeconomics Session\n  \nChair: Felix Wellschmied\n  \nROOM 15.1.03\n11:00 -11:20 – Anastasios Koufakis – The Changing Age-Occupation Profile of Spain’s Wealth top 10%: Financial Frictions and Young Entrepreneurs.\n11:20 -11:35 – Sofía Sánchez – Liquidity kills you fast: the transmission of monetary policy.\n11:45 -12:05 – Alvaro Jañez – Inequality\, Production Organization\, and Labor Market Power.\n12:05 -12:25 – Oscar Jaulín – Monetary Policy Tightening and Depreciation: The case of Brazil\n12:25-12:40 – Serkan Kocabas – Carbon Policy and Investment: Evidence from Firm Heterogeneity.\n  \nLUNCH: 13:45 (Common Room 15.1.47)
URL:https://economia.uc3m.es/event/phd-student-workshop-macroeconomics-session-3/
LOCATION:15.1.03
CATEGORIES:PhD Student Workshop
END:VEVENT
BEGIN:VEVENT
DTSTART;TZID=Europe/Helsinki:20221125T111500
DTEND;TZID=Europe/Helsinki:20221125T133000
DTSTAMP:20260424T221041
CREATED:20221114T132633Z
LAST-MODIFIED:20221123T135856Z
UID:6671-1669374900-1669383000@economia.uc3m.es
SUMMARY:PhD Student Workshop - Applied Economics
DESCRIPTION:Applied Economics Session\n  \nChair: Jesús Fernández-Huertas\n  \nROOM 15.1.39\n11:00-11:20 – Camila Steffens – Effects of e-commerce on local employment and firms’ dynamics.\n11:20-11:50 – María Alexandra Castellanos – TBA.\n11:50-12:05 – M. Gertrudis Fernández – Labour Market Conditions at Arrival and the Integration of Migrants.\n12:05-12:20 – Oleksandra Cheipesh – The Effect of Paid Sick Leave Mandates on Opioid-Related Deaths.\n12:20-12:35 – Irem Saglamdemir – The Impact of Cultural Orientation on the Emergence of Entrepreneurial Activities.\n\n  \nBREAK: 12:35 – 12:45 \n  \n\n12:45-13:00 – Carmela Accettura – Gender Differences in Political Budget Cycles.\n13:00-13:30 – Lorenzo de Masi – Gender Culture and Parental Leave: Evidence from Municipal-Level Facebook Data.\n  \nLUNCH: 13:45 (Common Room 15.1.47)
URL:https://economia.uc3m.es/event/phd-student-workshop-applied-economics-3/
LOCATION:15.1.39
CATEGORIES:PhD Student Workshop
END:VEVENT
END:VCALENDAR