BEGIN:VCALENDAR
VERSION:2.0
PRODID:-//Departamento de Economía Universidad Carlos III - ECPv6.15.19//NONSGML v1.0//EN
CALSCALE:GREGORIAN
METHOD:PUBLISH
X-ORIGINAL-URL:https://economia.uc3m.es
X-WR-CALDESC:Eventos para Departamento de Economía Universidad Carlos III
REFRESH-INTERVAL;VALUE=DURATION:PT1H
X-Robots-Tag:noindex
X-PUBLISHED-TTL:PT1H
BEGIN:VTIMEZONE
TZID:Europe/Helsinki
BEGIN:DAYLIGHT
TZOFFSETFROM:+0200
TZOFFSETTO:+0300
TZNAME:EEST
DTSTART:20250330T010000
END:DAYLIGHT
BEGIN:STANDARD
TZOFFSETFROM:+0300
TZOFFSETTO:+0200
TZNAME:EET
DTSTART:20251026T010000
END:STANDARD
BEGIN:DAYLIGHT
TZOFFSETFROM:+0200
TZOFFSETTO:+0300
TZNAME:EEST
DTSTART:20260329T010000
END:DAYLIGHT
BEGIN:STANDARD
TZOFFSETFROM:+0300
TZOFFSETTO:+0200
TZNAME:EET
DTSTART:20261025T010000
END:STANDARD
BEGIN:DAYLIGHT
TZOFFSETFROM:+0200
TZOFFSETTO:+0300
TZNAME:EEST
DTSTART:20270328T010000
END:DAYLIGHT
BEGIN:STANDARD
TZOFFSETFROM:+0300
TZOFFSETTO:+0200
TZNAME:EET
DTSTART:20271031T010000
END:STANDARD
END:VTIMEZONE
BEGIN:VEVENT
DTSTART;TZID=Europe/Helsinki:20260127T124500
DTEND;TZID=Europe/Helsinki:20260127T140000
DTSTAMP:20260425T163044
CREATED:20260114T094939Z
LAST-MODIFIED:20260114T094939Z
UID:10206-1769517900-1769522400@economia.uc3m.es
SUMMARY:Competition and Welfare in Airport Slot Allocation
DESCRIPTION:Sebastián Bauer\n(Stanford)\n  \n«Competition and Welfare in Airport Slot Allocation»\nRoom 15.1.39
URL:https://economia.uc3m.es/event/competition-and-welfare-in-airport-slot-allocation/
LOCATION:15.1.39
CATEGORIES:Job Market Seminar
ATTACH;FMTTYPE=image/jpeg:https://economia.uc3m.es/wp-content/uploads/2026/01/Sebastian-Bauer-e1768384093685.jpg
END:VEVENT
END:VCALENDAR