BEGIN:VCALENDAR
VERSION:2.0
PRODID:-//Departamento de Economía Universidad Carlos III - ECPv6.15.19//NONSGML v1.0//EN
CALSCALE:GREGORIAN
METHOD:PUBLISH
X-ORIGINAL-URL:https://economia.uc3m.es
X-WR-CALDESC:Eventos para Departamento de Economía Universidad Carlos III
REFRESH-INTERVAL;VALUE=DURATION:PT1H
X-Robots-Tag:noindex
X-PUBLISHED-TTL:PT1H
BEGIN:VTIMEZONE
TZID:Europe/Helsinki
BEGIN:DAYLIGHT
TZOFFSETFROM:+0200
TZOFFSETTO:+0300
TZNAME:EEST
DTSTART:20220327T010000
END:DAYLIGHT
BEGIN:STANDARD
TZOFFSETFROM:+0300
TZOFFSETTO:+0200
TZNAME:EET
DTSTART:20221030T010000
END:STANDARD
BEGIN:DAYLIGHT
TZOFFSETFROM:+0200
TZOFFSETTO:+0300
TZNAME:EEST
DTSTART:20230326T010000
END:DAYLIGHT
BEGIN:STANDARD
TZOFFSETFROM:+0300
TZOFFSETTO:+0200
TZNAME:EET
DTSTART:20231029T010000
END:STANDARD
BEGIN:DAYLIGHT
TZOFFSETFROM:+0200
TZOFFSETTO:+0300
TZNAME:EEST
DTSTART:20240331T010000
END:DAYLIGHT
BEGIN:STANDARD
TZOFFSETFROM:+0300
TZOFFSETTO:+0200
TZNAME:EET
DTSTART:20241027T010000
END:STANDARD
END:VTIMEZONE
BEGIN:VEVENT
DTSTART;TZID=Europe/Helsinki:20231130T124500
DTEND;TZID=Europe/Helsinki:20231130T140000
DTSTAMP:20260425T193634
CREATED:20231113T093245Z
LAST-MODIFIED:20231113T093245Z
UID:7762-1701348300-1701352800@economia.uc3m.es
SUMMARY:Chi-Squared Testing for Conditional Moment Restrictions
DESCRIPTION:Antonio Raiola\n(UC3M)\n  \n«Chi-Squared Testing for Conditional Moment Restrictions»\n  \nFace-to-face Seminar – Room 15.1.39
URL:https://economia.uc3m.es/event/antonio-raiola/
LOCATION:15.1.39
CATEGORIES:Mock Job Market Seminar
ATTACH;FMTTYPE=image/jpeg:https://economia.uc3m.es/wp-content/uploads/2018/10/Antonio-Raiola-e1699867958380.jpg
END:VEVENT
END:VCALENDAR